BEGIN:VCALENDAR
VERSION:2.0
PRODID:-//achurchnearyou.com//eventfeed//EN
CALSCALE:GREGORIAN
METHOD:PUBLISH
X-WR-TIMEZONE:UTC
BEGIN:VEVENT
SUMMARY:Compline
DTSTART;TZID=Europe/London:20260517T173000
DTEND;TZID=Europe/London:20260517T180000
DTSTAMP:20260423T021544Z
UID:12402012026-05-17 17:30:00+01:00achurchnearyou
CATEGORIES:
DESCRIPTION:A quiet\, contemplative said service of night prayer\, designe
 d to end the day. Includes Psalms\, short readings\, a Gospel canticle\, a
 nd prayers for protection\, with an emphasis on reflection and rest.
GEO:-2.052813;51.882478
LOCATION:St Mary's Charlton Kings
URL:https://www.achurchnearyou.com/church/14245/service-and-events/events/
 1240201/
END:VEVENT
BEGIN:VEVENT
SUMMARY:Compline
DTSTART;TZID=Europe/London:20260621T173000
DTEND;TZID=Europe/London:20260621T180000
DTSTAMP:20260423T021544Z
UID:12402012026-06-21 17:30:00+01:00achurchnearyou
CATEGORIES:
DESCRIPTION:A quiet\, contemplative said service of night prayer\, designe
 d to end the day. Includes Psalms\, short readings\, a Gospel canticle\, a
 nd prayers for protection\, with an emphasis on reflection and rest.
GEO:-2.052813;51.882478
LOCATION:St Mary's Charlton Kings
URL:https://www.achurchnearyou.com/church/14245/service-and-events/events/
 1240201/
END:VEVENT
BEGIN:VEVENT
SUMMARY:Compline
DTSTART;TZID=Europe/London:20260719T173000
DTEND;TZID=Europe/London:20260719T180000
DTSTAMP:20260423T021544Z
UID:12402012026-07-19 17:30:00+01:00achurchnearyou
CATEGORIES:
DESCRIPTION:A quiet\, contemplative said service of night prayer\, designe
 d to end the day. Includes Psalms\, short readings\, a Gospel canticle\, a
 nd prayers for protection\, with an emphasis on reflection and rest.
GEO:-2.052813;51.882478
LOCATION:St Mary's Charlton Kings
URL:https://www.achurchnearyou.com/church/14245/service-and-events/events/
 1240201/
END:VEVENT
BEGIN:VEVENT
SUMMARY:Compline
DTSTART;TZID=Europe/London:20260816T173000
DTEND;TZID=Europe/London:20260816T180000
DTSTAMP:20260423T021544Z
UID:12402012026-08-16 17:30:00+01:00achurchnearyou
CATEGORIES:
DESCRIPTION:A quiet\, contemplative said service of night prayer\, designe
 d to end the day. Includes Psalms\, short readings\, a Gospel canticle\, a
 nd prayers for protection\, with an emphasis on reflection and rest.
GEO:-2.052813;51.882478
LOCATION:St Mary's Charlton Kings
URL:https://www.achurchnearyou.com/church/14245/service-and-events/events/
 1240201/
END:VEVENT
BEGIN:VEVENT
SUMMARY:Compline
DTSTART;TZID=Europe/London:20260920T173000
DTEND;TZID=Europe/London:20260920T180000
DTSTAMP:20260423T021544Z
UID:12402012026-09-20 17:30:00+01:00achurchnearyou
CATEGORIES:
DESCRIPTION:A quiet\, contemplative said service of night prayer\, designe
 d to end the day. Includes Psalms\, short readings\, a Gospel canticle\, a
 nd prayers for protection\, with an emphasis on reflection and rest.
GEO:-2.052813;51.882478
LOCATION:St Mary's Charlton Kings
URL:https://www.achurchnearyou.com/church/14245/service-and-events/events/
 1240201/
END:VEVENT
BEGIN:VEVENT
SUMMARY:Compline
DTSTART;TZID=Europe/London:20261018T173000
DTEND;TZID=Europe/London:20261018T180000
DTSTAMP:20260423T021544Z
UID:12402012026-10-18 17:30:00+01:00achurchnearyou
CATEGORIES:
DESCRIPTION:A quiet\, contemplative said service of night prayer\, designe
 d to end the day. Includes Psalms\, short readings\, a Gospel canticle\, a
 nd prayers for protection\, with an emphasis on reflection and rest.
GEO:-2.052813;51.882478
LOCATION:St Mary's Charlton Kings
URL:https://www.achurchnearyou.com/church/14245/service-and-events/events/
 1240201/
END:VEVENT
BEGIN:VEVENT
SUMMARY:Compline
DTSTART;TZID=Europe/London:20261115T173000
DTEND;TZID=Europe/London:20261115T180000
DTSTAMP:20260423T021544Z
UID:12402012026-11-15 17:30:00+00:00achurchnearyou
CATEGORIES:
DESCRIPTION:A quiet\, contemplative said service of night prayer\, designe
 d to end the day. Includes Psalms\, short readings\, a Gospel canticle\, a
 nd prayers for protection\, with an emphasis on reflection and rest.
GEO:-2.052813;51.882478
LOCATION:St Mary's Charlton Kings
URL:https://www.achurchnearyou.com/church/14245/service-and-events/events/
 1240201/
END:VEVENT
BEGIN:VEVENT
SUMMARY:Compline
DTSTART;TZID=Europe/London:20261220T173000
DTEND;TZID=Europe/London:20261220T180000
DTSTAMP:20260423T021544Z
UID:12402012026-12-20 17:30:00+00:00achurchnearyou
CATEGORIES:
DESCRIPTION:A quiet\, contemplative said service of night prayer\, designe
 d to end the day. Includes Psalms\, short readings\, a Gospel canticle\, a
 nd prayers for protection\, with an emphasis on reflection and rest.
GEO:-2.052813;51.882478
LOCATION:St Mary's Charlton Kings
URL:https://www.achurchnearyou.com/church/14245/service-and-events/events/
 1240201/
END:VEVENT
BEGIN:VEVENT
SUMMARY:Compline
DTSTART;TZID=Europe/London:20270117T173000
DTEND;TZID=Europe/London:20270117T180000
DTSTAMP:20260423T021544Z
UID:12402012027-01-17 17:30:00+00:00achurchnearyou
CATEGORIES:
DESCRIPTION:A quiet\, contemplative said service of night prayer\, designe
 d to end the day. Includes Psalms\, short readings\, a Gospel canticle\, a
 nd prayers for protection\, with an emphasis on reflection and rest.
GEO:-2.052813;51.882478
LOCATION:St Mary's Charlton Kings
URL:https://www.achurchnearyou.com/church/14245/service-and-events/events/
 1240201/
END:VEVENT
BEGIN:VEVENT
SUMMARY:Compline
DTSTART;TZID=Europe/London:20270221T173000
DTEND;TZID=Europe/London:20270221T180000
DTSTAMP:20260423T021544Z
UID:12402012027-02-21 17:30:00+00:00achurchnearyou
CATEGORIES:
DESCRIPTION:A quiet\, contemplative said service of night prayer\, designe
 d to end the day. Includes Psalms\, short readings\, a Gospel canticle\, a
 nd prayers for protection\, with an emphasis on reflection and rest.
GEO:-2.052813;51.882478
LOCATION:St Mary's Charlton Kings
URL:https://www.achurchnearyou.com/church/14245/service-and-events/events/
 1240201/
END:VEVENT
BEGIN:VEVENT
SUMMARY:Compline
DTSTART;TZID=Europe/London:20270321T173000
DTEND;TZID=Europe/London:20270321T180000
DTSTAMP:20260423T021544Z
UID:12402012027-03-21 17:30:00+00:00achurchnearyou
CATEGORIES:
DESCRIPTION:A quiet\, contemplative said service of night prayer\, designe
 d to end the day. Includes Psalms\, short readings\, a Gospel canticle\, a
 nd prayers for protection\, with an emphasis on reflection and rest.
GEO:-2.052813;51.882478
LOCATION:St Mary's Charlton Kings
URL:https://www.achurchnearyou.com/church/14245/service-and-events/events/
 1240201/
END:VEVENT
BEGIN:VEVENT
SUMMARY:Compline
DTSTART;TZID=Europe/London:20270418T173000
DTEND;TZID=Europe/London:20270418T180000
DTSTAMP:20260423T021544Z
UID:12402012027-04-18 17:30:00+01:00achurchnearyou
CATEGORIES:
DESCRIPTION:A quiet\, contemplative said service of night prayer\, designe
 d to end the day. Includes Psalms\, short readings\, a Gospel canticle\, a
 nd prayers for protection\, with an emphasis on reflection and rest.
GEO:-2.052813;51.882478
LOCATION:St Mary's Charlton Kings
URL:https://www.achurchnearyou.com/church/14245/service-and-events/events/
 1240201/
END:VEVENT
END:VCALENDAR
