BEGIN:VCALENDAR
VERSION:2.0
PRODID:-//achurchnearyou.com//eventfeed//EN
CALSCALE:GREGORIAN
METHOD:PUBLISH
X-WR-TIMEZONE:UTC
BEGIN:VEVENT
SUMMARY:Mozart's requiem concert
DTSTART:20260401T183000Z
DTEND:20260401T200000Z
DTSTAMP:20260423T133430Z
UID:13169952026-04-01 18:30:00+00:00achurchnearyou
CATEGORIES:
DESCRIPTION:About 70 singers from multiple choirs performing Mozart's requ
 iem mass
GEO:-2.052813;51.882478
LOCATION:St Mary's Charlton Kings
URL:https://www.achurchnearyou.com/church/14245/service-and-events/events/
 1316995/
END:VEVENT
END:VCALENDAR
