BEGIN:VCALENDAR
VERSION:2.0
PRODID:-//achurchnearyou.com//eventfeed//EN
CALSCALE:GREGORIAN
METHOD:PUBLISH
X-WR-TIMEZONE:UTC
BEGIN:VEVENT
SUMMARY:Christian Aid Autumn Fair
DTSTART:20251108T103000Z
DTEND:20251108T133000Z
DTSTAMP:20260422T161300Z
UID:12330962025-11-08 10:30:00+00:00achurchnearyou
CATEGORIES:
DESCRIPTION:Free entry\, stalls\, bric a brac\, tea and coffees 10.30am- 1
 .30pm\nfollowed by a hot or cold lunch for £6 available from 11.30am
LOCATION:St Andrews Church
URL:https://www.achurchnearyou.com/church/14256/service-and-events/events/
 1233096/
END:VEVENT
END:VCALENDAR
