BEGIN:VCALENDAR
VERSION:2.0
PRODID:-//achurchnearyou.com//eventfeed//EN
CALSCALE:GREGORIAN
METHOD:PUBLISH
X-WR-TIMEZONE:UTC
BEGIN:VEVENT
SUMMARY:Weekday said Communion
DTSTART;TZID=Europe/London:20260211T103000
DTEND;TZID=Europe/London:20260211T110000
DTSTAMP:20260423T112526Z
UID:12867292026-02-11 10:30:00+00:00achurchnearyou
CATEGORIES:
DESCRIPTION:A short service without music
GEO:-2.090379;51.890921
LOCATION:St Stephen's
URL:https://www.achurchnearyou.com/church/14259/service-and-events/events/
 1286729/
END:VEVENT
BEGIN:VEVENT
SUMMARY:Weekday said Communion
DTSTART;TZID=Europe/London:20260311T103000
DTEND;TZID=Europe/London:20260311T110000
DTSTAMP:20260423T112526Z
UID:12867292026-03-11 10:30:00+00:00achurchnearyou
CATEGORIES:
DESCRIPTION:A short service without music
GEO:-2.090379;51.890921
LOCATION:St Stephen's
URL:https://www.achurchnearyou.com/church/14259/service-and-events/events/
 1286729/
END:VEVENT
BEGIN:VEVENT
SUMMARY:Weekday said Communion
DTSTART;TZID=Europe/London:20260408T103000
DTEND;TZID=Europe/London:20260408T110000
DTSTAMP:20260423T112526Z
UID:12867292026-04-08 10:30:00+01:00achurchnearyou
CATEGORIES:
DESCRIPTION:A short service without music
GEO:-2.090379;51.890921
LOCATION:St Stephen's
URL:https://www.achurchnearyou.com/church/14259/service-and-events/events/
 1286729/
END:VEVENT
BEGIN:VEVENT
SUMMARY:Weekday said Communion
DTSTART;TZID=Europe/London:20260513T103000
DTEND;TZID=Europe/London:20260513T110000
DTSTAMP:20260423T112526Z
UID:12867292026-05-13 10:30:00+01:00achurchnearyou
CATEGORIES:
DESCRIPTION:A short service without music
GEO:-2.090379;51.890921
LOCATION:St Stephen's
URL:https://www.achurchnearyou.com/church/14259/service-and-events/events/
 1286729/
END:VEVENT
BEGIN:VEVENT
SUMMARY:Weekday said Communion
DTSTART;TZID=Europe/London:20260610T103000
DTEND;TZID=Europe/London:20260610T110000
DTSTAMP:20260423T112526Z
UID:12867292026-06-10 10:30:00+01:00achurchnearyou
CATEGORIES:
DESCRIPTION:A short service without music
GEO:-2.090379;51.890921
LOCATION:St Stephen's
URL:https://www.achurchnearyou.com/church/14259/service-and-events/events/
 1286729/
END:VEVENT
BEGIN:VEVENT
SUMMARY:Weekday said Communion
DTSTART;TZID=Europe/London:20260708T103000
DTEND;TZID=Europe/London:20260708T110000
DTSTAMP:20260423T112526Z
UID:12867292026-07-08 10:30:00+01:00achurchnearyou
CATEGORIES:
DESCRIPTION:A short service without music
GEO:-2.090379;51.890921
LOCATION:St Stephen's
URL:https://www.achurchnearyou.com/church/14259/service-and-events/events/
 1286729/
END:VEVENT
END:VCALENDAR
