BEGIN:VCALENDAR
VERSION:2.0
PRODID:-//achurchnearyou.com//eventfeed//EN
CALSCALE:GREGORIAN
METHOD:PUBLISH
X-WR-TIMEZONE:UTC
BEGIN:VEVENT
SUMMARY:BCP Holy Communion
DTSTART;TZID=Europe/London:20220327T183000
DTEND;TZID=Europe/London:20220327T193000
DTSTAMP:20260424T115539Z
UID:8130972022-03-27 18:30:00+01:00achurchnearyou
CATEGORIES:
DESCRIPTION:A service of Holy Communion in traditional language
GEO:-1.799301;52.072811
LOCATION:St Andrew
URL:https://www.achurchnearyou.com/church/14270/service-and-events/events/
 813097/
END:VEVENT
BEGIN:VEVENT
SUMMARY:BCP Holy Communion
DTSTART;TZID=Europe/London:20220424T183000
DTEND;TZID=Europe/London:20220424T193000
DTSTAMP:20260424T115539Z
UID:8130972022-04-24 18:30:00+01:00achurchnearyou
CATEGORIES:
DESCRIPTION:A service of Holy Communion in traditional language
GEO:-1.799301;52.072811
LOCATION:St Andrew
URL:https://www.achurchnearyou.com/church/14270/service-and-events/events/
 813097/
END:VEVENT
BEGIN:VEVENT
SUMMARY:BCP Holy Communion
DTSTART;TZID=Europe/London:20220522T183000
DTEND;TZID=Europe/London:20220522T193000
DTSTAMP:20260424T115539Z
UID:8130972022-05-22 18:30:00+01:00achurchnearyou
CATEGORIES:
DESCRIPTION:A service of Holy Communion in traditional language
GEO:-1.799301;52.072811
LOCATION:St Andrew
URL:https://www.achurchnearyou.com/church/14270/service-and-events/events/
 813097/
END:VEVENT
BEGIN:VEVENT
SUMMARY:BCP Holy Communion
DTSTART;TZID=Europe/London:20220626T183000
DTEND;TZID=Europe/London:20220626T193000
DTSTAMP:20260424T115539Z
UID:8130972022-06-26 18:30:00+01:00achurchnearyou
CATEGORIES:
DESCRIPTION:A service of Holy Communion in traditional language
GEO:-1.799301;52.072811
LOCATION:St Andrew
URL:https://www.achurchnearyou.com/church/14270/service-and-events/events/
 813097/
END:VEVENT
BEGIN:VEVENT
SUMMARY:BCP Holy Communion
DTSTART;TZID=Europe/London:20220724T183000
DTEND;TZID=Europe/London:20220724T193000
DTSTAMP:20260424T115539Z
UID:8130972022-07-24 18:30:00+01:00achurchnearyou
CATEGORIES:
DESCRIPTION:A service of Holy Communion in traditional language
GEO:-1.799301;52.072811
LOCATION:St Andrew
URL:https://www.achurchnearyou.com/church/14270/service-and-events/events/
 813097/
END:VEVENT
BEGIN:VEVENT
SUMMARY:BCP Holy Communion
DTSTART;TZID=Europe/London:20220828T183000
DTEND;TZID=Europe/London:20220828T193000
DTSTAMP:20260424T115539Z
UID:8130972022-08-28 18:30:00+01:00achurchnearyou
CATEGORIES:
DESCRIPTION:A service of Holy Communion in traditional language
GEO:-1.799301;52.072811
LOCATION:St Andrew
URL:https://www.achurchnearyou.com/church/14270/service-and-events/events/
 813097/
END:VEVENT
BEGIN:VEVENT
SUMMARY:BCP Holy Communion
DTSTART;TZID=Europe/London:20220925T183000
DTEND;TZID=Europe/London:20220925T193000
DTSTAMP:20260424T115539Z
UID:8130972022-09-25 18:30:00+01:00achurchnearyou
CATEGORIES:
DESCRIPTION:A service of Holy Communion in traditional language
GEO:-1.799301;52.072811
LOCATION:St Andrew
URL:https://www.achurchnearyou.com/church/14270/service-and-events/events/
 813097/
END:VEVENT
BEGIN:VEVENT
SUMMARY:BCP Holy Communion
DTSTART;TZID=Europe/London:20230326T183000
DTEND;TZID=Europe/London:20230326T193000
DTSTAMP:20260424T115539Z
UID:8130972023-03-26 18:30:00+01:00achurchnearyou
CATEGORIES:
DESCRIPTION:A service of Holy Communion in traditional language
GEO:-1.799301;52.072811
LOCATION:St Andrew
URL:https://www.achurchnearyou.com/church/14270/service-and-events/events/
 813097/
END:VEVENT
BEGIN:VEVENT
SUMMARY:BCP Holy Communion
DTSTART;TZID=Europe/London:20230423T183000
DTEND;TZID=Europe/London:20230423T193000
DTSTAMP:20260424T115539Z
UID:8130972023-04-23 18:30:00+01:00achurchnearyou
CATEGORIES:
DESCRIPTION:A service of Holy Communion in traditional language
GEO:-1.799301;52.072811
LOCATION:St Andrew
URL:https://www.achurchnearyou.com/church/14270/service-and-events/events/
 813097/
END:VEVENT
BEGIN:VEVENT
SUMMARY:BCP Holy Communion
DTSTART;TZID=Europe/London:20230528T183000
DTEND;TZID=Europe/London:20230528T193000
DTSTAMP:20260424T115539Z
UID:8130972023-05-28 18:30:00+01:00achurchnearyou
CATEGORIES:
DESCRIPTION:A service of Holy Communion in traditional language
GEO:-1.799301;52.072811
LOCATION:St Andrew
URL:https://www.achurchnearyou.com/church/14270/service-and-events/events/
 813097/
END:VEVENT
BEGIN:VEVENT
SUMMARY:BCP Holy Communion
DTSTART;TZID=Europe/London:20230625T183000
DTEND;TZID=Europe/London:20230625T193000
DTSTAMP:20260424T115539Z
UID:8130972023-06-25 18:30:00+01:00achurchnearyou
CATEGORIES:
DESCRIPTION:A service of Holy Communion in traditional language
GEO:-1.799301;52.072811
LOCATION:St Andrew
URL:https://www.achurchnearyou.com/church/14270/service-and-events/events/
 813097/
END:VEVENT
BEGIN:VEVENT
SUMMARY:BCP Holy Communion
DTSTART;TZID=Europe/London:20230723T183000
DTEND;TZID=Europe/London:20230723T193000
DTSTAMP:20260424T115539Z
UID:8130972023-07-23 18:30:00+01:00achurchnearyou
CATEGORIES:
DESCRIPTION:A service of Holy Communion in traditional language
GEO:-1.799301;52.072811
LOCATION:St Andrew
URL:https://www.achurchnearyou.com/church/14270/service-and-events/events/
 813097/
END:VEVENT
BEGIN:VEVENT
SUMMARY:BCP Holy Communion
DTSTART;TZID=Europe/London:20230827T183000
DTEND;TZID=Europe/London:20230827T193000
DTSTAMP:20260424T115539Z
UID:8130972023-08-27 18:30:00+01:00achurchnearyou
CATEGORIES:
DESCRIPTION:A service of Holy Communion in traditional language
GEO:-1.799301;52.072811
LOCATION:St Andrew
URL:https://www.achurchnearyou.com/church/14270/service-and-events/events/
 813097/
END:VEVENT
BEGIN:VEVENT
SUMMARY:BCP Holy Communion
DTSTART;TZID=Europe/London:20230924T183000
DTEND;TZID=Europe/London:20230924T193000
DTSTAMP:20260424T115539Z
UID:8130972023-09-24 18:30:00+01:00achurchnearyou
CATEGORIES:
DESCRIPTION:A service of Holy Communion in traditional language
GEO:-1.799301;52.072811
LOCATION:St Andrew
URL:https://www.achurchnearyou.com/church/14270/service-and-events/events/
 813097/
END:VEVENT
BEGIN:VEVENT
SUMMARY:BCP Holy Communion
DTSTART;TZID=Europe/London:20240324T183000
DTEND;TZID=Europe/London:20240324T193000
DTSTAMP:20260424T115539Z
UID:8130972024-03-24 18:30:00+00:00achurchnearyou
CATEGORIES:
DESCRIPTION:A service of Holy Communion in traditional language
GEO:-1.799301;52.072811
LOCATION:St Andrew
URL:https://www.achurchnearyou.com/church/14270/service-and-events/events/
 813097/
END:VEVENT
BEGIN:VEVENT
SUMMARY:BCP Holy Communion
DTSTART;TZID=Europe/London:20240428T183000
DTEND;TZID=Europe/London:20240428T193000
DTSTAMP:20260424T115539Z
UID:8130972024-04-28 18:30:00+01:00achurchnearyou
CATEGORIES:
DESCRIPTION:A service of Holy Communion in traditional language
GEO:-1.799301;52.072811
LOCATION:St Andrew
URL:https://www.achurchnearyou.com/church/14270/service-and-events/events/
 813097/
END:VEVENT
BEGIN:VEVENT
SUMMARY:BCP Holy Communion
DTSTART;TZID=Europe/London:20240526T183000
DTEND;TZID=Europe/London:20240526T193000
DTSTAMP:20260424T115539Z
UID:8130972024-05-26 18:30:00+01:00achurchnearyou
CATEGORIES:
DESCRIPTION:A service of Holy Communion in traditional language
GEO:-1.799301;52.072811
LOCATION:St Andrew
URL:https://www.achurchnearyou.com/church/14270/service-and-events/events/
 813097/
END:VEVENT
BEGIN:VEVENT
SUMMARY:BCP Holy Communion
DTSTART;TZID=Europe/London:20240623T183000
DTEND;TZID=Europe/London:20240623T193000
DTSTAMP:20260424T115539Z
UID:8130972024-06-23 18:30:00+01:00achurchnearyou
CATEGORIES:
DESCRIPTION:A service of Holy Communion in traditional language
GEO:-1.799301;52.072811
LOCATION:St Andrew
URL:https://www.achurchnearyou.com/church/14270/service-and-events/events/
 813097/
END:VEVENT
BEGIN:VEVENT
SUMMARY:BCP Holy Communion
DTSTART;TZID=Europe/London:20240728T183000
DTEND;TZID=Europe/London:20240728T193000
DTSTAMP:20260424T115539Z
UID:8130972024-07-28 18:30:00+01:00achurchnearyou
CATEGORIES:
DESCRIPTION:A service of Holy Communion in traditional language
GEO:-1.799301;52.072811
LOCATION:St Andrew
URL:https://www.achurchnearyou.com/church/14270/service-and-events/events/
 813097/
END:VEVENT
BEGIN:VEVENT
SUMMARY:BCP Holy Communion
DTSTART;TZID=Europe/London:20240825T183000
DTEND;TZID=Europe/London:20240825T193000
DTSTAMP:20260424T115539Z
UID:8130972024-08-25 18:30:00+01:00achurchnearyou
CATEGORIES:
DESCRIPTION:A service of Holy Communion in traditional language
GEO:-1.799301;52.072811
LOCATION:St Andrew
URL:https://www.achurchnearyou.com/church/14270/service-and-events/events/
 813097/
END:VEVENT
BEGIN:VEVENT
SUMMARY:BCP Holy Communion
DTSTART;TZID=Europe/London:20240922T183000
DTEND;TZID=Europe/London:20240922T193000
DTSTAMP:20260424T115539Z
UID:8130972024-09-22 18:30:00+01:00achurchnearyou
CATEGORIES:
DESCRIPTION:A service of Holy Communion in traditional language
GEO:-1.799301;52.072811
LOCATION:St Andrew
URL:https://www.achurchnearyou.com/church/14270/service-and-events/events/
 813097/
END:VEVENT
BEGIN:VEVENT
SUMMARY:BCP Holy Communion
DTSTART;TZID=Europe/London:20250323T183000
DTEND;TZID=Europe/London:20250323T193000
DTSTAMP:20260424T115539Z
UID:8130972025-03-23 18:30:00+00:00achurchnearyou
CATEGORIES:
DESCRIPTION:A service of Holy Communion in traditional language
GEO:-1.799301;52.072811
LOCATION:St Andrew
URL:https://www.achurchnearyou.com/church/14270/service-and-events/events/
 813097/
END:VEVENT
BEGIN:VEVENT
SUMMARY:BCP Holy Communion
DTSTART;TZID=Europe/London:20250427T183000
DTEND;TZID=Europe/London:20250427T193000
DTSTAMP:20260424T115539Z
UID:8130972025-04-27 18:30:00+01:00achurchnearyou
CATEGORIES:
DESCRIPTION:A service of Holy Communion in traditional language
GEO:-1.799301;52.072811
LOCATION:St Andrew
URL:https://www.achurchnearyou.com/church/14270/service-and-events/events/
 813097/
END:VEVENT
BEGIN:VEVENT
SUMMARY:BCP Holy Communion
DTSTART;TZID=Europe/London:20250525T183000
DTEND;TZID=Europe/London:20250525T193000
DTSTAMP:20260424T115539Z
UID:8130972025-05-25 18:30:00+01:00achurchnearyou
CATEGORIES:
DESCRIPTION:A service of Holy Communion in traditional language
GEO:-1.799301;52.072811
LOCATION:St Andrew
URL:https://www.achurchnearyou.com/church/14270/service-and-events/events/
 813097/
END:VEVENT
BEGIN:VEVENT
SUMMARY:BCP Holy Communion
DTSTART;TZID=Europe/London:20250622T183000
DTEND;TZID=Europe/London:20250622T193000
DTSTAMP:20260424T115539Z
UID:8130972025-06-22 18:30:00+01:00achurchnearyou
CATEGORIES:
DESCRIPTION:A service of Holy Communion in traditional language
GEO:-1.799301;52.072811
LOCATION:St Andrew
URL:https://www.achurchnearyou.com/church/14270/service-and-events/events/
 813097/
END:VEVENT
BEGIN:VEVENT
SUMMARY:BCP Holy Communion
DTSTART;TZID=Europe/London:20250727T183000
DTEND;TZID=Europe/London:20250727T193000
DTSTAMP:20260424T115539Z
UID:8130972025-07-27 18:30:00+01:00achurchnearyou
CATEGORIES:
DESCRIPTION:A service of Holy Communion in traditional language
GEO:-1.799301;52.072811
LOCATION:St Andrew
URL:https://www.achurchnearyou.com/church/14270/service-and-events/events/
 813097/
END:VEVENT
BEGIN:VEVENT
SUMMARY:BCP Holy Communion
DTSTART;TZID=Europe/London:20250824T183000
DTEND;TZID=Europe/London:20250824T193000
DTSTAMP:20260424T115539Z
UID:8130972025-08-24 18:30:00+01:00achurchnearyou
CATEGORIES:
DESCRIPTION:A service of Holy Communion in traditional language
GEO:-1.799301;52.072811
LOCATION:St Andrew
URL:https://www.achurchnearyou.com/church/14270/service-and-events/events/
 813097/
END:VEVENT
BEGIN:VEVENT
SUMMARY:BCP Holy Communion
DTSTART;TZID=Europe/London:20250928T183000
DTEND;TZID=Europe/London:20250928T193000
DTSTAMP:20260424T115539Z
UID:8130972025-09-28 18:30:00+01:00achurchnearyou
CATEGORIES:
DESCRIPTION:A service of Holy Communion in traditional language
GEO:-1.799301;52.072811
LOCATION:St Andrew
URL:https://www.achurchnearyou.com/church/14270/service-and-events/events/
 813097/
END:VEVENT
BEGIN:VEVENT
SUMMARY:BCP Holy Communion
DTSTART;TZID=Europe/London:20260322T183000
DTEND;TZID=Europe/London:20260322T193000
DTSTAMP:20260424T115539Z
UID:8130972026-03-22 18:30:00+00:00achurchnearyou
CATEGORIES:
DESCRIPTION:A service of Holy Communion in traditional language
GEO:-1.799301;52.072811
LOCATION:St Andrew
URL:https://www.achurchnearyou.com/church/14270/service-and-events/events/
 813097/
END:VEVENT
BEGIN:VEVENT
SUMMARY:BCP Holy Communion
DTSTART;TZID=Europe/London:20260426T183000
DTEND;TZID=Europe/London:20260426T193000
DTSTAMP:20260424T115539Z
UID:8130972026-04-26 18:30:00+01:00achurchnearyou
CATEGORIES:
DESCRIPTION:A service of Holy Communion in traditional language
GEO:-1.799301;52.072811
LOCATION:St Andrew
URL:https://www.achurchnearyou.com/church/14270/service-and-events/events/
 813097/
END:VEVENT
BEGIN:VEVENT
SUMMARY:BCP Holy Communion
DTSTART;TZID=Europe/London:20260524T183000
DTEND;TZID=Europe/London:20260524T193000
DTSTAMP:20260424T115539Z
UID:8130972026-05-24 18:30:00+01:00achurchnearyou
CATEGORIES:
DESCRIPTION:A service of Holy Communion in traditional language
GEO:-1.799301;52.072811
LOCATION:St Andrew
URL:https://www.achurchnearyou.com/church/14270/service-and-events/events/
 813097/
END:VEVENT
BEGIN:VEVENT
SUMMARY:BCP Holy Communion
DTSTART;TZID=Europe/London:20260628T183000
DTEND;TZID=Europe/London:20260628T193000
DTSTAMP:20260424T115539Z
UID:8130972026-06-28 18:30:00+01:00achurchnearyou
CATEGORIES:
DESCRIPTION:A service of Holy Communion in traditional language
GEO:-1.799301;52.072811
LOCATION:St Andrew
URL:https://www.achurchnearyou.com/church/14270/service-and-events/events/
 813097/
END:VEVENT
BEGIN:VEVENT
SUMMARY:BCP Holy Communion
DTSTART;TZID=Europe/London:20260726T183000
DTEND;TZID=Europe/London:20260726T193000
DTSTAMP:20260424T115539Z
UID:8130972026-07-26 18:30:00+01:00achurchnearyou
CATEGORIES:
DESCRIPTION:A service of Holy Communion in traditional language
GEO:-1.799301;52.072811
LOCATION:St Andrew
URL:https://www.achurchnearyou.com/church/14270/service-and-events/events/
 813097/
END:VEVENT
BEGIN:VEVENT
SUMMARY:BCP Holy Communion
DTSTART;TZID=Europe/London:20260823T183000
DTEND;TZID=Europe/London:20260823T193000
DTSTAMP:20260424T115539Z
UID:8130972026-08-23 18:30:00+01:00achurchnearyou
CATEGORIES:
DESCRIPTION:A service of Holy Communion in traditional language
GEO:-1.799301;52.072811
LOCATION:St Andrew
URL:https://www.achurchnearyou.com/church/14270/service-and-events/events/
 813097/
END:VEVENT
BEGIN:VEVENT
SUMMARY:BCP Holy Communion
DTSTART;TZID=Europe/London:20260927T183000
DTEND;TZID=Europe/London:20260927T193000
DTSTAMP:20260424T115539Z
UID:8130972026-09-27 18:30:00+01:00achurchnearyou
CATEGORIES:
DESCRIPTION:A service of Holy Communion in traditional language
GEO:-1.799301;52.072811
LOCATION:St Andrew
URL:https://www.achurchnearyou.com/church/14270/service-and-events/events/
 813097/
END:VEVENT
BEGIN:VEVENT
SUMMARY:BCP Holy Communion
DTSTART;TZID=Europe/London:20270328T183000
DTEND;TZID=Europe/London:20270328T193000
DTSTAMP:20260424T115539Z
UID:8130972027-03-28 18:30:00+01:00achurchnearyou
CATEGORIES:
DESCRIPTION:A service of Holy Communion in traditional language
GEO:-1.799301;52.072811
LOCATION:St Andrew
URL:https://www.achurchnearyou.com/church/14270/service-and-events/events/
 813097/
END:VEVENT
END:VCALENDAR
