BEGIN:VCALENDAR
VERSION:2.0
PRODID:-//achurchnearyou.com//eventfeed//EN
CALSCALE:GREGORIAN
METHOD:PUBLISH
X-WR-TIMEZONE:UTC
BEGIN:VEVENT
SUMMARY:Maundy Thursday Communion
DTSTART:20260402T180000Z
DTEND:20260402T190000Z
DTSTAMP:20260423T222117Z
UID:12879732026-04-02 18:00:00+00:00achurchnearyou
CATEGORIES:
DESCRIPTION:Maundy Thursday Holy Communion Remembering Jesus's last meal b
 efore the cross.
GEO:-1.733387;52.121401
LOCATION:Quinton with Admington - St Swithin
URL:https://www.achurchnearyou.com/church/14281/service-and-events/events/
 1287973/
END:VEVENT
END:VCALENDAR
