BEGIN:VCALENDAR
VERSION:2.0
PRODID:-//achurchnearyou.com//eventfeed//EN
CALSCALE:GREGORIAN
METHOD:PUBLISH
X-WR-TIMEZONE:UTC
BEGIN:VEVENT
SUMMARY:Easter Sunday Holy Communion
DTSTART:20260405T080000Z
DTEND:20260405T090000Z
DTSTAMP:20260424T071222Z
UID:12879892026-04-05 08:00:00+00:00achurchnearyou
CATEGORIES:
DESCRIPTION:Easter Sunday Holy Communion
GEO:-1.76928;52.165242
LOCATION:Weston-on-Avon - All Saints
URL:https://www.achurchnearyou.com/church/14284/service-and-events/events/
 1287989/
END:VEVENT
END:VCALENDAR
