BEGIN:VCALENDAR
VERSION:2.0
PRODID:-//achurchnearyou.com//eventfeed//EN
CALSCALE:GREGORIAN
METHOD:PUBLISH
X-WR-TIMEZONE:UTC
BEGIN:VEVENT
SUMMARY:Christingle Service
DTSTART:20251203T163000Z
DTEND:20251203T171500Z
DTSTAMP:20260425T010722Z
UID:11275792025-12-03 16:30:00+00:00achurchnearyou
CATEGORIES:
DESCRIPTION:A joyful annual celebration for families to share the light of
  Jesus and spread a message of hope.
LOCATION:St Peter & St Paul\, Blockley
URL:https://www.achurchnearyou.com/church/14287/service-and-events/events/
 1127579/
END:VEVENT
END:VCALENDAR
