BEGIN:VCALENDAR
VERSION:2.0
PRODID:-//achurchnearyou.com//eventfeed//EN
CALSCALE:GREGORIAN
METHOD:PUBLISH
X-WR-TIMEZONE:UTC
BEGIN:VEVENT
SUMMARY:Ebrington Dawn Chorus Walk
DTSTART:20250518T040000Z
DTEND:20250518T053000Z
DTSTAMP:20260425T185758Z
UID:11947672025-05-18 04:00:00+00:00achurchnearyou
CATEGORIES:
DESCRIPTION:Led by lifelong birder\, as seen on Clarkson’s Farm\; Andy W
 arren \nStart at 5am in the Village Hall carpark. Finish at the Church wit
 h bacon baps\, tea and coffee.\n£15pp\, children u18 free. All monies wil
 l be donated to Ebrington Church \nPlaces limited to 20\, book with Caroli
 ne on 07971 541582
LOCATION:St Eadburgha's
URL:https://www.achurchnearyou.com/church/14287/service-and-events/events/
 1194767/
END:VEVENT
END:VCALENDAR
