BEGIN:VCALENDAR
VERSION:2.0
PRODID:-//achurchnearyou.com//eventfeed//EN
CALSCALE:GREGORIAN
METHOD:PUBLISH
X-WR-TIMEZONE:UTC
BEGIN:VEVENT
SUMMARY:BIRDS AND BEASTS - BLOCKLEY LADIES CHOIR IN CONCERT
DTSTART:20250719T183000Z
DTEND:20250719T201500Z
DTSTAMP:20260425T122828Z
UID:12098902025-07-19 18:30:00+00:00achurchnearyou
CATEGORIES:
DESCRIPTION:A charity concert in aid of Campden Home Nursing\, presented a
 s part of the Blockley Summer Music Festival weekend by \nBlockley Ladies 
 Choir with Esther Bersweden\, Musical director\, Terry Rodbard\, Accompani
 st\, and special guest Archie Bielby\, guitar.This promises to be a joyful
  summer evening of music and harmony in aid of a very worthwhile cause - a
  local charity giving hospice care in people’s own homes\, bereavement c
 ounselling and wellbeing services to the community\, at no charge. \nThe c
 oncert is on Saturday 19th July. Doors open 7pm    Concert starts 7:30pm  
    Refreshments will be available.\n\nTickets:  £10  from Blockley Villag
 e Shop\,  Jecca’s House Chipping Campden or on the door (if still availa
 ble).
LOCATION:St Peter & St Paul\, Blockley
URL:https://www.achurchnearyou.com/church/14287/service-and-events/events/
 1209890/
END:VEVENT
END:VCALENDAR
