BEGIN:VCALENDAR
VERSION:2.0
PRODID:-//achurchnearyou.com//eventfeed//EN
CALSCALE:GREGORIAN
METHOD:PUBLISH
X-WR-TIMEZONE:UTC
BEGIN:VEVENT
SUMMARY:Morning Prayer
DTSTART:20251116T111500Z
DTEND:20251116T120000Z
DTSTAMP:20260425T042507Z
UID:12507702025-11-16 11:15:00+00:00achurchnearyou
CATEGORIES:
DESCRIPTION:A simple service of morning prayer led by our church warden Ph
 ilip. All welcome.
GEO:-1.745981;51.990875
LOCATION:St Lawrence\, Bourton-on-the-Hill
URL:https://www.achurchnearyou.com/church/14287/service-and-events/events/
 1250770/
END:VEVENT
END:VCALENDAR
