BEGIN:VCALENDAR
VERSION:2.0
PRODID:-//achurchnearyou.com//eventfeed//EN
CALSCALE:GREGORIAN
METHOD:PUBLISH
X-WR-TIMEZONE:UTC
BEGIN:VEVENT
SUMMARY:Palm Sunday Holy Communion
DTSTART:20260329T101500Z
DTEND:20260329T111500Z
DTSTAMP:20260424T190128Z
UID:13125982026-03-29 10:15:00+00:00achurchnearyou
CATEGORIES:
DESCRIPTION:A morning service of Holy Communion marking Palm Sunday and th
 e beginning of Holy Week
GEO:-1.745981;51.990875
LOCATION:St Lawrence\, Bourton-on-the-Hill
URL:https://www.achurchnearyou.com/church/14287/service-and-events/events/
 1312598/
END:VEVENT
END:VCALENDAR
