BEGIN:VCALENDAR
VERSION:2.0
PRODID:-//achurchnearyou.com//eventfeed//EN
CALSCALE:GREGORIAN
METHOD:PUBLISH
X-WR-TIMEZONE:UTC
BEGIN:VEVENT
SUMMARY:Advent Sunday Benefice Communion Service
DTSTART:20251130T093000Z
DTEND:20251130T103000Z
DTSTAMP:20260425T010316Z
UID:9741882025-11-30 09:30:00+00:00achurchnearyou
CATEGORIES:
DESCRIPTION:When there is a fifth Sunday in the month\, the different cong
 regations in the Southern group of churches join together for a service of
  Holy Communion at 9:30. In November it will be held in the JUBILEE HALL\,
  PARK ROAD\, BLOCKLEY.
LOCATION:St Peter & St Paul\, Blockley
URL:https://www.achurchnearyou.com/church/14287/service-and-events/events/
 974188/
END:VEVENT
END:VCALENDAR
