BEGIN:VCALENDAR
VERSION:2.0
PRODID:-//achurchnearyou.com//eventfeed//EN
CALSCALE:GREGORIAN
METHOD:PUBLISH
X-WR-TIMEZONE:UTC
BEGIN:VEVENT
SUMMARY:Benefice Holy Communion
DTSTART:20241229T100000Z
DTEND:20241229T110000Z
DTSTAMP:20260419T200911Z
UID:11163952024-12-29 10:00:00+00:00achurchnearyou
CATEGORIES:
DESCRIPTION:The Benefice Holy Communion service will take place at All Hal
 lows Church.
LOCATION:All Hallows Church
URL:https://www.achurchnearyou.com/church/14312/service-and-events/events/
 1116395/
END:VEVENT
END:VCALENDAR
