BEGIN:VCALENDAR
VERSION:2.0
PRODID:-//achurchnearyou.com//eventfeed//EN
CALSCALE:GREGORIAN
METHOD:PUBLISH
X-WR-TIMEZONE:UTC
BEGIN:VEVENT
SUMMARY:Breakfast Church
DTSTART;TZID=Europe/London:20260509T090000
DTEND;TZID=Europe/London:20260509T101500
DTSTAMP:20260426T052328Z
UID:4780682026-05-09 09:00:00+01:00achurchnearyou
CATEGORIES:
DESCRIPTION:Join us for a light breakfast (bacon butties\, croissants\, co
 ffees\, juice...) followed by craft and a short family friendly service.
GEO:-1.758738;51.886097
LOCATION:St Lawrence
URL:https://www.achurchnearyou.com/church/14373/service-and-events/events/
 478068/
END:VEVENT
BEGIN:VEVENT
SUMMARY:Breakfast Church
DTSTART;TZID=Europe/London:20260613T090000
DTEND;TZID=Europe/London:20260613T101500
DTSTAMP:20260426T052328Z
UID:4780682026-06-13 09:00:00+01:00achurchnearyou
CATEGORIES:
DESCRIPTION:Join us for a light breakfast (bacon butties\, croissants\, co
 ffees\, juice...) followed by craft and a short family friendly service.
GEO:-1.758738;51.886097
LOCATION:St Lawrence
URL:https://www.achurchnearyou.com/church/14373/service-and-events/events/
 478068/
END:VEVENT
BEGIN:VEVENT
SUMMARY:Breakfast Church
DTSTART;TZID=Europe/London:20260711T090000
DTEND;TZID=Europe/London:20260711T101500
DTSTAMP:20260426T052328Z
UID:4780682026-07-11 09:00:00+01:00achurchnearyou
CATEGORIES:
DESCRIPTION:Join us for a light breakfast (bacon butties\, croissants\, co
 ffees\, juice...) followed by craft and a short family friendly service.
GEO:-1.758738;51.886097
LOCATION:St Lawrence
URL:https://www.achurchnearyou.com/church/14373/service-and-events/events/
 478068/
END:VEVENT
BEGIN:VEVENT
SUMMARY:Breakfast Church
DTSTART;TZID=Europe/London:20260808T090000
DTEND;TZID=Europe/London:20260808T101500
DTSTAMP:20260426T052328Z
UID:4780682026-08-08 09:00:00+01:00achurchnearyou
CATEGORIES:
DESCRIPTION:Join us for a light breakfast (bacon butties\, croissants\, co
 ffees\, juice...) followed by craft and a short family friendly service.
GEO:-1.758738;51.886097
LOCATION:St Lawrence
URL:https://www.achurchnearyou.com/church/14373/service-and-events/events/
 478068/
END:VEVENT
BEGIN:VEVENT
SUMMARY:Breakfast Church
DTSTART;TZID=Europe/London:20260912T090000
DTEND;TZID=Europe/London:20260912T101500
DTSTAMP:20260426T052328Z
UID:4780682026-09-12 09:00:00+01:00achurchnearyou
CATEGORIES:
DESCRIPTION:Join us for a light breakfast (bacon butties\, croissants\, co
 ffees\, juice...) followed by craft and a short family friendly service.
GEO:-1.758738;51.886097
LOCATION:St Lawrence
URL:https://www.achurchnearyou.com/church/14373/service-and-events/events/
 478068/
END:VEVENT
BEGIN:VEVENT
SUMMARY:Breakfast Church
DTSTART;TZID=Europe/London:20261010T090000
DTEND;TZID=Europe/London:20261010T101500
DTSTAMP:20260426T052328Z
UID:4780682026-10-10 09:00:00+01:00achurchnearyou
CATEGORIES:
DESCRIPTION:Join us for a light breakfast (bacon butties\, croissants\, co
 ffees\, juice...) followed by craft and a short family friendly service.
GEO:-1.758738;51.886097
LOCATION:St Lawrence
URL:https://www.achurchnearyou.com/church/14373/service-and-events/events/
 478068/
END:VEVENT
BEGIN:VEVENT
SUMMARY:Breakfast Church
DTSTART;TZID=Europe/London:20261114T090000
DTEND;TZID=Europe/London:20261114T101500
DTSTAMP:20260426T052328Z
UID:4780682026-11-14 09:00:00+00:00achurchnearyou
CATEGORIES:
DESCRIPTION:Join us for a light breakfast (bacon butties\, croissants\, co
 ffees\, juice...) followed by craft and a short family friendly service.
GEO:-1.758738;51.886097
LOCATION:St Lawrence
URL:https://www.achurchnearyou.com/church/14373/service-and-events/events/
 478068/
END:VEVENT
BEGIN:VEVENT
SUMMARY:Breakfast Church
DTSTART;TZID=Europe/London:20261212T090000
DTEND;TZID=Europe/London:20261212T101500
DTSTAMP:20260426T052328Z
UID:4780682026-12-12 09:00:00+00:00achurchnearyou
CATEGORIES:
DESCRIPTION:Join us for a light breakfast (bacon butties\, croissants\, co
 ffees\, juice...) followed by craft and a short family friendly service.
GEO:-1.758738;51.886097
LOCATION:St Lawrence
URL:https://www.achurchnearyou.com/church/14373/service-and-events/events/
 478068/
END:VEVENT
BEGIN:VEVENT
SUMMARY:Breakfast Church
DTSTART;TZID=Europe/London:20270109T090000
DTEND;TZID=Europe/London:20270109T101500
DTSTAMP:20260426T052328Z
UID:4780682027-01-09 09:00:00+00:00achurchnearyou
CATEGORIES:
DESCRIPTION:Join us for a light breakfast (bacon butties\, croissants\, co
 ffees\, juice...) followed by craft and a short family friendly service.
GEO:-1.758738;51.886097
LOCATION:St Lawrence
URL:https://www.achurchnearyou.com/church/14373/service-and-events/events/
 478068/
END:VEVENT
BEGIN:VEVENT
SUMMARY:Breakfast Church
DTSTART;TZID=Europe/London:20270213T090000
DTEND;TZID=Europe/London:20270213T101500
DTSTAMP:20260426T052328Z
UID:4780682027-02-13 09:00:00+00:00achurchnearyou
CATEGORIES:
DESCRIPTION:Join us for a light breakfast (bacon butties\, croissants\, co
 ffees\, juice...) followed by craft and a short family friendly service.
GEO:-1.758738;51.886097
LOCATION:St Lawrence
URL:https://www.achurchnearyou.com/church/14373/service-and-events/events/
 478068/
END:VEVENT
BEGIN:VEVENT
SUMMARY:Breakfast Church
DTSTART;TZID=Europe/London:20270313T090000
DTEND;TZID=Europe/London:20270313T101500
DTSTAMP:20260426T052328Z
UID:4780682027-03-13 09:00:00+00:00achurchnearyou
CATEGORIES:
DESCRIPTION:Join us for a light breakfast (bacon butties\, croissants\, co
 ffees\, juice...) followed by craft and a short family friendly service.
GEO:-1.758738;51.886097
LOCATION:St Lawrence
URL:https://www.achurchnearyou.com/church/14373/service-and-events/events/
 478068/
END:VEVENT
BEGIN:VEVENT
SUMMARY:Breakfast Church
DTSTART;TZID=Europe/London:20270410T090000
DTEND;TZID=Europe/London:20270410T101500
DTSTAMP:20260426T052328Z
UID:4780682027-04-10 09:00:00+01:00achurchnearyou
CATEGORIES:
DESCRIPTION:Join us for a light breakfast (bacon butties\, croissants\, co
 ffees\, juice...) followed by craft and a short family friendly service.
GEO:-1.758738;51.886097
LOCATION:St Lawrence
URL:https://www.achurchnearyou.com/church/14373/service-and-events/events/
 478068/
END:VEVENT
END:VCALENDAR
