BEGIN:VCALENDAR
VERSION:2.0
PRODID:-//achurchnearyou.com//eventfeed//EN
CALSCALE:GREGORIAN
METHOD:PUBLISH
X-WR-TIMEZONE:UTC
BEGIN:VEVENT
SUMMARY:Compline for Holy Week
DTSTART;TZID=Europe/London:20260401T190000
DTEND;TZID=Europe/London:20260401T195000
DTSTAMP:20260421T112656Z
UID:5723571775066400.0achurchnearyou
CATEGORIES:
DESCRIPTION:A reflective service at the end of the day
GEO:-1.726356;51.878004
LOCATION:St Peter
URL:https://www.achurchnearyou.com/church/14382/service-and-events/events/
 572357/
END:VEVENT
BEGIN:VEVENT
SUMMARY:Easter Family Communion
DTSTART;TZID=Europe/London:20260405T093000
DTEND;TZID=Europe/London:20260405T103000
DTSTAMP:20260421T112656Z
UID:5723561775377800.0achurchnearyou
CATEGORIES:
DESCRIPTION:All welcome as we celebrate today: Christ is Risen - Alleluia!
GEO:-1.726356;51.878004
LOCATION:St Peter
URL:https://www.achurchnearyou.com/church/14382/service-and-events/events/
 572356/
END:VEVENT
BEGIN:VEVENT
SUMMARY:Holy Communion - Common Worship
DTSTART;TZID=Europe/London:20260405T110000
DTEND;TZID=Europe/London:20260405T120000
DTSTAMP:20260421T112656Z
UID:6064991775383200.0achurchnearyou
CATEGORIES:
DESCRIPTION:A service of Holy Communion. Usually with singing (once we are
  allowed again!). Will be held on the 3rd Sunday at 11am for October\, and
  then at 9:30am on the 4th Sunday thereafter.
GEO:-1.726356;51.878004
LOCATION:St Peter
URL:https://www.achurchnearyou.com/church/14382/service-and-events/events/
 606499/
END:VEVENT
BEGIN:VEVENT
SUMMARY:Holy Communion - Book of Common Prayer
DTSTART;TZID=Europe/London:20260426T093000
DTEND;TZID=Europe/London:20260426T103000
DTSTAMP:20260421T112656Z
UID:6065011777192200.0achurchnearyou
CATEGORIES:
DESCRIPTION:BCP Communion
GEO:-1.726356;51.878004
LOCATION:St Peter
URL:https://www.achurchnearyou.com/church/14382/service-and-events/events/
 606501/
END:VEVENT
BEGIN:VEVENT
SUMMARY:Holy Communion - Common Worship
DTSTART;TZID=Europe/London:20260503T110000
DTEND;TZID=Europe/London:20260503T120000
DTSTAMP:20260421T112656Z
UID:6064991777802400.0achurchnearyou
CATEGORIES:
DESCRIPTION:A service of Holy Communion. Usually with singing (once we are
  allowed again!). Will be held on the 3rd Sunday at 11am for October\, and
  then at 9:30am on the 4th Sunday thereafter.
GEO:-1.726356;51.878004
LOCATION:St Peter
URL:https://www.achurchnearyou.com/church/14382/service-and-events/events/
 606499/
END:VEVENT
BEGIN:VEVENT
SUMMARY:Holy Communion for Ascension Day
DTSTART;TZID=Europe/London:20260514T190000
DTEND;TZID=Europe/London:20260514T200000
DTSTAMP:20260421T112656Z
UID:13255511778781600.0achurchnearyou
CATEGORIES:
DESCRIPTION:Join us in Jim's Barn\, Clapton to celebrate the Ascension.
LOCATION:The Barn
URL:https://www.achurchnearyou.com/church/14382/service-and-events/events/
 1325551/
END:VEVENT
BEGIN:VEVENT
SUMMARY:Joint Rissington's Holy Communion
DTSTART;TZID=Europe/London:20260517T110000
DTEND;TZID=Europe/London:20260517T120000
DTSTAMP:20260421T112656Z
UID:7391921779012000.0achurchnearyou
CATEGORIES:
DESCRIPTION:A service of Holy Communion (Common Worship)\, held on the thi
 rd Sunday of the month. This rotates around the Rissington villages and is
  held at Little Rissington in February\, May\, August\, and November.
LOCATION:St Peter's
URL:https://www.achurchnearyou.com/church/14382/service-and-events/events/
 739192/
END:VEVENT
BEGIN:VEVENT
SUMMARY:Holy Communion - Book of Common Prayer
DTSTART;TZID=Europe/London:20260524T093000
DTEND;TZID=Europe/London:20260524T103000
DTSTAMP:20260421T112656Z
UID:6065011779611400.0achurchnearyou
CATEGORIES:
DESCRIPTION:BCP Communion
GEO:-1.726356;51.878004
LOCATION:St Peter
URL:https://www.achurchnearyou.com/church/14382/service-and-events/events/
 606501/
END:VEVENT
BEGIN:VEVENT
SUMMARY:5th Sunday Benefice Service
DTSTART;TZID=Europe/London:20260531T110000
DTEND;TZID=Europe/London:20260531T120000
DTSTAMP:20260421T112656Z
UID:10796131780221600.0achurchnearyou
CATEGORIES:
DESCRIPTION:Join us as we worship together at a service of Holy Communion 
 in St Lawrence\, Bourton.
LOCATION:St Lawrence
URL:https://www.bourtonparishchurch.co.uk
END:VEVENT
BEGIN:VEVENT
SUMMARY:Holy Communion - Common Worship
DTSTART;TZID=Europe/London:20260607T110000
DTEND;TZID=Europe/London:20260607T120000
DTSTAMP:20260421T112656Z
UID:6064991780826400.0achurchnearyou
CATEGORIES:
DESCRIPTION:A service of Holy Communion. Usually with singing (once we are
  allowed again!). Will be held on the 3rd Sunday at 11am for October\, and
  then at 9:30am on the 4th Sunday thereafter.
GEO:-1.726356;51.878004
LOCATION:St Peter
URL:https://www.achurchnearyou.com/church/14382/service-and-events/events/
 606499/
END:VEVENT
BEGIN:VEVENT
SUMMARY:Holy Communion - Book of Common Prayer
DTSTART;TZID=Europe/London:20260628T093000
DTEND;TZID=Europe/London:20260628T103000
DTSTAMP:20260421T112656Z
UID:6065011782635400.0achurchnearyou
CATEGORIES:
DESCRIPTION:BCP Communion
GEO:-1.726356;51.878004
LOCATION:St Peter
URL:https://www.achurchnearyou.com/church/14382/service-and-events/events/
 606501/
END:VEVENT
BEGIN:VEVENT
SUMMARY:Holy Communion - Common Worship
DTSTART;TZID=Europe/London:20260705T110000
DTEND;TZID=Europe/London:20260705T120000
DTSTAMP:20260421T112656Z
UID:6064991783245600.0achurchnearyou
CATEGORIES:
DESCRIPTION:A service of Holy Communion. Usually with singing (once we are
  allowed again!). Will be held on the 3rd Sunday at 11am for October\, and
  then at 9:30am on the 4th Sunday thereafter.
GEO:-1.726356;51.878004
LOCATION:St Peter
URL:https://www.achurchnearyou.com/church/14382/service-and-events/events/
 606499/
END:VEVENT
BEGIN:VEVENT
SUMMARY:Holy Communion - Book of Common Prayer
DTSTART;TZID=Europe/London:20260726T093000
DTEND;TZID=Europe/London:20260726T103000
DTSTAMP:20260421T112656Z
UID:6065011785054600.0achurchnearyou
CATEGORIES:
DESCRIPTION:BCP Communion
GEO:-1.726356;51.878004
LOCATION:St Peter
URL:https://www.achurchnearyou.com/church/14382/service-and-events/events/
 606501/
END:VEVENT
BEGIN:VEVENT
SUMMARY:Holy Communion - Common Worship
DTSTART;TZID=Europe/London:20260802T110000
DTEND;TZID=Europe/London:20260802T120000
DTSTAMP:20260421T112656Z
UID:6064991785664800.0achurchnearyou
CATEGORIES:
DESCRIPTION:A service of Holy Communion. Usually with singing (once we are
  allowed again!). Will be held on the 3rd Sunday at 11am for October\, and
  then at 9:30am on the 4th Sunday thereafter.
GEO:-1.726356;51.878004
LOCATION:St Peter
URL:https://www.achurchnearyou.com/church/14382/service-and-events/events/
 606499/
END:VEVENT
BEGIN:VEVENT
SUMMARY:Joint Rissington's Holy Communion
DTSTART;TZID=Europe/London:20260816T110000
DTEND;TZID=Europe/London:20260816T120000
DTSTAMP:20260421T112656Z
UID:7391921786874400.0achurchnearyou
CATEGORIES:
DESCRIPTION:A service of Holy Communion (Common Worship)\, held on the thi
 rd Sunday of the month. This rotates around the Rissington villages and is
  held at Little Rissington in February\, May\, August\, and November.
LOCATION:St Peter's
URL:https://www.achurchnearyou.com/church/14382/service-and-events/events/
 739192/
END:VEVENT
BEGIN:VEVENT
SUMMARY:Holy Communion - Book of Common Prayer
DTSTART;TZID=Europe/London:20260823T093000
DTEND;TZID=Europe/London:20260823T103000
DTSTAMP:20260421T112656Z
UID:6065011787473800.0achurchnearyou
CATEGORIES:
DESCRIPTION:BCP Communion
GEO:-1.726356;51.878004
LOCATION:St Peter
URL:https://www.achurchnearyou.com/church/14382/service-and-events/events/
 606501/
END:VEVENT
BEGIN:VEVENT
SUMMARY:5th Sunday Benefice Service
DTSTART;TZID=Europe/London:20260830T110000
DTEND;TZID=Europe/London:20260830T120000
DTSTAMP:20260421T112656Z
UID:10796131788084000.0achurchnearyou
CATEGORIES:
DESCRIPTION:Join us as we worship together at a service of Holy Communion 
 in St Lawrence\, Bourton.
LOCATION:St Lawrence
URL:https://www.bourtonparishchurch.co.uk
END:VEVENT
BEGIN:VEVENT
SUMMARY:Holy Communion - Common Worship
DTSTART;TZID=Europe/London:20260906T110000
DTEND;TZID=Europe/London:20260906T120000
DTSTAMP:20260421T112656Z
UID:6064991788688800.0achurchnearyou
CATEGORIES:
DESCRIPTION:A service of Holy Communion. Usually with singing (once we are
  allowed again!). Will be held on the 3rd Sunday at 11am for October\, and
  then at 9:30am on the 4th Sunday thereafter.
GEO:-1.726356;51.878004
LOCATION:St Peter
URL:https://www.achurchnearyou.com/church/14382/service-and-events/events/
 606499/
END:VEVENT
BEGIN:VEVENT
SUMMARY:Holy Communion - Book of Common Prayer
DTSTART;TZID=Europe/London:20260927T093000
DTEND;TZID=Europe/London:20260927T103000
DTSTAMP:20260421T112656Z
UID:6065011790497800.0achurchnearyou
CATEGORIES:
DESCRIPTION:BCP Communion
GEO:-1.726356;51.878004
LOCATION:St Peter
URL:https://www.achurchnearyou.com/church/14382/service-and-events/events/
 606501/
END:VEVENT
END:VCALENDAR
