BEGIN:VCALENDAR
VERSION:2.0
PRODID:-//achurchnearyou.com//eventfeed//EN
CALSCALE:GREGORIAN
METHOD:PUBLISH
X-WR-TIMEZONE:UTC
BEGIN:VEVENT
SUMMARY:High Mass - Musica Deo Sacra
DTSTART:20250729T100000Z
DTEND:20250729T110000Z
DTSTAMP:20260419T171958Z
UID:12001152025-07-29 10:00:00+00:00achurchnearyou
CATEGORIES:
DESCRIPTION:Palestrina Missa Papae Marcelli\nPurcell Hear my Prayer\nGibbo
 ns O Lord\, in thy wrath\nGreene Lord\, let me no mine end\nByrd Justorum 
 animae\nPreacher: Revd Dr Rebecca Lloyd\n(Canon Chancellor\, Gloucester Ca
 thedral)
GEO:-2.160669;51.990489
LOCATION:Tewkesbury Abbey
URL:https://www.achurchnearyou.com/church/14411/service-and-events/events/
 1200115/
END:VEVENT
END:VCALENDAR
