BEGIN:VCALENDAR
VERSION:2.0
PRODID:-//achurchnearyou.com//eventfeed//EN
CALSCALE:GREGORIAN
METHOD:PUBLISH
X-WR-TIMEZONE:UTC
BEGIN:VEVENT
SUMMARY:Carol Singing
DTSTART:20251217T180000Z
DTEND:20251217T190000Z
DTSTAMP:20260420T074918Z
UID:12376872025-12-17 18:00:00+00:00achurchnearyou
CATEGORIES:
DESCRIPTION:Outdoor Carol Singing in St Margarets Church Alderton at 18.00
GEO:-1.997856;51.996966
LOCATION:St Margaret of Antioch
URL:https://www.achurchnearyou.com/church/14419/service-and-events/events/
 1237687/
END:VEVENT
END:VCALENDAR
