BEGIN:VCALENDAR
VERSION:2.0
PRODID:-//achurchnearyou.com//eventfeed//EN
CALSCALE:GREGORIAN
METHOD:PUBLISH
X-WR-TIMEZONE:UTC
BEGIN:VEVENT
SUMMARY:Allcomers Service
DTSTART;TZID=Europe/London:20251005T103000
DTEND;TZID=Europe/London:20251005T113000
DTSTAMP:20260423T120913Z
UID:12278962025-10-05 10:30:00+01:00achurchnearyou
CATEGORIES:
DESCRIPTION:All ages welcome for a short service followed by refreshments.
   Opportunity for Holy Communion offered after refreshments.
GEO:-0.902845;52.722396
LOCATION:St Swithun
URL:https://www.achurchnearyou.com/church/14443/service-and-events/events/
 1227896/
END:VEVENT
BEGIN:VEVENT
SUMMARY:Allcomers Service
DTSTART;TZID=Europe/London:20251102T103000
DTEND;TZID=Europe/London:20251102T113000
DTSTAMP:20260423T120913Z
UID:12278962025-11-02 10:30:00+00:00achurchnearyou
CATEGORIES:
DESCRIPTION:All ages welcome for a short service followed by refreshments.
   Opportunity for Holy Communion offered after refreshments.
GEO:-0.902845;52.722396
LOCATION:St Swithun
URL:https://www.achurchnearyou.com/church/14443/service-and-events/events/
 1227896/
END:VEVENT
BEGIN:VEVENT
SUMMARY:Allcomers Service
DTSTART;TZID=Europe/London:20251207T103000
DTEND;TZID=Europe/London:20251207T113000
DTSTAMP:20260423T120913Z
UID:12278962025-12-07 10:30:00+00:00achurchnearyou
CATEGORIES:
DESCRIPTION:All ages welcome for a short service followed by refreshments.
   Opportunity for Holy Communion offered after refreshments.
GEO:-0.902845;52.722396
LOCATION:St Swithun
URL:https://www.achurchnearyou.com/church/14443/service-and-events/events/
 1227896/
END:VEVENT
BEGIN:VEVENT
SUMMARY:Allcomers Service
DTSTART;TZID=Europe/London:20260104T103000
DTEND;TZID=Europe/London:20260104T113000
DTSTAMP:20260423T120913Z
UID:12278962026-01-04 10:30:00+00:00achurchnearyou
CATEGORIES:
DESCRIPTION:All ages welcome for a short service followed by refreshments.
   Opportunity for Holy Communion offered after refreshments.
GEO:-0.902845;52.722396
LOCATION:St Swithun
URL:https://www.achurchnearyou.com/church/14443/service-and-events/events/
 1227896/
END:VEVENT
BEGIN:VEVENT
SUMMARY:Allcomers Service
DTSTART;TZID=Europe/London:20260201T103000
DTEND;TZID=Europe/London:20260201T113000
DTSTAMP:20260423T120913Z
UID:12278962026-02-01 10:30:00+00:00achurchnearyou
CATEGORIES:
DESCRIPTION:All ages welcome for a short service followed by refreshments.
   Opportunity for Holy Communion offered after refreshments.
GEO:-0.902845;52.722396
LOCATION:St Swithun
URL:https://www.achurchnearyou.com/church/14443/service-and-events/events/
 1227896/
END:VEVENT
BEGIN:VEVENT
SUMMARY:Allcomers Service
DTSTART;TZID=Europe/London:20260301T103000
DTEND;TZID=Europe/London:20260301T113000
DTSTAMP:20260423T120913Z
UID:12278962026-03-01 10:30:00+00:00achurchnearyou
CATEGORIES:
DESCRIPTION:All ages welcome for a short service followed by refreshments.
   Opportunity for Holy Communion offered after refreshments.
GEO:-0.902845;52.722396
LOCATION:St Swithun
URL:https://www.achurchnearyou.com/church/14443/service-and-events/events/
 1227896/
END:VEVENT
BEGIN:VEVENT
SUMMARY:Allcomers Service
DTSTART;TZID=Europe/London:20260405T103000
DTEND;TZID=Europe/London:20260405T113000
DTSTAMP:20260423T120913Z
UID:12278962026-04-05 10:30:00+01:00achurchnearyou
CATEGORIES:
DESCRIPTION:All ages welcome for a short service followed by refreshments.
   Opportunity for Holy Communion offered after refreshments.
GEO:-0.902845;52.722396
LOCATION:St Swithun
URL:https://www.achurchnearyou.com/church/14443/service-and-events/events/
 1227896/
END:VEVENT
BEGIN:VEVENT
SUMMARY:Allcomers Service
DTSTART;TZID=Europe/London:20260503T103000
DTEND;TZID=Europe/London:20260503T113000
DTSTAMP:20260423T120913Z
UID:12278962026-05-03 10:30:00+01:00achurchnearyou
CATEGORIES:
DESCRIPTION:All ages welcome for a short service followed by refreshments.
   Opportunity for Holy Communion offered after refreshments.
GEO:-0.902845;52.722396
LOCATION:St Swithun
URL:https://www.achurchnearyou.com/church/14443/service-and-events/events/
 1227896/
END:VEVENT
BEGIN:VEVENT
SUMMARY:Allcomers Service
DTSTART;TZID=Europe/London:20260607T103000
DTEND;TZID=Europe/London:20260607T113000
DTSTAMP:20260423T120913Z
UID:12278962026-06-07 10:30:00+01:00achurchnearyou
CATEGORIES:
DESCRIPTION:All ages welcome for a short service followed by refreshments.
   Opportunity for Holy Communion offered after refreshments.
GEO:-0.902845;52.722396
LOCATION:St Swithun
URL:https://www.achurchnearyou.com/church/14443/service-and-events/events/
 1227896/
END:VEVENT
BEGIN:VEVENT
SUMMARY:Allcomers Service
DTSTART;TZID=Europe/London:20260705T103000
DTEND;TZID=Europe/London:20260705T113000
DTSTAMP:20260423T120913Z
UID:12278962026-07-05 10:30:00+01:00achurchnearyou
CATEGORIES:
DESCRIPTION:All ages welcome for a short service followed by refreshments.
   Opportunity for Holy Communion offered after refreshments.
GEO:-0.902845;52.722396
LOCATION:St Swithun
URL:https://www.achurchnearyou.com/church/14443/service-and-events/events/
 1227896/
END:VEVENT
BEGIN:VEVENT
SUMMARY:Allcomers Service
DTSTART;TZID=Europe/London:20260802T103000
DTEND;TZID=Europe/London:20260802T113000
DTSTAMP:20260423T120913Z
UID:12278962026-08-02 10:30:00+01:00achurchnearyou
CATEGORIES:
DESCRIPTION:All ages welcome for a short service followed by refreshments.
   Opportunity for Holy Communion offered after refreshments.
GEO:-0.902845;52.722396
LOCATION:St Swithun
URL:https://www.achurchnearyou.com/church/14443/service-and-events/events/
 1227896/
END:VEVENT
END:VCALENDAR
