BEGIN:VCALENDAR
VERSION:2.0
PRODID:-//achurchnearyou.com//eventfeed//EN
CALSCALE:GREGORIAN
METHOD:PUBLISH
X-WR-TIMEZONE:UTC
BEGIN:VEVENT
SUMMARY:Afternoon Tea Summer 2025
DTSTART:20250823T140000Z
DTEND:20250823T160000Z
DTSTAMP:20260419T161838Z
UID:12181592025-08-23 14:00:00+00:00achurchnearyou
CATEGORIES:
DESCRIPTION:Sandwiches\, scones\, tea\, pimms! All in the beautiful surrou
 ndings of Kay & David's garden\, Ketton.
GEO:-0.47813;52.6512
LOCATION:St Mary's Stamford
URL:https://www.achurchnearyou.com/church/14505/service-and-events/events/
 1218159/
END:VEVENT
END:VCALENDAR
