BEGIN:VCALENDAR
VERSION:2.0
PRODID:-//achurchnearyou.com//eventfeed//EN
CALSCALE:GREGORIAN
METHOD:PUBLISH
X-WR-TIMEZONE:UTC
BEGIN:VEVENT
SUMMARY:Palm Sunday High Mass with the Blessing of the Palm Crosses
DTSTART:20250413T101500Z
DTEND:20250413T111500Z
DTSTAMP:20260419T232202Z
UID:8126502025-04-13 10:15:00+00:00achurchnearyou
CATEGORIES:
DESCRIPTION:High Mass for the commemoration of Our Lord's triumphal entry 
 into Jerusalem. The service includes Blessing of the congregation's palm c
 rosses. The Eucharist includes hymns\, choir and organ music. Incense is u
 sed. Participants are invited to join us after mass for refreshments. The 
 service starts at 11am and lasts for about an hour.
GEO:-0.47813;52.6512
LOCATION:St Mary's Stamford
URL:https://www.achurchnearyou.com/church/14505/service-and-events/events/
 812650/
END:VEVENT
END:VCALENDAR
