BEGIN:VCALENDAR
VERSION:2.0
PRODID:-//achurchnearyou.com//eventfeed//EN
CALSCALE:GREGORIAN
METHOD:PUBLISH
X-WR-TIMEZONE:UTC
BEGIN:VEVENT
SUMMARY:Corby Male Voice Choir in Concert
DTSTART:20260320T193000Z
DTEND:20260320T213000Z
DTSTAMP:20260422T064240Z
UID:12922932026-03-20 19:30:00+00:00achurchnearyou
CATEGORIES:
DESCRIPTION:Well known top quality choir withup to 25 participants.\n£15 
 tickets
GEO:-0.48257;52.7363
LOCATION:St Stephen\, Careby
URL:https://www.achurchnearyou.com/church/14520/service-and-events/events/
 1292293/
END:VEVENT
END:VCALENDAR
