BEGIN:VCALENDAR
VERSION:2.0
PRODID:-//achurchnearyou.com//eventfeed//EN
CALSCALE:GREGORIAN
METHOD:PUBLISH
X-WR-TIMEZONE:UTC
BEGIN:VEVENT
SUMMARY:HARVEST FESTIVAL SERVICE
DTSTART:20251005T093000Z
DTEND:20251005T130000Z
DTSTAMP:20260423T212842Z
UID:12257082025-10-05 09:30:00+00:00achurchnearyou
CATEGORIES:
DESCRIPTION:A service of Holy Communion to give thanks for and rejoice in 
 the joy of the Harvest.  The service proper will end at about 11.45am and 
 be followed by a bring and share lunch which end no later than 2.00pm.
GEO:-0.537458;53.240123
LOCATION:St Nicholas
URL:https://www.achurchnearyou.com/church/14554/service-and-events/events/
 1225708/
END:VEVENT
END:VCALENDAR
