BEGIN:VCALENDAR
VERSION:2.0
PRODID:-//achurchnearyou.com//eventfeed//EN
CALSCALE:GREGORIAN
METHOD:PUBLISH
X-WR-TIMEZONE:UTC
BEGIN:VEVENT
SUMMARY:2025 Jan-Apr: 10:45am Morning Worship
DTSTART;TZID=Europe/London:20250112T104500
DTEND;TZID=Europe/London:20250112T120000
DTSTAMP:20260422T180451Z
UID:11472262025-01-12 10:45:00+00:00achurchnearyou
CATEGORIES:
DESCRIPTION:A Morning Worship Service\, including Praise\, Worship and the
  Word.
GEO:-0.574207;53.199349
LOCATION:St George's
URL:https://www.achurchnearyou.com/church/14560/service-and-events/events/
 1147226/
END:VEVENT
BEGIN:VEVENT
SUMMARY:2025 Jan-Apr: 10:45am Morning Worship
DTSTART;TZID=Europe/London:20250126T104500
DTEND;TZID=Europe/London:20250126T120000
DTSTAMP:20260422T180451Z
UID:11472262025-01-26 10:45:00+00:00achurchnearyou
CATEGORIES:
DESCRIPTION:A Morning Worship Service\, including Praise\, Worship and the
  Word.
GEO:-0.574207;53.199349
LOCATION:St George's
URL:https://www.achurchnearyou.com/church/14560/service-and-events/events/
 1147226/
END:VEVENT
BEGIN:VEVENT
SUMMARY:2025 Jan-Apr: 10:45am Morning Worship
DTSTART;TZID=Europe/London:20250209T104500
DTEND;TZID=Europe/London:20250209T120000
DTSTAMP:20260422T180451Z
UID:11472262025-02-09 10:45:00+00:00achurchnearyou
CATEGORIES:
DESCRIPTION:A Morning Worship Service\, including Praise\, Worship and the
  Word.
GEO:-0.574207;53.199349
LOCATION:St George's
URL:https://www.achurchnearyou.com/church/14560/service-and-events/events/
 1147226/
END:VEVENT
BEGIN:VEVENT
SUMMARY:2025 Jan-Apr: 10:45am Morning Worship
DTSTART;TZID=Europe/London:20250223T104500
DTEND;TZID=Europe/London:20250223T120000
DTSTAMP:20260422T180451Z
UID:11472262025-02-23 10:45:00+00:00achurchnearyou
CATEGORIES:
DESCRIPTION:A Morning Worship Service\, including Praise\, Worship and the
  Word.
GEO:-0.574207;53.199349
LOCATION:St George's
URL:https://www.achurchnearyou.com/church/14560/service-and-events/events/
 1147226/
END:VEVENT
BEGIN:VEVENT
SUMMARY:2025 Jan-Apr: 10:45am Morning Worship
DTSTART;TZID=Europe/London:20250309T104500
DTEND;TZID=Europe/London:20250309T120000
DTSTAMP:20260422T180451Z
UID:11472262025-03-09 10:45:00+00:00achurchnearyou
CATEGORIES:
DESCRIPTION:A Morning Worship Service\, including Praise\, Worship and the
  Word.
GEO:-0.574207;53.199349
LOCATION:St George's
URL:https://www.achurchnearyou.com/church/14560/service-and-events/events/
 1147226/
END:VEVENT
BEGIN:VEVENT
SUMMARY:2025 Jan-Apr: 10:45am Morning Worship
DTSTART;TZID=Europe/London:20250323T104500
DTEND;TZID=Europe/London:20250323T120000
DTSTAMP:20260422T180451Z
UID:11472262025-03-23 10:45:00+00:00achurchnearyou
CATEGORIES:
DESCRIPTION:A Morning Worship Service\, including Praise\, Worship and the
  Word.
GEO:-0.574207;53.199349
LOCATION:St George's
URL:https://www.achurchnearyou.com/church/14560/service-and-events/events/
 1147226/
END:VEVENT
BEGIN:VEVENT
SUMMARY:2025 Jan-Apr: 10:45am Morning Worship
DTSTART;TZID=Europe/London:20250413T104500
DTEND;TZID=Europe/London:20250413T120000
DTSTAMP:20260422T180451Z
UID:11472262025-04-13 10:45:00+01:00achurchnearyou
CATEGORIES:
DESCRIPTION:A Morning Worship Service\, including Praise\, Worship and the
  Word.
GEO:-0.574207;53.199349
LOCATION:St George's
URL:https://www.achurchnearyou.com/church/14560/service-and-events/events/
 1147226/
END:VEVENT
BEGIN:VEVENT
SUMMARY:2025 Jan-Apr: 10:45am Morning Worship
DTSTART;TZID=Europe/London:20250427T104500
DTEND;TZID=Europe/London:20250427T120000
DTSTAMP:20260422T180451Z
UID:11472262025-04-27 10:45:00+01:00achurchnearyou
CATEGORIES:
DESCRIPTION:A Morning Worship Service\, including Praise\, Worship and the
  Word.
GEO:-0.574207;53.199349
LOCATION:St George's
URL:https://www.achurchnearyou.com/church/14560/service-and-events/events/
 1147226/
END:VEVENT
END:VCALENDAR
