BEGIN:VCALENDAR
VERSION:2.0
PRODID:-//achurchnearyou.com//eventfeed//EN
CALSCALE:GREGORIAN
METHOD:PUBLISH
X-WR-TIMEZONE:UTC
BEGIN:VEVENT
SUMMARY:2025 Jan-Dec: 10am 5th Sunday Holy Communion
DTSTART;TZID=Europe/London:20250330T100000
DTEND;TZID=Europe/London:20250330T113000
DTSTAMP:20260422T044906Z
UID:11638062025-03-30 10:00:00+01:00achurchnearyou
CATEGORIES:
DESCRIPTION:Combined 9am & 10:45am Holy Communion Service.\n5th Sunday of 
 every Month.
GEO:-0.574207;53.199349
LOCATION:St George's
URL:https://www.achurchnearyou.com/church/14560/service-and-events/events/
 1163806/
END:VEVENT
BEGIN:VEVENT
SUMMARY:2025 Jan-Dec: 10am 5th Sunday Holy Communion
DTSTART;TZID=Europe/London:20250629T100000
DTEND;TZID=Europe/London:20250629T113000
DTSTAMP:20260422T044906Z
UID:11638062025-06-29 10:00:00+01:00achurchnearyou
CATEGORIES:
DESCRIPTION:Combined 9am & 10:45am Holy Communion Service.\n5th Sunday of 
 every Month.
GEO:-0.574207;53.199349
LOCATION:St George's
URL:https://www.achurchnearyou.com/church/14560/service-and-events/events/
 1163806/
END:VEVENT
BEGIN:VEVENT
SUMMARY:2025 Jan-Dec: 10am 5th Sunday Holy Communion
DTSTART;TZID=Europe/London:20250831T100000
DTEND;TZID=Europe/London:20250831T113000
DTSTAMP:20260422T044906Z
UID:11638062025-08-31 10:00:00+01:00achurchnearyou
CATEGORIES:
DESCRIPTION:Combined 9am & 10:45am Holy Communion Service.\n5th Sunday of 
 every Month.
GEO:-0.574207;53.199349
LOCATION:St George's
URL:https://www.achurchnearyou.com/church/14560/service-and-events/events/
 1163806/
END:VEVENT
BEGIN:VEVENT
SUMMARY:2025 Jan-Dec: 10am 5th Sunday Holy Communion
DTSTART;TZID=Europe/London:20251130T100000
DTEND;TZID=Europe/London:20251130T113000
DTSTAMP:20260422T044906Z
UID:11638062025-11-30 10:00:00+00:00achurchnearyou
CATEGORIES:
DESCRIPTION:Combined 9am & 10:45am Holy Communion Service.\n5th Sunday of 
 every Month.
GEO:-0.574207;53.199349
LOCATION:St George's
URL:https://www.achurchnearyou.com/church/14560/service-and-events/events/
 1163806/
END:VEVENT
END:VCALENDAR
