BEGIN:VCALENDAR
VERSION:2.0
PRODID:-//achurchnearyou.com//eventfeed//EN
CALSCALE:GREGORIAN
METHOD:PUBLISH
X-WR-TIMEZONE:UTC
BEGIN:VEVENT
SUMMARY:THY KINGDOM COME
DTSTART:20250529T090000Z
DTEND:20250529T190000Z
DTSTAMP:20260422T180216Z
UID:12002532025-05-29 09:00:00+00:00achurchnearyou
CATEGORIES:
DESCRIPTION:An opportunity to drop in to pray and reflect using the theme 
 of the Lord's Prayer.\nThere will be places for activities\, images and wo
 rds to assist or inspire your prayers.
GEO:-0.574207;53.199349
LOCATION:St George's
URL:https://www.achurchnearyou.com/church/14560/service-and-events/events/
 1200253/
END:VEVENT
END:VCALENDAR
