BEGIN:VCALENDAR
VERSION:2.0
PRODID:-//achurchnearyou.com//eventfeed//EN
CALSCALE:GREGORIAN
METHOD:PUBLISH
X-WR-TIMEZONE:UTC
BEGIN:VEVENT
SUMMARY:10am 29 July 2025 - 5th Sunday Morning Worship
DTSTART:20250629T090000Z
DTEND:20250629T100000Z
DTSTAMP:20260422T161620Z
UID:12107462025-06-29 09:00:00+00:00achurchnearyou
CATEGORIES:
DESCRIPTION:A shorter Service of Morning Worship including Songs\, Liturgy
  and The Word\; followed by refreshments.
GEO:-0.574207;53.199349
LOCATION:St George's
URL:https://www.achurchnearyou.com/church/14560/service-and-events/events/
 1210746/
END:VEVENT
END:VCALENDAR
