BEGIN:VCALENDAR
VERSION:2.0
PRODID:-//achurchnearyou.com//eventfeed//EN
CALSCALE:GREGORIAN
METHOD:PUBLISH
X-WR-TIMEZONE:UTC
BEGIN:VEVENT
SUMMARY:2025: 10am Christmas 1 Holy Communion
DTSTART:20251228T100000Z
DTEND:20251228T113000Z
DTSTAMP:20260422T023658Z
UID:12782512025-12-28 10:00:00+00:00achurchnearyou
CATEGORIES:
DESCRIPTION:A Service of Holy Communion for the 1st Sunday after Christmas
GEO:-0.574207;53.199349
LOCATION:St George's
URL:https://www.achurchnearyou.com/church/14560/service-and-events/events/
 1278251/
END:VEVENT
END:VCALENDAR
