BEGIN:VCALENDAR
VERSION:2.0
PRODID:-//achurchnearyou.com//eventfeed//EN
CALSCALE:GREGORIAN
METHOD:PUBLISH
X-WR-TIMEZONE:UTC
BEGIN:VEVENT
SUMMARY:2026: 9am Holy Communion
DTSTART;TZID=Europe/London:20260104T090000
DTEND;TZID=Europe/London:20260104T100000
DTSTAMP:20260421T150218Z
UID:12782522026-01-04 09:00:00+00:00achurchnearyou
CATEGORIES:
DESCRIPTION:A 9am Holy Communion Service for the 1st\, 2nd & 4th Sunday
GEO:-0.574207;53.199349
LOCATION:St George's
URL:https://www.achurchnearyou.com/church/14560/service-and-events/events/
 1278252/
END:VEVENT
BEGIN:VEVENT
SUMMARY:2026: 9am Holy Communion
DTSTART;TZID=Europe/London:20260111T090000
DTEND;TZID=Europe/London:20260111T100000
DTSTAMP:20260421T150218Z
UID:12782522026-01-11 09:00:00+00:00achurchnearyou
CATEGORIES:
DESCRIPTION:A 9am Holy Communion Service for the 1st\, 2nd & 4th Sunday
GEO:-0.574207;53.199349
LOCATION:St George's
URL:https://www.achurchnearyou.com/church/14560/service-and-events/events/
 1278252/
END:VEVENT
BEGIN:VEVENT
SUMMARY:2026: 9am Holy Communion
DTSTART;TZID=Europe/London:20260125T090000
DTEND;TZID=Europe/London:20260125T100000
DTSTAMP:20260421T150218Z
UID:12782522026-01-25 09:00:00+00:00achurchnearyou
CATEGORIES:
DESCRIPTION:A 9am Holy Communion Service for the 1st\, 2nd & 4th Sunday
GEO:-0.574207;53.199349
LOCATION:St George's
URL:https://www.achurchnearyou.com/church/14560/service-and-events/events/
 1278252/
END:VEVENT
BEGIN:VEVENT
SUMMARY:2026: 9am Holy Communion
DTSTART;TZID=Europe/London:20260201T090000
DTEND;TZID=Europe/London:20260201T100000
DTSTAMP:20260421T150218Z
UID:12782522026-02-01 09:00:00+00:00achurchnearyou
CATEGORIES:
DESCRIPTION:A 9am Holy Communion Service for the 1st\, 2nd & 4th Sunday
GEO:-0.574207;53.199349
LOCATION:St George's
URL:https://www.achurchnearyou.com/church/14560/service-and-events/events/
 1278252/
END:VEVENT
BEGIN:VEVENT
SUMMARY:2026: 9am Holy Communion
DTSTART;TZID=Europe/London:20260208T090000
DTEND;TZID=Europe/London:20260208T100000
DTSTAMP:20260421T150218Z
UID:12782522026-02-08 09:00:00+00:00achurchnearyou
CATEGORIES:
DESCRIPTION:A 9am Holy Communion Service for the 1st\, 2nd & 4th Sunday
GEO:-0.574207;53.199349
LOCATION:St George's
URL:https://www.achurchnearyou.com/church/14560/service-and-events/events/
 1278252/
END:VEVENT
BEGIN:VEVENT
SUMMARY:2026: 9am Holy Communion
DTSTART;TZID=Europe/London:20260222T090000
DTEND;TZID=Europe/London:20260222T100000
DTSTAMP:20260421T150218Z
UID:12782522026-02-22 09:00:00+00:00achurchnearyou
CATEGORIES:
DESCRIPTION:A 9am Holy Communion Service for the 1st\, 2nd & 4th Sunday
GEO:-0.574207;53.199349
LOCATION:St George's
URL:https://www.achurchnearyou.com/church/14560/service-and-events/events/
 1278252/
END:VEVENT
BEGIN:VEVENT
SUMMARY:2026: 9am Holy Communion
DTSTART;TZID=Europe/London:20260301T090000
DTEND;TZID=Europe/London:20260301T100000
DTSTAMP:20260421T150218Z
UID:12782522026-03-01 09:00:00+00:00achurchnearyou
CATEGORIES:
DESCRIPTION:A 9am Holy Communion Service for the 1st\, 2nd & 4th Sunday
GEO:-0.574207;53.199349
LOCATION:St George's
URL:https://www.achurchnearyou.com/church/14560/service-and-events/events/
 1278252/
END:VEVENT
BEGIN:VEVENT
SUMMARY:2026: 9am Holy Communion
DTSTART;TZID=Europe/London:20260308T090000
DTEND;TZID=Europe/London:20260308T100000
DTSTAMP:20260421T150218Z
UID:12782522026-03-08 09:00:00+00:00achurchnearyou
CATEGORIES:
DESCRIPTION:A 9am Holy Communion Service for the 1st\, 2nd & 4th Sunday
GEO:-0.574207;53.199349
LOCATION:St George's
URL:https://www.achurchnearyou.com/church/14560/service-and-events/events/
 1278252/
END:VEVENT
BEGIN:VEVENT
SUMMARY:2026: 9am Holy Communion
DTSTART;TZID=Europe/London:20260322T090000
DTEND;TZID=Europe/London:20260322T100000
DTSTAMP:20260421T150218Z
UID:12782522026-03-22 09:00:00+00:00achurchnearyou
CATEGORIES:
DESCRIPTION:A 9am Holy Communion Service for the 1st\, 2nd & 4th Sunday
GEO:-0.574207;53.199349
LOCATION:St George's
URL:https://www.achurchnearyou.com/church/14560/service-and-events/events/
 1278252/
END:VEVENT
BEGIN:VEVENT
SUMMARY:2026: 9am Holy Communion
DTSTART;TZID=Europe/London:20260412T090000
DTEND;TZID=Europe/London:20260412T100000
DTSTAMP:20260421T150218Z
UID:12782522026-04-12 09:00:00+01:00achurchnearyou
CATEGORIES:
DESCRIPTION:A 9am Holy Communion Service for the 1st\, 2nd & 4th Sunday
GEO:-0.574207;53.199349
LOCATION:St George's
URL:https://www.achurchnearyou.com/church/14560/service-and-events/events/
 1278252/
END:VEVENT
BEGIN:VEVENT
SUMMARY:2026: 9am Holy Communion
DTSTART;TZID=Europe/London:20260426T090000
DTEND;TZID=Europe/London:20260426T100000
DTSTAMP:20260421T150218Z
UID:12782522026-04-26 09:00:00+01:00achurchnearyou
CATEGORIES:
DESCRIPTION:A 9am Holy Communion Service for the 1st\, 2nd & 4th Sunday
GEO:-0.574207;53.199349
LOCATION:St George's
URL:https://www.achurchnearyou.com/church/14560/service-and-events/events/
 1278252/
END:VEVENT
BEGIN:VEVENT
SUMMARY:2026: 9am Holy Communion
DTSTART;TZID=Europe/London:20260503T090000
DTEND;TZID=Europe/London:20260503T100000
DTSTAMP:20260421T150218Z
UID:12782522026-05-03 09:00:00+01:00achurchnearyou
CATEGORIES:
DESCRIPTION:A 9am Holy Communion Service for the 1st\, 2nd & 4th Sunday
GEO:-0.574207;53.199349
LOCATION:St George's
URL:https://www.achurchnearyou.com/church/14560/service-and-events/events/
 1278252/
END:VEVENT
BEGIN:VEVENT
SUMMARY:2026: 9am Holy Communion
DTSTART;TZID=Europe/London:20260510T090000
DTEND;TZID=Europe/London:20260510T100000
DTSTAMP:20260421T150218Z
UID:12782522026-05-10 09:00:00+01:00achurchnearyou
CATEGORIES:
DESCRIPTION:A 9am Holy Communion Service for the 1st\, 2nd & 4th Sunday
GEO:-0.574207;53.199349
LOCATION:St George's
URL:https://www.achurchnearyou.com/church/14560/service-and-events/events/
 1278252/
END:VEVENT
BEGIN:VEVENT
SUMMARY:2026: 9am Holy Communion
DTSTART;TZID=Europe/London:20260524T090000
DTEND;TZID=Europe/London:20260524T100000
DTSTAMP:20260421T150218Z
UID:12782522026-05-24 09:00:00+01:00achurchnearyou
CATEGORIES:
DESCRIPTION:A 9am Holy Communion Service for the 1st\, 2nd & 4th Sunday
GEO:-0.574207;53.199349
LOCATION:St George's
URL:https://www.achurchnearyou.com/church/14560/service-and-events/events/
 1278252/
END:VEVENT
BEGIN:VEVENT
SUMMARY:2026: 9am Holy Communion
DTSTART;TZID=Europe/London:20260607T090000
DTEND;TZID=Europe/London:20260607T100000
DTSTAMP:20260421T150218Z
UID:12782522026-06-07 09:00:00+01:00achurchnearyou
CATEGORIES:
DESCRIPTION:A 9am Holy Communion Service for the 1st\, 2nd & 4th Sunday
GEO:-0.574207;53.199349
LOCATION:St George's
URL:https://www.achurchnearyou.com/church/14560/service-and-events/events/
 1278252/
END:VEVENT
BEGIN:VEVENT
SUMMARY:2026: 9am Holy Communion
DTSTART;TZID=Europe/London:20260614T090000
DTEND;TZID=Europe/London:20260614T100000
DTSTAMP:20260421T150218Z
UID:12782522026-06-14 09:00:00+01:00achurchnearyou
CATEGORIES:
DESCRIPTION:A 9am Holy Communion Service for the 1st\, 2nd & 4th Sunday
GEO:-0.574207;53.199349
LOCATION:St George's
URL:https://www.achurchnearyou.com/church/14560/service-and-events/events/
 1278252/
END:VEVENT
BEGIN:VEVENT
SUMMARY:2026: 9am Holy Communion
DTSTART;TZID=Europe/London:20260628T090000
DTEND;TZID=Europe/London:20260628T100000
DTSTAMP:20260421T150218Z
UID:12782522026-06-28 09:00:00+01:00achurchnearyou
CATEGORIES:
DESCRIPTION:A 9am Holy Communion Service for the 1st\, 2nd & 4th Sunday
GEO:-0.574207;53.199349
LOCATION:St George's
URL:https://www.achurchnearyou.com/church/14560/service-and-events/events/
 1278252/
END:VEVENT
BEGIN:VEVENT
SUMMARY:2026: 9am Holy Communion
DTSTART;TZID=Europe/London:20260705T090000
DTEND;TZID=Europe/London:20260705T100000
DTSTAMP:20260421T150218Z
UID:12782522026-07-05 09:00:00+01:00achurchnearyou
CATEGORIES:
DESCRIPTION:A 9am Holy Communion Service for the 1st\, 2nd & 4th Sunday
GEO:-0.574207;53.199349
LOCATION:St George's
URL:https://www.achurchnearyou.com/church/14560/service-and-events/events/
 1278252/
END:VEVENT
BEGIN:VEVENT
SUMMARY:2026: 9am Holy Communion
DTSTART;TZID=Europe/London:20260712T090000
DTEND;TZID=Europe/London:20260712T100000
DTSTAMP:20260421T150218Z
UID:12782522026-07-12 09:00:00+01:00achurchnearyou
CATEGORIES:
DESCRIPTION:A 9am Holy Communion Service for the 1st\, 2nd & 4th Sunday
GEO:-0.574207;53.199349
LOCATION:St George's
URL:https://www.achurchnearyou.com/church/14560/service-and-events/events/
 1278252/
END:VEVENT
BEGIN:VEVENT
SUMMARY:2026: 9am Holy Communion
DTSTART;TZID=Europe/London:20260726T090000
DTEND;TZID=Europe/London:20260726T100000
DTSTAMP:20260421T150218Z
UID:12782522026-07-26 09:00:00+01:00achurchnearyou
CATEGORIES:
DESCRIPTION:A 9am Holy Communion Service for the 1st\, 2nd & 4th Sunday
GEO:-0.574207;53.199349
LOCATION:St George's
URL:https://www.achurchnearyou.com/church/14560/service-and-events/events/
 1278252/
END:VEVENT
BEGIN:VEVENT
SUMMARY:2026: 9am Holy Communion
DTSTART;TZID=Europe/London:20260802T090000
DTEND;TZID=Europe/London:20260802T100000
DTSTAMP:20260421T150218Z
UID:12782522026-08-02 09:00:00+01:00achurchnearyou
CATEGORIES:
DESCRIPTION:A 9am Holy Communion Service for the 1st\, 2nd & 4th Sunday
GEO:-0.574207;53.199349
LOCATION:St George's
URL:https://www.achurchnearyou.com/church/14560/service-and-events/events/
 1278252/
END:VEVENT
BEGIN:VEVENT
SUMMARY:2026: 9am Holy Communion
DTSTART;TZID=Europe/London:20260809T090000
DTEND;TZID=Europe/London:20260809T100000
DTSTAMP:20260421T150218Z
UID:12782522026-08-09 09:00:00+01:00achurchnearyou
CATEGORIES:
DESCRIPTION:A 9am Holy Communion Service for the 1st\, 2nd & 4th Sunday
GEO:-0.574207;53.199349
LOCATION:St George's
URL:https://www.achurchnearyou.com/church/14560/service-and-events/events/
 1278252/
END:VEVENT
BEGIN:VEVENT
SUMMARY:2026: 9am Holy Communion
DTSTART;TZID=Europe/London:20260823T090000
DTEND;TZID=Europe/London:20260823T100000
DTSTAMP:20260421T150218Z
UID:12782522026-08-23 09:00:00+01:00achurchnearyou
CATEGORIES:
DESCRIPTION:A 9am Holy Communion Service for the 1st\, 2nd & 4th Sunday
GEO:-0.574207;53.199349
LOCATION:St George's
URL:https://www.achurchnearyou.com/church/14560/service-and-events/events/
 1278252/
END:VEVENT
BEGIN:VEVENT
SUMMARY:2026: 9am Holy Communion
DTSTART;TZID=Europe/London:20260906T090000
DTEND;TZID=Europe/London:20260906T100000
DTSTAMP:20260421T150218Z
UID:12782522026-09-06 09:00:00+01:00achurchnearyou
CATEGORIES:
DESCRIPTION:A 9am Holy Communion Service for the 1st\, 2nd & 4th Sunday
GEO:-0.574207;53.199349
LOCATION:St George's
URL:https://www.achurchnearyou.com/church/14560/service-and-events/events/
 1278252/
END:VEVENT
BEGIN:VEVENT
SUMMARY:2026: 9am Holy Communion
DTSTART;TZID=Europe/London:20260913T090000
DTEND;TZID=Europe/London:20260913T100000
DTSTAMP:20260421T150218Z
UID:12782522026-09-13 09:00:00+01:00achurchnearyou
CATEGORIES:
DESCRIPTION:A 9am Holy Communion Service for the 1st\, 2nd & 4th Sunday
GEO:-0.574207;53.199349
LOCATION:St George's
URL:https://www.achurchnearyou.com/church/14560/service-and-events/events/
 1278252/
END:VEVENT
BEGIN:VEVENT
SUMMARY:2026: 9am Holy Communion
DTSTART;TZID=Europe/London:20260927T090000
DTEND;TZID=Europe/London:20260927T100000
DTSTAMP:20260421T150218Z
UID:12782522026-09-27 09:00:00+01:00achurchnearyou
CATEGORIES:
DESCRIPTION:A 9am Holy Communion Service for the 1st\, 2nd & 4th Sunday
GEO:-0.574207;53.199349
LOCATION:St George's
URL:https://www.achurchnearyou.com/church/14560/service-and-events/events/
 1278252/
END:VEVENT
BEGIN:VEVENT
SUMMARY:2026: 9am Holy Communion
DTSTART;TZID=Europe/London:20261004T090000
DTEND;TZID=Europe/London:20261004T100000
DTSTAMP:20260421T150218Z
UID:12782522026-10-04 09:00:00+01:00achurchnearyou
CATEGORIES:
DESCRIPTION:A 9am Holy Communion Service for the 1st\, 2nd & 4th Sunday
GEO:-0.574207;53.199349
LOCATION:St George's
URL:https://www.achurchnearyou.com/church/14560/service-and-events/events/
 1278252/
END:VEVENT
BEGIN:VEVENT
SUMMARY:2026: 9am Holy Communion
DTSTART;TZID=Europe/London:20261011T090000
DTEND;TZID=Europe/London:20261011T100000
DTSTAMP:20260421T150218Z
UID:12782522026-10-11 09:00:00+01:00achurchnearyou
CATEGORIES:
DESCRIPTION:A 9am Holy Communion Service for the 1st\, 2nd & 4th Sunday
GEO:-0.574207;53.199349
LOCATION:St George's
URL:https://www.achurchnearyou.com/church/14560/service-and-events/events/
 1278252/
END:VEVENT
BEGIN:VEVENT
SUMMARY:2026: 9am Holy Communion
DTSTART;TZID=Europe/London:20261025T090000
DTEND;TZID=Europe/London:20261025T100000
DTSTAMP:20260421T150218Z
UID:12782522026-10-25 09:00:00+00:00achurchnearyou
CATEGORIES:
DESCRIPTION:A 9am Holy Communion Service for the 1st\, 2nd & 4th Sunday
GEO:-0.574207;53.199349
LOCATION:St George's
URL:https://www.achurchnearyou.com/church/14560/service-and-events/events/
 1278252/
END:VEVENT
BEGIN:VEVENT
SUMMARY:2026: 9am Holy Communion
DTSTART;TZID=Europe/London:20261101T090000
DTEND;TZID=Europe/London:20261101T100000
DTSTAMP:20260421T150218Z
UID:12782522026-11-01 09:00:00+00:00achurchnearyou
CATEGORIES:
DESCRIPTION:A 9am Holy Communion Service for the 1st\, 2nd & 4th Sunday
GEO:-0.574207;53.199349
LOCATION:St George's
URL:https://www.achurchnearyou.com/church/14560/service-and-events/events/
 1278252/
END:VEVENT
BEGIN:VEVENT
SUMMARY:2026: 9am Holy Communion
DTSTART;TZID=Europe/London:20261108T090000
DTEND;TZID=Europe/London:20261108T100000
DTSTAMP:20260421T150218Z
UID:12782522026-11-08 09:00:00+00:00achurchnearyou
CATEGORIES:
DESCRIPTION:A 9am Holy Communion Service for the 1st\, 2nd & 4th Sunday
GEO:-0.574207;53.199349
LOCATION:St George's
URL:https://www.achurchnearyou.com/church/14560/service-and-events/events/
 1278252/
END:VEVENT
BEGIN:VEVENT
SUMMARY:2026: 9am Holy Communion
DTSTART;TZID=Europe/London:20261122T090000
DTEND;TZID=Europe/London:20261122T100000
DTSTAMP:20260421T150218Z
UID:12782522026-11-22 09:00:00+00:00achurchnearyou
CATEGORIES:
DESCRIPTION:A 9am Holy Communion Service for the 1st\, 2nd & 4th Sunday
GEO:-0.574207;53.199349
LOCATION:St George's
URL:https://www.achurchnearyou.com/church/14560/service-and-events/events/
 1278252/
END:VEVENT
BEGIN:VEVENT
SUMMARY:2026: 9am Holy Communion
DTSTART;TZID=Europe/London:20261206T090000
DTEND;TZID=Europe/London:20261206T100000
DTSTAMP:20260421T150218Z
UID:12782522026-12-06 09:00:00+00:00achurchnearyou
CATEGORIES:
DESCRIPTION:A 9am Holy Communion Service for the 1st\, 2nd & 4th Sunday
GEO:-0.574207;53.199349
LOCATION:St George's
URL:https://www.achurchnearyou.com/church/14560/service-and-events/events/
 1278252/
END:VEVENT
BEGIN:VEVENT
SUMMARY:2026: 9am Holy Communion
DTSTART;TZID=Europe/London:20261213T090000
DTEND;TZID=Europe/London:20261213T100000
DTSTAMP:20260421T150218Z
UID:12782522026-12-13 09:00:00+00:00achurchnearyou
CATEGORIES:
DESCRIPTION:A 9am Holy Communion Service for the 1st\, 2nd & 4th Sunday
GEO:-0.574207;53.199349
LOCATION:St George's
URL:https://www.achurchnearyou.com/church/14560/service-and-events/events/
 1278252/
END:VEVENT
BEGIN:VEVENT
SUMMARY:2026: 9am Holy Communion
DTSTART;TZID=Europe/London:20261227T090000
DTEND;TZID=Europe/London:20261227T100000
DTSTAMP:20260421T150218Z
UID:12782522026-12-27 09:00:00+00:00achurchnearyou
CATEGORIES:
DESCRIPTION:A 9am Holy Communion Service for the 1st\, 2nd & 4th Sunday
GEO:-0.574207;53.199349
LOCATION:St George's
URL:https://www.achurchnearyou.com/church/14560/service-and-events/events/
 1278252/
END:VEVENT
END:VCALENDAR
