BEGIN:VCALENDAR
VERSION:2.0
PRODID:-//achurchnearyou.com//eventfeed//EN
CALSCALE:GREGORIAN
METHOD:PUBLISH
X-WR-TIMEZONE:UTC
BEGIN:VEVENT
SUMMARY:2026: 10:45am Holy Communion
DTSTART;TZID=Europe/London:20260118T104500
DTEND;TZID=Europe/London:20260118T121500
DTSTAMP:20260421T165011Z
UID:12794792026-01-18 10:45:00+00:00achurchnearyou
CATEGORIES:
DESCRIPTION:A Service of Holy Communion for the 3rd Sunday.
GEO:-0.574207;53.199349
LOCATION:St George's
URL:https://www.achurchnearyou.com/church/14560/service-and-events/events/
 1279479/
END:VEVENT
BEGIN:VEVENT
SUMMARY:2026: 10:45am Holy Communion
DTSTART;TZID=Europe/London:20260215T104500
DTEND;TZID=Europe/London:20260215T121500
DTSTAMP:20260421T165011Z
UID:12794792026-02-15 10:45:00+00:00achurchnearyou
CATEGORIES:
DESCRIPTION:A Service of Holy Communion for the 3rd Sunday.
GEO:-0.574207;53.199349
LOCATION:St George's
URL:https://www.achurchnearyou.com/church/14560/service-and-events/events/
 1279479/
END:VEVENT
BEGIN:VEVENT
SUMMARY:2026: 10:45am Holy Communion
DTSTART;TZID=Europe/London:20260315T104500
DTEND;TZID=Europe/London:20260315T121500
DTSTAMP:20260421T165011Z
UID:12794792026-03-15 10:45:00+00:00achurchnearyou
CATEGORIES:
DESCRIPTION:A Service of Holy Communion for the 3rd Sunday.
GEO:-0.574207;53.199349
LOCATION:St George's
URL:https://www.achurchnearyou.com/church/14560/service-and-events/events/
 1279479/
END:VEVENT
BEGIN:VEVENT
SUMMARY:2026: 10:45am Holy Communion
DTSTART;TZID=Europe/London:20260419T104500
DTEND;TZID=Europe/London:20260419T121500
DTSTAMP:20260421T165011Z
UID:12794792026-04-19 10:45:00+01:00achurchnearyou
CATEGORIES:
DESCRIPTION:A Service of Holy Communion for the 3rd Sunday.
GEO:-0.574207;53.199349
LOCATION:St George's
URL:https://www.achurchnearyou.com/church/14560/service-and-events/events/
 1279479/
END:VEVENT
BEGIN:VEVENT
SUMMARY:2026: 10:45am Holy Communion
DTSTART;TZID=Europe/London:20260517T104500
DTEND;TZID=Europe/London:20260517T121500
DTSTAMP:20260421T165011Z
UID:12794792026-05-17 10:45:00+01:00achurchnearyou
CATEGORIES:
DESCRIPTION:A Service of Holy Communion for the 3rd Sunday.
GEO:-0.574207;53.199349
LOCATION:St George's
URL:https://www.achurchnearyou.com/church/14560/service-and-events/events/
 1279479/
END:VEVENT
BEGIN:VEVENT
SUMMARY:2026: 10:45am Holy Communion
DTSTART;TZID=Europe/London:20260621T104500
DTEND;TZID=Europe/London:20260621T121500
DTSTAMP:20260421T165011Z
UID:12794792026-06-21 10:45:00+01:00achurchnearyou
CATEGORIES:
DESCRIPTION:A Service of Holy Communion for the 3rd Sunday.
GEO:-0.574207;53.199349
LOCATION:St George's
URL:https://www.achurchnearyou.com/church/14560/service-and-events/events/
 1279479/
END:VEVENT
BEGIN:VEVENT
SUMMARY:2026: 10:45am Holy Communion
DTSTART;TZID=Europe/London:20260719T104500
DTEND;TZID=Europe/London:20260719T121500
DTSTAMP:20260421T165011Z
UID:12794792026-07-19 10:45:00+01:00achurchnearyou
CATEGORIES:
DESCRIPTION:A Service of Holy Communion for the 3rd Sunday.
GEO:-0.574207;53.199349
LOCATION:St George's
URL:https://www.achurchnearyou.com/church/14560/service-and-events/events/
 1279479/
END:VEVENT
BEGIN:VEVENT
SUMMARY:2026: 10:45am Holy Communion
DTSTART;TZID=Europe/London:20260816T104500
DTEND;TZID=Europe/London:20260816T121500
DTSTAMP:20260421T165011Z
UID:12794792026-08-16 10:45:00+01:00achurchnearyou
CATEGORIES:
DESCRIPTION:A Service of Holy Communion for the 3rd Sunday.
GEO:-0.574207;53.199349
LOCATION:St George's
URL:https://www.achurchnearyou.com/church/14560/service-and-events/events/
 1279479/
END:VEVENT
BEGIN:VEVENT
SUMMARY:2026: 10:45am Holy Communion
DTSTART;TZID=Europe/London:20260920T104500
DTEND;TZID=Europe/London:20260920T121500
DTSTAMP:20260421T165011Z
UID:12794792026-09-20 10:45:00+01:00achurchnearyou
CATEGORIES:
DESCRIPTION:A Service of Holy Communion for the 3rd Sunday.
GEO:-0.574207;53.199349
LOCATION:St George's
URL:https://www.achurchnearyou.com/church/14560/service-and-events/events/
 1279479/
END:VEVENT
BEGIN:VEVENT
SUMMARY:2026: 10:45am Holy Communion
DTSTART;TZID=Europe/London:20261018T104500
DTEND;TZID=Europe/London:20261018T121500
DTSTAMP:20260421T165011Z
UID:12794792026-10-18 10:45:00+01:00achurchnearyou
CATEGORIES:
DESCRIPTION:A Service of Holy Communion for the 3rd Sunday.
GEO:-0.574207;53.199349
LOCATION:St George's
URL:https://www.achurchnearyou.com/church/14560/service-and-events/events/
 1279479/
END:VEVENT
BEGIN:VEVENT
SUMMARY:2026: 10:45am Holy Communion
DTSTART;TZID=Europe/London:20261115T104500
DTEND;TZID=Europe/London:20261115T121500
DTSTAMP:20260421T165011Z
UID:12794792026-11-15 10:45:00+00:00achurchnearyou
CATEGORIES:
DESCRIPTION:A Service of Holy Communion for the 3rd Sunday.
GEO:-0.574207;53.199349
LOCATION:St George's
URL:https://www.achurchnearyou.com/church/14560/service-and-events/events/
 1279479/
END:VEVENT
BEGIN:VEVENT
SUMMARY:2026: 10:45am Holy Communion
DTSTART;TZID=Europe/London:20261220T104500
DTEND;TZID=Europe/London:20261220T121500
DTSTAMP:20260421T165011Z
UID:12794792026-12-20 10:45:00+00:00achurchnearyou
CATEGORIES:
DESCRIPTION:A Service of Holy Communion for the 3rd Sunday.
GEO:-0.574207;53.199349
LOCATION:St George's
URL:https://www.achurchnearyou.com/church/14560/service-and-events/events/
 1279479/
END:VEVENT
END:VCALENDAR
