BEGIN:VCALENDAR
VERSION:2.0
PRODID:-//achurchnearyou.com//eventfeed//EN
CALSCALE:GREGORIAN
METHOD:PUBLISH
X-WR-TIMEZONE:UTC
BEGIN:VEVENT
SUMMARY:Holy Communion
DTSTART;TZID=Europe/London:20260405T110000
DTEND;TZID=Europe/London:20260405T120000
DTSTAMP:20260422T074733Z
UID:4134241775383200.0achurchnearyou
CATEGORIES:
DESCRIPTION:Everyone welcome\; blessings can be given to non-communicants 
 if required instead of receiving Communion.
GEO:-0.04768;52.70305
LOCATION:St John the Baptist\, Whaplode Drove
URL:https://www.achurchnearyou.com/church/14578/service-and-events/events/
 413424/
END:VEVENT
BEGIN:VEVENT
SUMMARY:Messy Church
DTSTART;TZID=Europe/London:20260411T110000
DTEND;TZID=Europe/London:20260411T130000
DTSTAMP:20260422T074733Z
UID:5033801775901600.0achurchnearyou
CATEGORIES:
DESCRIPTION:Join us on the 2nd Saturday of every month between11am-1pm in 
 the Churchroom for children’s crafts\, toys\, activities\, music\, story
  time and much more. It’s a friendly and informal event that everyone is
  welcome to attend for part or all of the session. There’s always hot fo
 od as well as hot and cold drinks\, fresh fruit and cakes provided for all
 . The whole event is FREE FOR EVERYONE so why not come along and get invol
 ved?!
LOCATION:Whaplode Drove Churchroom
URL:https://www.achurchnearyou.com/church/14578/service-and-events/events/
 503380/
END:VEVENT
BEGIN:VEVENT
SUMMARY:Morning Worship
DTSTART;TZID=Europe/London:20260419T110000
DTEND;TZID=Europe/London:20260419T120000
DTSTAMP:20260422T074733Z
UID:4134271776592800.0achurchnearyou
CATEGORIES:
DESCRIPTION:Everyone welcome
GEO:-0.04768;52.70305
LOCATION:St John the Baptist\, Whaplode Drove
URL:https://www.achurchnearyou.com/church/14578/service-and-events/events/
 413427/
END:VEVENT
BEGIN:VEVENT
SUMMARY:Family Worship
DTSTART;TZID=Europe/London:20260426T110000
DTEND;TZID=Europe/London:20260426T120000
DTSTAMP:20260422T074733Z
UID:4134381777197600.0achurchnearyou
CATEGORIES:
DESCRIPTION:Relaxed\, informal gathering specifically aimed at a younger a
 udience. Each service has a relevant and interesting theme with readings\,
  songs and activities designed to engage both children and adults. Part of
  the service sees the congregation being split\, with children undertaking
  a relevant activity in the Church\, while the adults have the opportunity
  to gather in the porch for a cup of tea and a discussion of the topics ra
 ised during the service. Everyone welcome\, plenty of tea\, coffee\, squas
 h and biscuits to go around!
GEO:-0.04768;52.70305
LOCATION:St John the Baptist\, Whaplode Drove
URL:https://www.achurchnearyou.com/church/14578/service-and-events/events/
 413438/
END:VEVENT
BEGIN:VEVENT
SUMMARY:Holy Communion
DTSTART;TZID=Europe/London:20260503T110000
DTEND;TZID=Europe/London:20260503T120000
DTSTAMP:20260422T074733Z
UID:4134241777802400.0achurchnearyou
CATEGORIES:
DESCRIPTION:Everyone welcome\; blessings can be given to non-communicants 
 if required instead of receiving Communion.
GEO:-0.04768;52.70305
LOCATION:St John the Baptist\, Whaplode Drove
URL:https://www.achurchnearyou.com/church/14578/service-and-events/events/
 413424/
END:VEVENT
BEGIN:VEVENT
SUMMARY:Messy Church
DTSTART;TZID=Europe/London:20260509T110000
DTEND;TZID=Europe/London:20260509T130000
DTSTAMP:20260422T074733Z
UID:5033801778320800.0achurchnearyou
CATEGORIES:
DESCRIPTION:Join us on the 2nd Saturday of every month between11am-1pm in 
 the Churchroom for children’s crafts\, toys\, activities\, music\, story
  time and much more. It’s a friendly and informal event that everyone is
  welcome to attend for part or all of the session. There’s always hot fo
 od as well as hot and cold drinks\, fresh fruit and cakes provided for all
 . The whole event is FREE FOR EVERYONE so why not come along and get invol
 ved?!
LOCATION:Whaplode Drove Churchroom
URL:https://www.achurchnearyou.com/church/14578/service-and-events/events/
 503380/
END:VEVENT
BEGIN:VEVENT
SUMMARY:Morning Worship
DTSTART;TZID=Europe/London:20260517T110000
DTEND;TZID=Europe/London:20260517T120000
DTSTAMP:20260422T074733Z
UID:4134271779012000.0achurchnearyou
CATEGORIES:
DESCRIPTION:Everyone welcome
GEO:-0.04768;52.70305
LOCATION:St John the Baptist\, Whaplode Drove
URL:https://www.achurchnearyou.com/church/14578/service-and-events/events/
 413427/
END:VEVENT
BEGIN:VEVENT
SUMMARY:Family Worship
DTSTART;TZID=Europe/London:20260524T110000
DTEND;TZID=Europe/London:20260524T120000
DTSTAMP:20260422T074733Z
UID:4134381779616800.0achurchnearyou
CATEGORIES:
DESCRIPTION:Relaxed\, informal gathering specifically aimed at a younger a
 udience. Each service has a relevant and interesting theme with readings\,
  songs and activities designed to engage both children and adults. Part of
  the service sees the congregation being split\, with children undertaking
  a relevant activity in the Church\, while the adults have the opportunity
  to gather in the porch for a cup of tea and a discussion of the topics ra
 ised during the service. Everyone welcome\, plenty of tea\, coffee\, squas
 h and biscuits to go around!
GEO:-0.04768;52.70305
LOCATION:St John the Baptist\, Whaplode Drove
URL:https://www.achurchnearyou.com/church/14578/service-and-events/events/
 413438/
END:VEVENT
BEGIN:VEVENT
SUMMARY:Holy Communion
DTSTART;TZID=Europe/London:20260607T110000
DTEND;TZID=Europe/London:20260607T120000
DTSTAMP:20260422T074733Z
UID:4134241780826400.0achurchnearyou
CATEGORIES:
DESCRIPTION:Everyone welcome\; blessings can be given to non-communicants 
 if required instead of receiving Communion.
GEO:-0.04768;52.70305
LOCATION:St John the Baptist\, Whaplode Drove
URL:https://www.achurchnearyou.com/church/14578/service-and-events/events/
 413424/
END:VEVENT
BEGIN:VEVENT
SUMMARY:Messy Church
DTSTART;TZID=Europe/London:20260613T110000
DTEND;TZID=Europe/London:20260613T130000
DTSTAMP:20260422T074733Z
UID:5033801781344800.0achurchnearyou
CATEGORIES:
DESCRIPTION:Join us on the 2nd Saturday of every month between11am-1pm in 
 the Churchroom for children’s crafts\, toys\, activities\, music\, story
  time and much more. It’s a friendly and informal event that everyone is
  welcome to attend for part or all of the session. There’s always hot fo
 od as well as hot and cold drinks\, fresh fruit and cakes provided for all
 . The whole event is FREE FOR EVERYONE so why not come along and get invol
 ved?!
LOCATION:Whaplode Drove Churchroom
URL:https://www.achurchnearyou.com/church/14578/service-and-events/events/
 503380/
END:VEVENT
BEGIN:VEVENT
SUMMARY:Morning Worship
DTSTART;TZID=Europe/London:20260621T110000
DTEND;TZID=Europe/London:20260621T120000
DTSTAMP:20260422T074733Z
UID:4134271782036000.0achurchnearyou
CATEGORIES:
DESCRIPTION:Everyone welcome
GEO:-0.04768;52.70305
LOCATION:St John the Baptist\, Whaplode Drove
URL:https://www.achurchnearyou.com/church/14578/service-and-events/events/
 413427/
END:VEVENT
BEGIN:VEVENT
SUMMARY:Family Worship
DTSTART;TZID=Europe/London:20260628T110000
DTEND;TZID=Europe/London:20260628T120000
DTSTAMP:20260422T074733Z
UID:4134381782640800.0achurchnearyou
CATEGORIES:
DESCRIPTION:Relaxed\, informal gathering specifically aimed at a younger a
 udience. Each service has a relevant and interesting theme with readings\,
  songs and activities designed to engage both children and adults. Part of
  the service sees the congregation being split\, with children undertaking
  a relevant activity in the Church\, while the adults have the opportunity
  to gather in the porch for a cup of tea and a discussion of the topics ra
 ised during the service. Everyone welcome\, plenty of tea\, coffee\, squas
 h and biscuits to go around!
GEO:-0.04768;52.70305
LOCATION:St John the Baptist\, Whaplode Drove
URL:https://www.achurchnearyou.com/church/14578/service-and-events/events/
 413438/
END:VEVENT
BEGIN:VEVENT
SUMMARY:Holy Communion
DTSTART;TZID=Europe/London:20260705T110000
DTEND;TZID=Europe/London:20260705T120000
DTSTAMP:20260422T074733Z
UID:4134241783245600.0achurchnearyou
CATEGORIES:
DESCRIPTION:Everyone welcome\; blessings can be given to non-communicants 
 if required instead of receiving Communion.
GEO:-0.04768;52.70305
LOCATION:St John the Baptist\, Whaplode Drove
URL:https://www.achurchnearyou.com/church/14578/service-and-events/events/
 413424/
END:VEVENT
BEGIN:VEVENT
SUMMARY:Messy Church
DTSTART;TZID=Europe/London:20260711T110000
DTEND;TZID=Europe/London:20260711T130000
DTSTAMP:20260422T074733Z
UID:5033801783764000.0achurchnearyou
CATEGORIES:
DESCRIPTION:Join us on the 2nd Saturday of every month between11am-1pm in 
 the Churchroom for children’s crafts\, toys\, activities\, music\, story
  time and much more. It’s a friendly and informal event that everyone is
  welcome to attend for part or all of the session. There’s always hot fo
 od as well as hot and cold drinks\, fresh fruit and cakes provided for all
 . The whole event is FREE FOR EVERYONE so why not come along and get invol
 ved?!
LOCATION:Whaplode Drove Churchroom
URL:https://www.achurchnearyou.com/church/14578/service-and-events/events/
 503380/
END:VEVENT
BEGIN:VEVENT
SUMMARY:Morning Worship
DTSTART;TZID=Europe/London:20260719T110000
DTEND;TZID=Europe/London:20260719T120000
DTSTAMP:20260422T074733Z
UID:4134271784455200.0achurchnearyou
CATEGORIES:
DESCRIPTION:Everyone welcome
GEO:-0.04768;52.70305
LOCATION:St John the Baptist\, Whaplode Drove
URL:https://www.achurchnearyou.com/church/14578/service-and-events/events/
 413427/
END:VEVENT
BEGIN:VEVENT
SUMMARY:Family Worship
DTSTART;TZID=Europe/London:20260726T110000
DTEND;TZID=Europe/London:20260726T120000
DTSTAMP:20260422T074733Z
UID:4134381785060000.0achurchnearyou
CATEGORIES:
DESCRIPTION:Relaxed\, informal gathering specifically aimed at a younger a
 udience. Each service has a relevant and interesting theme with readings\,
  songs and activities designed to engage both children and adults. Part of
  the service sees the congregation being split\, with children undertaking
  a relevant activity in the Church\, while the adults have the opportunity
  to gather in the porch for a cup of tea and a discussion of the topics ra
 ised during the service. Everyone welcome\, plenty of tea\, coffee\, squas
 h and biscuits to go around!
GEO:-0.04768;52.70305
LOCATION:St John the Baptist\, Whaplode Drove
URL:https://www.achurchnearyou.com/church/14578/service-and-events/events/
 413438/
END:VEVENT
BEGIN:VEVENT
SUMMARY:Holy Communion
DTSTART;TZID=Europe/London:20260802T110000
DTEND;TZID=Europe/London:20260802T120000
DTSTAMP:20260422T074733Z
UID:4134241785664800.0achurchnearyou
CATEGORIES:
DESCRIPTION:Everyone welcome\; blessings can be given to non-communicants 
 if required instead of receiving Communion.
GEO:-0.04768;52.70305
LOCATION:St John the Baptist\, Whaplode Drove
URL:https://www.achurchnearyou.com/church/14578/service-and-events/events/
 413424/
END:VEVENT
BEGIN:VEVENT
SUMMARY:Messy Church
DTSTART;TZID=Europe/London:20260808T110000
DTEND;TZID=Europe/London:20260808T130000
DTSTAMP:20260422T074733Z
UID:5033801786183200.0achurchnearyou
CATEGORIES:
DESCRIPTION:Join us on the 2nd Saturday of every month between11am-1pm in 
 the Churchroom for children’s crafts\, toys\, activities\, music\, story
  time and much more. It’s a friendly and informal event that everyone is
  welcome to attend for part or all of the session. There’s always hot fo
 od as well as hot and cold drinks\, fresh fruit and cakes provided for all
 . The whole event is FREE FOR EVERYONE so why not come along and get invol
 ved?!
LOCATION:Whaplode Drove Churchroom
URL:https://www.achurchnearyou.com/church/14578/service-and-events/events/
 503380/
END:VEVENT
BEGIN:VEVENT
SUMMARY:Morning Worship
DTSTART;TZID=Europe/London:20260816T110000
DTEND;TZID=Europe/London:20260816T120000
DTSTAMP:20260422T074733Z
UID:4134271786874400.0achurchnearyou
CATEGORIES:
DESCRIPTION:Everyone welcome
GEO:-0.04768;52.70305
LOCATION:St John the Baptist\, Whaplode Drove
URL:https://www.achurchnearyou.com/church/14578/service-and-events/events/
 413427/
END:VEVENT
BEGIN:VEVENT
SUMMARY:Family Worship
DTSTART;TZID=Europe/London:20260823T110000
DTEND;TZID=Europe/London:20260823T120000
DTSTAMP:20260422T074733Z
UID:4134381787479200.0achurchnearyou
CATEGORIES:
DESCRIPTION:Relaxed\, informal gathering specifically aimed at a younger a
 udience. Each service has a relevant and interesting theme with readings\,
  songs and activities designed to engage both children and adults. Part of
  the service sees the congregation being split\, with children undertaking
  a relevant activity in the Church\, while the adults have the opportunity
  to gather in the porch for a cup of tea and a discussion of the topics ra
 ised during the service. Everyone welcome\, plenty of tea\, coffee\, squas
 h and biscuits to go around!
GEO:-0.04768;52.70305
LOCATION:St John the Baptist\, Whaplode Drove
URL:https://www.achurchnearyou.com/church/14578/service-and-events/events/
 413438/
END:VEVENT
BEGIN:VEVENT
SUMMARY:Holy Communion
DTSTART;TZID=Europe/London:20260906T110000
DTEND;TZID=Europe/London:20260906T120000
DTSTAMP:20260422T074733Z
UID:4134241788688800.0achurchnearyou
CATEGORIES:
DESCRIPTION:Everyone welcome\; blessings can be given to non-communicants 
 if required instead of receiving Communion.
GEO:-0.04768;52.70305
LOCATION:St John the Baptist\, Whaplode Drove
URL:https://www.achurchnearyou.com/church/14578/service-and-events/events/
 413424/
END:VEVENT
BEGIN:VEVENT
SUMMARY:Messy Church
DTSTART;TZID=Europe/London:20260912T110000
DTEND;TZID=Europe/London:20260912T130000
DTSTAMP:20260422T074733Z
UID:5033801789207200.0achurchnearyou
CATEGORIES:
DESCRIPTION:Join us on the 2nd Saturday of every month between11am-1pm in 
 the Churchroom for children’s crafts\, toys\, activities\, music\, story
  time and much more. It’s a friendly and informal event that everyone is
  welcome to attend for part or all of the session. There’s always hot fo
 od as well as hot and cold drinks\, fresh fruit and cakes provided for all
 . The whole event is FREE FOR EVERYONE so why not come along and get invol
 ved?!
LOCATION:Whaplode Drove Churchroom
URL:https://www.achurchnearyou.com/church/14578/service-and-events/events/
 503380/
END:VEVENT
BEGIN:VEVENT
SUMMARY:Morning Worship
DTSTART;TZID=Europe/London:20260920T110000
DTEND;TZID=Europe/London:20260920T120000
DTSTAMP:20260422T074733Z
UID:4134271789898400.0achurchnearyou
CATEGORIES:
DESCRIPTION:Everyone welcome
GEO:-0.04768;52.70305
LOCATION:St John the Baptist\, Whaplode Drove
URL:https://www.achurchnearyou.com/church/14578/service-and-events/events/
 413427/
END:VEVENT
BEGIN:VEVENT
SUMMARY:Family Worship
DTSTART;TZID=Europe/London:20260927T110000
DTEND;TZID=Europe/London:20260927T120000
DTSTAMP:20260422T074733Z
UID:4134381790503200.0achurchnearyou
CATEGORIES:
DESCRIPTION:Relaxed\, informal gathering specifically aimed at a younger a
 udience. Each service has a relevant and interesting theme with readings\,
  songs and activities designed to engage both children and adults. Part of
  the service sees the congregation being split\, with children undertaking
  a relevant activity in the Church\, while the adults have the opportunity
  to gather in the porch for a cup of tea and a discussion of the topics ra
 ised during the service. Everyone welcome\, plenty of tea\, coffee\, squas
 h and biscuits to go around!
GEO:-0.04768;52.70305
LOCATION:St John the Baptist\, Whaplode Drove
URL:https://www.achurchnearyou.com/church/14578/service-and-events/events/
 413438/
END:VEVENT
END:VCALENDAR
