BEGIN:VCALENDAR
VERSION:2.0
PRODID:-//achurchnearyou.com//eventfeed//EN
CALSCALE:GREGORIAN
METHOD:PUBLISH
X-WR-TIMEZONE:UTC
BEGIN:VEVENT
SUMMARY:Drop in for Coffee & Cake
DTSTART;TZID=Europe/London:20260428T083000
DTEND;TZID=Europe/London:20260428T113000
DTSTAMP:20260423T133316Z
UID:5233582026-04-28 08:30:00+01:00achurchnearyou
CATEGORIES:
DESCRIPTION:Come to the church lounge to meet friends old and new and have
  a chat!
GEO:-0.16517;52.78162
LOCATION:St John's\, Spalding
URL:https://www.stjohnsspalding.org/tuesdaycoffeeshopimages.htm
END:VEVENT
BEGIN:VEVENT
SUMMARY:Drop in for Coffee & Cake
DTSTART;TZID=Europe/London:20260505T083000
DTEND;TZID=Europe/London:20260505T113000
DTSTAMP:20260423T133316Z
UID:5233582026-05-05 08:30:00+01:00achurchnearyou
CATEGORIES:
DESCRIPTION:Come to the church lounge to meet friends old and new and have
  a chat!
GEO:-0.16517;52.78162
LOCATION:St John's\, Spalding
URL:https://www.stjohnsspalding.org/tuesdaycoffeeshopimages.htm
END:VEVENT
BEGIN:VEVENT
SUMMARY:Drop in for Coffee & Cake
DTSTART;TZID=Europe/London:20260512T083000
DTEND;TZID=Europe/London:20260512T113000
DTSTAMP:20260423T133316Z
UID:5233582026-05-12 08:30:00+01:00achurchnearyou
CATEGORIES:
DESCRIPTION:Come to the church lounge to meet friends old and new and have
  a chat!
GEO:-0.16517;52.78162
LOCATION:St John's\, Spalding
URL:https://www.stjohnsspalding.org/tuesdaycoffeeshopimages.htm
END:VEVENT
BEGIN:VEVENT
SUMMARY:Drop in for Coffee & Cake
DTSTART;TZID=Europe/London:20260519T083000
DTEND;TZID=Europe/London:20260519T113000
DTSTAMP:20260423T133316Z
UID:5233582026-05-19 08:30:00+01:00achurchnearyou
CATEGORIES:
DESCRIPTION:Come to the church lounge to meet friends old and new and have
  a chat!
GEO:-0.16517;52.78162
LOCATION:St John's\, Spalding
URL:https://www.stjohnsspalding.org/tuesdaycoffeeshopimages.htm
END:VEVENT
BEGIN:VEVENT
SUMMARY:Drop in for Coffee & Cake
DTSTART;TZID=Europe/London:20260526T083000
DTEND;TZID=Europe/London:20260526T113000
DTSTAMP:20260423T133316Z
UID:5233582026-05-26 08:30:00+01:00achurchnearyou
CATEGORIES:
DESCRIPTION:Come to the church lounge to meet friends old and new and have
  a chat!
GEO:-0.16517;52.78162
LOCATION:St John's\, Spalding
URL:https://www.stjohnsspalding.org/tuesdaycoffeeshopimages.htm
END:VEVENT
BEGIN:VEVENT
SUMMARY:Drop in for Coffee & Cake
DTSTART;TZID=Europe/London:20260602T083000
DTEND;TZID=Europe/London:20260602T113000
DTSTAMP:20260423T133316Z
UID:5233582026-06-02 08:30:00+01:00achurchnearyou
CATEGORIES:
DESCRIPTION:Come to the church lounge to meet friends old and new and have
  a chat!
GEO:-0.16517;52.78162
LOCATION:St John's\, Spalding
URL:https://www.stjohnsspalding.org/tuesdaycoffeeshopimages.htm
END:VEVENT
BEGIN:VEVENT
SUMMARY:Drop in for Coffee & Cake
DTSTART;TZID=Europe/London:20260609T083000
DTEND;TZID=Europe/London:20260609T113000
DTSTAMP:20260423T133316Z
UID:5233582026-06-09 08:30:00+01:00achurchnearyou
CATEGORIES:
DESCRIPTION:Come to the church lounge to meet friends old and new and have
  a chat!
GEO:-0.16517;52.78162
LOCATION:St John's\, Spalding
URL:https://www.stjohnsspalding.org/tuesdaycoffeeshopimages.htm
END:VEVENT
BEGIN:VEVENT
SUMMARY:Drop in for Coffee & Cake
DTSTART;TZID=Europe/London:20260616T083000
DTEND;TZID=Europe/London:20260616T113000
DTSTAMP:20260423T133316Z
UID:5233582026-06-16 08:30:00+01:00achurchnearyou
CATEGORIES:
DESCRIPTION:Come to the church lounge to meet friends old and new and have
  a chat!
GEO:-0.16517;52.78162
LOCATION:St John's\, Spalding
URL:https://www.stjohnsspalding.org/tuesdaycoffeeshopimages.htm
END:VEVENT
BEGIN:VEVENT
SUMMARY:Drop in for Coffee & Cake
DTSTART;TZID=Europe/London:20260623T083000
DTEND;TZID=Europe/London:20260623T113000
DTSTAMP:20260423T133316Z
UID:5233582026-06-23 08:30:00+01:00achurchnearyou
CATEGORIES:
DESCRIPTION:Come to the church lounge to meet friends old and new and have
  a chat!
GEO:-0.16517;52.78162
LOCATION:St John's\, Spalding
URL:https://www.stjohnsspalding.org/tuesdaycoffeeshopimages.htm
END:VEVENT
BEGIN:VEVENT
SUMMARY:Drop in for Coffee & Cake
DTSTART;TZID=Europe/London:20260630T083000
DTEND;TZID=Europe/London:20260630T113000
DTSTAMP:20260423T133316Z
UID:5233582026-06-30 08:30:00+01:00achurchnearyou
CATEGORIES:
DESCRIPTION:Come to the church lounge to meet friends old and new and have
  a chat!
GEO:-0.16517;52.78162
LOCATION:St John's\, Spalding
URL:https://www.stjohnsspalding.org/tuesdaycoffeeshopimages.htm
END:VEVENT
BEGIN:VEVENT
SUMMARY:Drop in for Coffee & Cake
DTSTART;TZID=Europe/London:20260707T083000
DTEND;TZID=Europe/London:20260707T113000
DTSTAMP:20260423T133316Z
UID:5233582026-07-07 08:30:00+01:00achurchnearyou
CATEGORIES:
DESCRIPTION:Come to the church lounge to meet friends old and new and have
  a chat!
GEO:-0.16517;52.78162
LOCATION:St John's\, Spalding
URL:https://www.stjohnsspalding.org/tuesdaycoffeeshopimages.htm
END:VEVENT
BEGIN:VEVENT
SUMMARY:Drop in for Coffee & Cake
DTSTART;TZID=Europe/London:20260714T083000
DTEND;TZID=Europe/London:20260714T113000
DTSTAMP:20260423T133316Z
UID:5233582026-07-14 08:30:00+01:00achurchnearyou
CATEGORIES:
DESCRIPTION:Come to the church lounge to meet friends old and new and have
  a chat!
GEO:-0.16517;52.78162
LOCATION:St John's\, Spalding
URL:https://www.stjohnsspalding.org/tuesdaycoffeeshopimages.htm
END:VEVENT
BEGIN:VEVENT
SUMMARY:Drop in for Coffee & Cake
DTSTART;TZID=Europe/London:20260721T083000
DTEND;TZID=Europe/London:20260721T113000
DTSTAMP:20260423T133316Z
UID:5233582026-07-21 08:30:00+01:00achurchnearyou
CATEGORIES:
DESCRIPTION:Come to the church lounge to meet friends old and new and have
  a chat!
GEO:-0.16517;52.78162
LOCATION:St John's\, Spalding
URL:https://www.stjohnsspalding.org/tuesdaycoffeeshopimages.htm
END:VEVENT
BEGIN:VEVENT
SUMMARY:Drop in for Coffee & Cake
DTSTART;TZID=Europe/London:20260728T083000
DTEND;TZID=Europe/London:20260728T113000
DTSTAMP:20260423T133316Z
UID:5233582026-07-28 08:30:00+01:00achurchnearyou
CATEGORIES:
DESCRIPTION:Come to the church lounge to meet friends old and new and have
  a chat!
GEO:-0.16517;52.78162
LOCATION:St John's\, Spalding
URL:https://www.stjohnsspalding.org/tuesdaycoffeeshopimages.htm
END:VEVENT
BEGIN:VEVENT
SUMMARY:Drop in for Coffee & Cake
DTSTART;TZID=Europe/London:20260804T083000
DTEND;TZID=Europe/London:20260804T113000
DTSTAMP:20260423T133316Z
UID:5233582026-08-04 08:30:00+01:00achurchnearyou
CATEGORIES:
DESCRIPTION:Come to the church lounge to meet friends old and new and have
  a chat!
GEO:-0.16517;52.78162
LOCATION:St John's\, Spalding
URL:https://www.stjohnsspalding.org/tuesdaycoffeeshopimages.htm
END:VEVENT
BEGIN:VEVENT
SUMMARY:Drop in for Coffee & Cake
DTSTART;TZID=Europe/London:20260811T083000
DTEND;TZID=Europe/London:20260811T113000
DTSTAMP:20260423T133316Z
UID:5233582026-08-11 08:30:00+01:00achurchnearyou
CATEGORIES:
DESCRIPTION:Come to the church lounge to meet friends old and new and have
  a chat!
GEO:-0.16517;52.78162
LOCATION:St John's\, Spalding
URL:https://www.stjohnsspalding.org/tuesdaycoffeeshopimages.htm
END:VEVENT
BEGIN:VEVENT
SUMMARY:Drop in for Coffee & Cake
DTSTART;TZID=Europe/London:20260818T083000
DTEND;TZID=Europe/London:20260818T113000
DTSTAMP:20260423T133316Z
UID:5233582026-08-18 08:30:00+01:00achurchnearyou
CATEGORIES:
DESCRIPTION:Come to the church lounge to meet friends old and new and have
  a chat!
GEO:-0.16517;52.78162
LOCATION:St John's\, Spalding
URL:https://www.stjohnsspalding.org/tuesdaycoffeeshopimages.htm
END:VEVENT
BEGIN:VEVENT
SUMMARY:Drop in for Coffee & Cake
DTSTART;TZID=Europe/London:20260825T083000
DTEND;TZID=Europe/London:20260825T113000
DTSTAMP:20260423T133316Z
UID:5233582026-08-25 08:30:00+01:00achurchnearyou
CATEGORIES:
DESCRIPTION:Come to the church lounge to meet friends old and new and have
  a chat!
GEO:-0.16517;52.78162
LOCATION:St John's\, Spalding
URL:https://www.stjohnsspalding.org/tuesdaycoffeeshopimages.htm
END:VEVENT
BEGIN:VEVENT
SUMMARY:Drop in for Coffee & Cake
DTSTART;TZID=Europe/London:20260901T083000
DTEND;TZID=Europe/London:20260901T113000
DTSTAMP:20260423T133316Z
UID:5233582026-09-01 08:30:00+01:00achurchnearyou
CATEGORIES:
DESCRIPTION:Come to the church lounge to meet friends old and new and have
  a chat!
GEO:-0.16517;52.78162
LOCATION:St John's\, Spalding
URL:https://www.stjohnsspalding.org/tuesdaycoffeeshopimages.htm
END:VEVENT
BEGIN:VEVENT
SUMMARY:Drop in for Coffee & Cake
DTSTART;TZID=Europe/London:20260908T083000
DTEND;TZID=Europe/London:20260908T113000
DTSTAMP:20260423T133316Z
UID:5233582026-09-08 08:30:00+01:00achurchnearyou
CATEGORIES:
DESCRIPTION:Come to the church lounge to meet friends old and new and have
  a chat!
GEO:-0.16517;52.78162
LOCATION:St John's\, Spalding
URL:https://www.stjohnsspalding.org/tuesdaycoffeeshopimages.htm
END:VEVENT
BEGIN:VEVENT
SUMMARY:Drop in for Coffee & Cake
DTSTART;TZID=Europe/London:20260915T083000
DTEND;TZID=Europe/London:20260915T113000
DTSTAMP:20260423T133316Z
UID:5233582026-09-15 08:30:00+01:00achurchnearyou
CATEGORIES:
DESCRIPTION:Come to the church lounge to meet friends old and new and have
  a chat!
GEO:-0.16517;52.78162
LOCATION:St John's\, Spalding
URL:https://www.stjohnsspalding.org/tuesdaycoffeeshopimages.htm
END:VEVENT
BEGIN:VEVENT
SUMMARY:Drop in for Coffee & Cake
DTSTART;TZID=Europe/London:20260922T083000
DTEND;TZID=Europe/London:20260922T113000
DTSTAMP:20260423T133316Z
UID:5233582026-09-22 08:30:00+01:00achurchnearyou
CATEGORIES:
DESCRIPTION:Come to the church lounge to meet friends old and new and have
  a chat!
GEO:-0.16517;52.78162
LOCATION:St John's\, Spalding
URL:https://www.stjohnsspalding.org/tuesdaycoffeeshopimages.htm
END:VEVENT
BEGIN:VEVENT
SUMMARY:Drop in for Coffee & Cake
DTSTART;TZID=Europe/London:20260929T083000
DTEND;TZID=Europe/London:20260929T113000
DTSTAMP:20260423T133316Z
UID:5233582026-09-29 08:30:00+01:00achurchnearyou
CATEGORIES:
DESCRIPTION:Come to the church lounge to meet friends old and new and have
  a chat!
GEO:-0.16517;52.78162
LOCATION:St John's\, Spalding
URL:https://www.stjohnsspalding.org/tuesdaycoffeeshopimages.htm
END:VEVENT
BEGIN:VEVENT
SUMMARY:Drop in for Coffee & Cake
DTSTART;TZID=Europe/London:20261006T083000
DTEND;TZID=Europe/London:20261006T113000
DTSTAMP:20260423T133316Z
UID:5233582026-10-06 08:30:00+01:00achurchnearyou
CATEGORIES:
DESCRIPTION:Come to the church lounge to meet friends old and new and have
  a chat!
GEO:-0.16517;52.78162
LOCATION:St John's\, Spalding
URL:https://www.stjohnsspalding.org/tuesdaycoffeeshopimages.htm
END:VEVENT
BEGIN:VEVENT
SUMMARY:Drop in for Coffee & Cake
DTSTART;TZID=Europe/London:20261013T083000
DTEND;TZID=Europe/London:20261013T113000
DTSTAMP:20260423T133316Z
UID:5233582026-10-13 08:30:00+01:00achurchnearyou
CATEGORIES:
DESCRIPTION:Come to the church lounge to meet friends old and new and have
  a chat!
GEO:-0.16517;52.78162
LOCATION:St John's\, Spalding
URL:https://www.stjohnsspalding.org/tuesdaycoffeeshopimages.htm
END:VEVENT
BEGIN:VEVENT
SUMMARY:Drop in for Coffee & Cake
DTSTART;TZID=Europe/London:20261020T083000
DTEND;TZID=Europe/London:20261020T113000
DTSTAMP:20260423T133316Z
UID:5233582026-10-20 08:30:00+01:00achurchnearyou
CATEGORIES:
DESCRIPTION:Come to the church lounge to meet friends old and new and have
  a chat!
GEO:-0.16517;52.78162
LOCATION:St John's\, Spalding
URL:https://www.stjohnsspalding.org/tuesdaycoffeeshopimages.htm
END:VEVENT
BEGIN:VEVENT
SUMMARY:Drop in for Coffee & Cake
DTSTART;TZID=Europe/London:20261027T083000
DTEND;TZID=Europe/London:20261027T113000
DTSTAMP:20260423T133316Z
UID:5233582026-10-27 08:30:00+00:00achurchnearyou
CATEGORIES:
DESCRIPTION:Come to the church lounge to meet friends old and new and have
  a chat!
GEO:-0.16517;52.78162
LOCATION:St John's\, Spalding
URL:https://www.stjohnsspalding.org/tuesdaycoffeeshopimages.htm
END:VEVENT
BEGIN:VEVENT
SUMMARY:Drop in for Coffee & Cake
DTSTART;TZID=Europe/London:20261103T083000
DTEND;TZID=Europe/London:20261103T113000
DTSTAMP:20260423T133316Z
UID:5233582026-11-03 08:30:00+00:00achurchnearyou
CATEGORIES:
DESCRIPTION:Come to the church lounge to meet friends old and new and have
  a chat!
GEO:-0.16517;52.78162
LOCATION:St John's\, Spalding
URL:https://www.stjohnsspalding.org/tuesdaycoffeeshopimages.htm
END:VEVENT
BEGIN:VEVENT
SUMMARY:Drop in for Coffee & Cake
DTSTART;TZID=Europe/London:20261110T083000
DTEND;TZID=Europe/London:20261110T113000
DTSTAMP:20260423T133316Z
UID:5233582026-11-10 08:30:00+00:00achurchnearyou
CATEGORIES:
DESCRIPTION:Come to the church lounge to meet friends old and new and have
  a chat!
GEO:-0.16517;52.78162
LOCATION:St John's\, Spalding
URL:https://www.stjohnsspalding.org/tuesdaycoffeeshopimages.htm
END:VEVENT
BEGIN:VEVENT
SUMMARY:Drop in for Coffee & Cake
DTSTART;TZID=Europe/London:20261117T083000
DTEND;TZID=Europe/London:20261117T113000
DTSTAMP:20260423T133316Z
UID:5233582026-11-17 08:30:00+00:00achurchnearyou
CATEGORIES:
DESCRIPTION:Come to the church lounge to meet friends old and new and have
  a chat!
GEO:-0.16517;52.78162
LOCATION:St John's\, Spalding
URL:https://www.stjohnsspalding.org/tuesdaycoffeeshopimages.htm
END:VEVENT
BEGIN:VEVENT
SUMMARY:Drop in for Coffee & Cake
DTSTART;TZID=Europe/London:20261124T083000
DTEND;TZID=Europe/London:20261124T113000
DTSTAMP:20260423T133316Z
UID:5233582026-11-24 08:30:00+00:00achurchnearyou
CATEGORIES:
DESCRIPTION:Come to the church lounge to meet friends old and new and have
  a chat!
GEO:-0.16517;52.78162
LOCATION:St John's\, Spalding
URL:https://www.stjohnsspalding.org/tuesdaycoffeeshopimages.htm
END:VEVENT
BEGIN:VEVENT
SUMMARY:Drop in for Coffee & Cake
DTSTART;TZID=Europe/London:20261201T083000
DTEND;TZID=Europe/London:20261201T113000
DTSTAMP:20260423T133316Z
UID:5233582026-12-01 08:30:00+00:00achurchnearyou
CATEGORIES:
DESCRIPTION:Come to the church lounge to meet friends old and new and have
  a chat!
GEO:-0.16517;52.78162
LOCATION:St John's\, Spalding
URL:https://www.stjohnsspalding.org/tuesdaycoffeeshopimages.htm
END:VEVENT
BEGIN:VEVENT
SUMMARY:Drop in for Coffee & Cake
DTSTART;TZID=Europe/London:20261208T083000
DTEND;TZID=Europe/London:20261208T113000
DTSTAMP:20260423T133316Z
UID:5233582026-12-08 08:30:00+00:00achurchnearyou
CATEGORIES:
DESCRIPTION:Come to the church lounge to meet friends old and new and have
  a chat!
GEO:-0.16517;52.78162
LOCATION:St John's\, Spalding
URL:https://www.stjohnsspalding.org/tuesdaycoffeeshopimages.htm
END:VEVENT
BEGIN:VEVENT
SUMMARY:Drop in for Coffee & Cake
DTSTART;TZID=Europe/London:20261215T083000
DTEND;TZID=Europe/London:20261215T113000
DTSTAMP:20260423T133316Z
UID:5233582026-12-15 08:30:00+00:00achurchnearyou
CATEGORIES:
DESCRIPTION:Come to the church lounge to meet friends old and new and have
  a chat!
GEO:-0.16517;52.78162
LOCATION:St John's\, Spalding
URL:https://www.stjohnsspalding.org/tuesdaycoffeeshopimages.htm
END:VEVENT
BEGIN:VEVENT
SUMMARY:Drop in for Coffee & Cake
DTSTART;TZID=Europe/London:20261222T083000
DTEND;TZID=Europe/London:20261222T113000
DTSTAMP:20260423T133316Z
UID:5233582026-12-22 08:30:00+00:00achurchnearyou
CATEGORIES:
DESCRIPTION:Come to the church lounge to meet friends old and new and have
  a chat!
GEO:-0.16517;52.78162
LOCATION:St John's\, Spalding
URL:https://www.stjohnsspalding.org/tuesdaycoffeeshopimages.htm
END:VEVENT
BEGIN:VEVENT
SUMMARY:Drop in for Coffee & Cake
DTSTART;TZID=Europe/London:20261229T083000
DTEND;TZID=Europe/London:20261229T113000
DTSTAMP:20260423T133316Z
UID:5233582026-12-29 08:30:00+00:00achurchnearyou
CATEGORIES:
DESCRIPTION:Come to the church lounge to meet friends old and new and have
  a chat!
GEO:-0.16517;52.78162
LOCATION:St John's\, Spalding
URL:https://www.stjohnsspalding.org/tuesdaycoffeeshopimages.htm
END:VEVENT
BEGIN:VEVENT
SUMMARY:Drop in for Coffee & Cake
DTSTART;TZID=Europe/London:20270105T083000
DTEND;TZID=Europe/London:20270105T113000
DTSTAMP:20260423T133316Z
UID:5233582027-01-05 08:30:00+00:00achurchnearyou
CATEGORIES:
DESCRIPTION:Come to the church lounge to meet friends old and new and have
  a chat!
GEO:-0.16517;52.78162
LOCATION:St John's\, Spalding
URL:https://www.stjohnsspalding.org/tuesdaycoffeeshopimages.htm
END:VEVENT
BEGIN:VEVENT
SUMMARY:Drop in for Coffee & Cake
DTSTART;TZID=Europe/London:20270112T083000
DTEND;TZID=Europe/London:20270112T113000
DTSTAMP:20260423T133316Z
UID:5233582027-01-12 08:30:00+00:00achurchnearyou
CATEGORIES:
DESCRIPTION:Come to the church lounge to meet friends old and new and have
  a chat!
GEO:-0.16517;52.78162
LOCATION:St John's\, Spalding
URL:https://www.stjohnsspalding.org/tuesdaycoffeeshopimages.htm
END:VEVENT
BEGIN:VEVENT
SUMMARY:Drop in for Coffee & Cake
DTSTART;TZID=Europe/London:20270119T083000
DTEND;TZID=Europe/London:20270119T113000
DTSTAMP:20260423T133316Z
UID:5233582027-01-19 08:30:00+00:00achurchnearyou
CATEGORIES:
DESCRIPTION:Come to the church lounge to meet friends old and new and have
  a chat!
GEO:-0.16517;52.78162
LOCATION:St John's\, Spalding
URL:https://www.stjohnsspalding.org/tuesdaycoffeeshopimages.htm
END:VEVENT
BEGIN:VEVENT
SUMMARY:Drop in for Coffee & Cake
DTSTART;TZID=Europe/London:20270126T083000
DTEND;TZID=Europe/London:20270126T113000
DTSTAMP:20260423T133316Z
UID:5233582027-01-26 08:30:00+00:00achurchnearyou
CATEGORIES:
DESCRIPTION:Come to the church lounge to meet friends old and new and have
  a chat!
GEO:-0.16517;52.78162
LOCATION:St John's\, Spalding
URL:https://www.stjohnsspalding.org/tuesdaycoffeeshopimages.htm
END:VEVENT
BEGIN:VEVENT
SUMMARY:Drop in for Coffee & Cake
DTSTART;TZID=Europe/London:20270202T083000
DTEND;TZID=Europe/London:20270202T113000
DTSTAMP:20260423T133316Z
UID:5233582027-02-02 08:30:00+00:00achurchnearyou
CATEGORIES:
DESCRIPTION:Come to the church lounge to meet friends old and new and have
  a chat!
GEO:-0.16517;52.78162
LOCATION:St John's\, Spalding
URL:https://www.stjohnsspalding.org/tuesdaycoffeeshopimages.htm
END:VEVENT
BEGIN:VEVENT
SUMMARY:Drop in for Coffee & Cake
DTSTART;TZID=Europe/London:20270209T083000
DTEND;TZID=Europe/London:20270209T113000
DTSTAMP:20260423T133316Z
UID:5233582027-02-09 08:30:00+00:00achurchnearyou
CATEGORIES:
DESCRIPTION:Come to the church lounge to meet friends old and new and have
  a chat!
GEO:-0.16517;52.78162
LOCATION:St John's\, Spalding
URL:https://www.stjohnsspalding.org/tuesdaycoffeeshopimages.htm
END:VEVENT
BEGIN:VEVENT
SUMMARY:Drop in for Coffee & Cake
DTSTART;TZID=Europe/London:20270216T083000
DTEND;TZID=Europe/London:20270216T113000
DTSTAMP:20260423T133316Z
UID:5233582027-02-16 08:30:00+00:00achurchnearyou
CATEGORIES:
DESCRIPTION:Come to the church lounge to meet friends old and new and have
  a chat!
GEO:-0.16517;52.78162
LOCATION:St John's\, Spalding
URL:https://www.stjohnsspalding.org/tuesdaycoffeeshopimages.htm
END:VEVENT
BEGIN:VEVENT
SUMMARY:Drop in for Coffee & Cake
DTSTART;TZID=Europe/London:20270223T083000
DTEND;TZID=Europe/London:20270223T113000
DTSTAMP:20260423T133316Z
UID:5233582027-02-23 08:30:00+00:00achurchnearyou
CATEGORIES:
DESCRIPTION:Come to the church lounge to meet friends old and new and have
  a chat!
GEO:-0.16517;52.78162
LOCATION:St John's\, Spalding
URL:https://www.stjohnsspalding.org/tuesdaycoffeeshopimages.htm
END:VEVENT
BEGIN:VEVENT
SUMMARY:Drop in for Coffee & Cake
DTSTART;TZID=Europe/London:20270302T083000
DTEND;TZID=Europe/London:20270302T113000
DTSTAMP:20260423T133316Z
UID:5233582027-03-02 08:30:00+00:00achurchnearyou
CATEGORIES:
DESCRIPTION:Come to the church lounge to meet friends old and new and have
  a chat!
GEO:-0.16517;52.78162
LOCATION:St John's\, Spalding
URL:https://www.stjohnsspalding.org/tuesdaycoffeeshopimages.htm
END:VEVENT
BEGIN:VEVENT
SUMMARY:Drop in for Coffee & Cake
DTSTART;TZID=Europe/London:20270309T083000
DTEND;TZID=Europe/London:20270309T113000
DTSTAMP:20260423T133316Z
UID:5233582027-03-09 08:30:00+00:00achurchnearyou
CATEGORIES:
DESCRIPTION:Come to the church lounge to meet friends old and new and have
  a chat!
GEO:-0.16517;52.78162
LOCATION:St John's\, Spalding
URL:https://www.stjohnsspalding.org/tuesdaycoffeeshopimages.htm
END:VEVENT
BEGIN:VEVENT
SUMMARY:Drop in for Coffee & Cake
DTSTART;TZID=Europe/London:20270316T083000
DTEND;TZID=Europe/London:20270316T113000
DTSTAMP:20260423T133316Z
UID:5233582027-03-16 08:30:00+00:00achurchnearyou
CATEGORIES:
DESCRIPTION:Come to the church lounge to meet friends old and new and have
  a chat!
GEO:-0.16517;52.78162
LOCATION:St John's\, Spalding
URL:https://www.stjohnsspalding.org/tuesdaycoffeeshopimages.htm
END:VEVENT
BEGIN:VEVENT
SUMMARY:Drop in for Coffee & Cake
DTSTART;TZID=Europe/London:20270323T083000
DTEND;TZID=Europe/London:20270323T113000
DTSTAMP:20260423T133316Z
UID:5233582027-03-23 08:30:00+00:00achurchnearyou
CATEGORIES:
DESCRIPTION:Come to the church lounge to meet friends old and new and have
  a chat!
GEO:-0.16517;52.78162
LOCATION:St John's\, Spalding
URL:https://www.stjohnsspalding.org/tuesdaycoffeeshopimages.htm
END:VEVENT
BEGIN:VEVENT
SUMMARY:Drop in for Coffee & Cake
DTSTART;TZID=Europe/London:20270330T083000
DTEND;TZID=Europe/London:20270330T113000
DTSTAMP:20260423T133316Z
UID:5233582027-03-30 08:30:00+01:00achurchnearyou
CATEGORIES:
DESCRIPTION:Come to the church lounge to meet friends old and new and have
  a chat!
GEO:-0.16517;52.78162
LOCATION:St John's\, Spalding
URL:https://www.stjohnsspalding.org/tuesdaycoffeeshopimages.htm
END:VEVENT
BEGIN:VEVENT
SUMMARY:Drop in for Coffee & Cake
DTSTART;TZID=Europe/London:20270406T083000
DTEND;TZID=Europe/London:20270406T113000
DTSTAMP:20260423T133316Z
UID:5233582027-04-06 08:30:00+01:00achurchnearyou
CATEGORIES:
DESCRIPTION:Come to the church lounge to meet friends old and new and have
  a chat!
GEO:-0.16517;52.78162
LOCATION:St John's\, Spalding
URL:https://www.stjohnsspalding.org/tuesdaycoffeeshopimages.htm
END:VEVENT
BEGIN:VEVENT
SUMMARY:Drop in for Coffee & Cake
DTSTART;TZID=Europe/London:20270413T083000
DTEND;TZID=Europe/London:20270413T113000
DTSTAMP:20260423T133316Z
UID:5233582027-04-13 08:30:00+01:00achurchnearyou
CATEGORIES:
DESCRIPTION:Come to the church lounge to meet friends old and new and have
  a chat!
GEO:-0.16517;52.78162
LOCATION:St John's\, Spalding
URL:https://www.stjohnsspalding.org/tuesdaycoffeeshopimages.htm
END:VEVENT
BEGIN:VEVENT
SUMMARY:Drop in for Coffee & Cake
DTSTART;TZID=Europe/London:20270420T083000
DTEND;TZID=Europe/London:20270420T113000
DTSTAMP:20260423T133316Z
UID:5233582027-04-20 08:30:00+01:00achurchnearyou
CATEGORIES:
DESCRIPTION:Come to the church lounge to meet friends old and new and have
  a chat!
GEO:-0.16517;52.78162
LOCATION:St John's\, Spalding
URL:https://www.stjohnsspalding.org/tuesdaycoffeeshopimages.htm
END:VEVENT
END:VCALENDAR
