BEGIN:VCALENDAR
VERSION:2.0
PRODID:-//achurchnearyou.com//eventfeed//EN
CALSCALE:GREGORIAN
METHOD:PUBLISH
X-WR-TIMEZONE:UTC
BEGIN:VEVENT
SUMMARY:Evening Worship
DTSTART;TZID=Europe/London:20220220T160000
DTEND;TZID=Europe/London:20220220T164500
DTSTAMP:20260422T021807Z
UID:4614612022-02-20 16:00:00+00:00achurchnearyou
CATEGORIES:
DESCRIPTION:A quiet end to the day
GEO:-0.69067;53.19476
LOCATION:All Saints
URL:https://www.achurchnearyou.com/church/14605/service-and-events/events/
 461461/
END:VEVENT
BEGIN:VEVENT
SUMMARY:Evening Worship
DTSTART;TZID=Europe/London:20220320T160000
DTEND;TZID=Europe/London:20220320T164500
DTSTAMP:20260422T021807Z
UID:4614612022-03-20 16:00:00+00:00achurchnearyou
CATEGORIES:
DESCRIPTION:A quiet end to the day
GEO:-0.69067;53.19476
LOCATION:All Saints
URL:https://www.achurchnearyou.com/church/14605/service-and-events/events/
 461461/
END:VEVENT
BEGIN:VEVENT
SUMMARY:Evening Worship
DTSTART;TZID=Europe/London:20220417T160000
DTEND;TZID=Europe/London:20220417T164500
DTSTAMP:20260422T021807Z
UID:4614612022-04-17 16:00:00+01:00achurchnearyou
CATEGORIES:
DESCRIPTION:A quiet end to the day
GEO:-0.69067;53.19476
LOCATION:All Saints
URL:https://www.achurchnearyou.com/church/14605/service-and-events/events/
 461461/
END:VEVENT
BEGIN:VEVENT
SUMMARY:Evening Worship
DTSTART;TZID=Europe/London:20220515T160000
DTEND;TZID=Europe/London:20220515T164500
DTSTAMP:20260422T021807Z
UID:4614612022-05-15 16:00:00+01:00achurchnearyou
CATEGORIES:
DESCRIPTION:A quiet end to the day
GEO:-0.69067;53.19476
LOCATION:All Saints
URL:https://www.achurchnearyou.com/church/14605/service-and-events/events/
 461461/
END:VEVENT
BEGIN:VEVENT
SUMMARY:Evening Worship
DTSTART;TZID=Europe/London:20220619T160000
DTEND;TZID=Europe/London:20220619T164500
DTSTAMP:20260422T021807Z
UID:4614612022-06-19 16:00:00+01:00achurchnearyou
CATEGORIES:
DESCRIPTION:A quiet end to the day
GEO:-0.69067;53.19476
LOCATION:All Saints
URL:https://www.achurchnearyou.com/church/14605/service-and-events/events/
 461461/
END:VEVENT
BEGIN:VEVENT
SUMMARY:Evening Worship
DTSTART;TZID=Europe/London:20220717T160000
DTEND;TZID=Europe/London:20220717T164500
DTSTAMP:20260422T021807Z
UID:4614612022-07-17 16:00:00+01:00achurchnearyou
CATEGORIES:
DESCRIPTION:A quiet end to the day
GEO:-0.69067;53.19476
LOCATION:All Saints
URL:https://www.achurchnearyou.com/church/14605/service-and-events/events/
 461461/
END:VEVENT
BEGIN:VEVENT
SUMMARY:Evening Worship
DTSTART;TZID=Europe/London:20220821T160000
DTEND;TZID=Europe/London:20220821T164500
DTSTAMP:20260422T021807Z
UID:4614612022-08-21 16:00:00+01:00achurchnearyou
CATEGORIES:
DESCRIPTION:A quiet end to the day
GEO:-0.69067;53.19476
LOCATION:All Saints
URL:https://www.achurchnearyou.com/church/14605/service-and-events/events/
 461461/
END:VEVENT
BEGIN:VEVENT
SUMMARY:Evening Worship
DTSTART;TZID=Europe/London:20220918T160000
DTEND;TZID=Europe/London:20220918T164500
DTSTAMP:20260422T021807Z
UID:4614612022-09-18 16:00:00+01:00achurchnearyou
CATEGORIES:
DESCRIPTION:A quiet end to the day
GEO:-0.69067;53.19476
LOCATION:All Saints
URL:https://www.achurchnearyou.com/church/14605/service-and-events/events/
 461461/
END:VEVENT
BEGIN:VEVENT
SUMMARY:Evening Worship
DTSTART;TZID=Europe/London:20221016T160000
DTEND;TZID=Europe/London:20221016T164500
DTSTAMP:20260422T021807Z
UID:4614612022-10-16 16:00:00+01:00achurchnearyou
CATEGORIES:
DESCRIPTION:A quiet end to the day
GEO:-0.69067;53.19476
LOCATION:All Saints
URL:https://www.achurchnearyou.com/church/14605/service-and-events/events/
 461461/
END:VEVENT
BEGIN:VEVENT
SUMMARY:Evening Worship
DTSTART;TZID=Europe/London:20221120T160000
DTEND;TZID=Europe/London:20221120T164500
DTSTAMP:20260422T021807Z
UID:4614612022-11-20 16:00:00+00:00achurchnearyou
CATEGORIES:
DESCRIPTION:A quiet end to the day
GEO:-0.69067;53.19476
LOCATION:All Saints
URL:https://www.achurchnearyou.com/church/14605/service-and-events/events/
 461461/
END:VEVENT
BEGIN:VEVENT
SUMMARY:Evening Worship
DTSTART;TZID=Europe/London:20221218T160000
DTEND;TZID=Europe/London:20221218T164500
DTSTAMP:20260422T021807Z
UID:4614612022-12-18 16:00:00+00:00achurchnearyou
CATEGORIES:
DESCRIPTION:A quiet end to the day
GEO:-0.69067;53.19476
LOCATION:All Saints
URL:https://www.achurchnearyou.com/church/14605/service-and-events/events/
 461461/
END:VEVENT
BEGIN:VEVENT
SUMMARY:Evening Worship
DTSTART;TZID=Europe/London:20230115T160000
DTEND;TZID=Europe/London:20230115T164500
DTSTAMP:20260422T021807Z
UID:4614612023-01-15 16:00:00+00:00achurchnearyou
CATEGORIES:
DESCRIPTION:A quiet end to the day
GEO:-0.69067;53.19476
LOCATION:All Saints
URL:https://www.achurchnearyou.com/church/14605/service-and-events/events/
 461461/
END:VEVENT
BEGIN:VEVENT
SUMMARY:Evening Worship
DTSTART;TZID=Europe/London:20230219T160000
DTEND;TZID=Europe/London:20230219T164500
DTSTAMP:20260422T021807Z
UID:4614612023-02-19 16:00:00+00:00achurchnearyou
CATEGORIES:
DESCRIPTION:A quiet end to the day
GEO:-0.69067;53.19476
LOCATION:All Saints
URL:https://www.achurchnearyou.com/church/14605/service-and-events/events/
 461461/
END:VEVENT
BEGIN:VEVENT
SUMMARY:Evening Worship
DTSTART;TZID=Europe/London:20230319T160000
DTEND;TZID=Europe/London:20230319T164500
DTSTAMP:20260422T021807Z
UID:4614612023-03-19 16:00:00+00:00achurchnearyou
CATEGORIES:
DESCRIPTION:A quiet end to the day
GEO:-0.69067;53.19476
LOCATION:All Saints
URL:https://www.achurchnearyou.com/church/14605/service-and-events/events/
 461461/
END:VEVENT
BEGIN:VEVENT
SUMMARY:Evening Worship
DTSTART;TZID=Europe/London:20230416T160000
DTEND;TZID=Europe/London:20230416T164500
DTSTAMP:20260422T021807Z
UID:4614612023-04-16 16:00:00+01:00achurchnearyou
CATEGORIES:
DESCRIPTION:A quiet end to the day
GEO:-0.69067;53.19476
LOCATION:All Saints
URL:https://www.achurchnearyou.com/church/14605/service-and-events/events/
 461461/
END:VEVENT
BEGIN:VEVENT
SUMMARY:Evening Worship
DTSTART;TZID=Europe/London:20230521T160000
DTEND;TZID=Europe/London:20230521T164500
DTSTAMP:20260422T021807Z
UID:4614612023-05-21 16:00:00+01:00achurchnearyou
CATEGORIES:
DESCRIPTION:A quiet end to the day
GEO:-0.69067;53.19476
LOCATION:All Saints
URL:https://www.achurchnearyou.com/church/14605/service-and-events/events/
 461461/
END:VEVENT
BEGIN:VEVENT
SUMMARY:Evening Worship
DTSTART;TZID=Europe/London:20230618T160000
DTEND;TZID=Europe/London:20230618T164500
DTSTAMP:20260422T021807Z
UID:4614612023-06-18 16:00:00+01:00achurchnearyou
CATEGORIES:
DESCRIPTION:A quiet end to the day
GEO:-0.69067;53.19476
LOCATION:All Saints
URL:https://www.achurchnearyou.com/church/14605/service-and-events/events/
 461461/
END:VEVENT
BEGIN:VEVENT
SUMMARY:Evening Worship
DTSTART;TZID=Europe/London:20230716T160000
DTEND;TZID=Europe/London:20230716T164500
DTSTAMP:20260422T021807Z
UID:4614612023-07-16 16:00:00+01:00achurchnearyou
CATEGORIES:
DESCRIPTION:A quiet end to the day
GEO:-0.69067;53.19476
LOCATION:All Saints
URL:https://www.achurchnearyou.com/church/14605/service-and-events/events/
 461461/
END:VEVENT
BEGIN:VEVENT
SUMMARY:Evening Worship
DTSTART;TZID=Europe/London:20230820T160000
DTEND;TZID=Europe/London:20230820T164500
DTSTAMP:20260422T021807Z
UID:4614612023-08-20 16:00:00+01:00achurchnearyou
CATEGORIES:
DESCRIPTION:A quiet end to the day
GEO:-0.69067;53.19476
LOCATION:All Saints
URL:https://www.achurchnearyou.com/church/14605/service-and-events/events/
 461461/
END:VEVENT
BEGIN:VEVENT
SUMMARY:Evening Worship
DTSTART;TZID=Europe/London:20230917T160000
DTEND;TZID=Europe/London:20230917T164500
DTSTAMP:20260422T021807Z
UID:4614612023-09-17 16:00:00+01:00achurchnearyou
CATEGORIES:
DESCRIPTION:A quiet end to the day
GEO:-0.69067;53.19476
LOCATION:All Saints
URL:https://www.achurchnearyou.com/church/14605/service-and-events/events/
 461461/
END:VEVENT
BEGIN:VEVENT
SUMMARY:Evening Worship
DTSTART;TZID=Europe/London:20231015T160000
DTEND;TZID=Europe/London:20231015T164500
DTSTAMP:20260422T021807Z
UID:4614612023-10-15 16:00:00+01:00achurchnearyou
CATEGORIES:
DESCRIPTION:A quiet end to the day
GEO:-0.69067;53.19476
LOCATION:All Saints
URL:https://www.achurchnearyou.com/church/14605/service-and-events/events/
 461461/
END:VEVENT
BEGIN:VEVENT
SUMMARY:Evening Worship
DTSTART;TZID=Europe/London:20231119T160000
DTEND;TZID=Europe/London:20231119T164500
DTSTAMP:20260422T021807Z
UID:4614612023-11-19 16:00:00+00:00achurchnearyou
CATEGORIES:
DESCRIPTION:A quiet end to the day
GEO:-0.69067;53.19476
LOCATION:All Saints
URL:https://www.achurchnearyou.com/church/14605/service-and-events/events/
 461461/
END:VEVENT
BEGIN:VEVENT
SUMMARY:Evening Worship
DTSTART;TZID=Europe/London:20231217T160000
DTEND;TZID=Europe/London:20231217T164500
DTSTAMP:20260422T021807Z
UID:4614612023-12-17 16:00:00+00:00achurchnearyou
CATEGORIES:
DESCRIPTION:A quiet end to the day
GEO:-0.69067;53.19476
LOCATION:All Saints
URL:https://www.achurchnearyou.com/church/14605/service-and-events/events/
 461461/
END:VEVENT
BEGIN:VEVENT
SUMMARY:Evening Worship
DTSTART;TZID=Europe/London:20240121T160000
DTEND;TZID=Europe/London:20240121T164500
DTSTAMP:20260422T021807Z
UID:4614612024-01-21 16:00:00+00:00achurchnearyou
CATEGORIES:
DESCRIPTION:A quiet end to the day
GEO:-0.69067;53.19476
LOCATION:All Saints
URL:https://www.achurchnearyou.com/church/14605/service-and-events/events/
 461461/
END:VEVENT
BEGIN:VEVENT
SUMMARY:Evening Worship
DTSTART;TZID=Europe/London:20240218T160000
DTEND;TZID=Europe/London:20240218T164500
DTSTAMP:20260422T021807Z
UID:4614612024-02-18 16:00:00+00:00achurchnearyou
CATEGORIES:
DESCRIPTION:A quiet end to the day
GEO:-0.69067;53.19476
LOCATION:All Saints
URL:https://www.achurchnearyou.com/church/14605/service-and-events/events/
 461461/
END:VEVENT
BEGIN:VEVENT
SUMMARY:Evening Worship
DTSTART;TZID=Europe/London:20240317T160000
DTEND;TZID=Europe/London:20240317T164500
DTSTAMP:20260422T021807Z
UID:4614612024-03-17 16:00:00+00:00achurchnearyou
CATEGORIES:
DESCRIPTION:A quiet end to the day
GEO:-0.69067;53.19476
LOCATION:All Saints
URL:https://www.achurchnearyou.com/church/14605/service-and-events/events/
 461461/
END:VEVENT
BEGIN:VEVENT
SUMMARY:Evening Worship
DTSTART;TZID=Europe/London:20240421T160000
DTEND;TZID=Europe/London:20240421T164500
DTSTAMP:20260422T021807Z
UID:4614612024-04-21 16:00:00+01:00achurchnearyou
CATEGORIES:
DESCRIPTION:A quiet end to the day
GEO:-0.69067;53.19476
LOCATION:All Saints
URL:https://www.achurchnearyou.com/church/14605/service-and-events/events/
 461461/
END:VEVENT
BEGIN:VEVENT
SUMMARY:Evening Worship
DTSTART;TZID=Europe/London:20240519T160000
DTEND;TZID=Europe/London:20240519T164500
DTSTAMP:20260422T021807Z
UID:4614612024-05-19 16:00:00+01:00achurchnearyou
CATEGORIES:
DESCRIPTION:A quiet end to the day
GEO:-0.69067;53.19476
LOCATION:All Saints
URL:https://www.achurchnearyou.com/church/14605/service-and-events/events/
 461461/
END:VEVENT
BEGIN:VEVENT
SUMMARY:Evening Worship
DTSTART;TZID=Europe/London:20240616T160000
DTEND;TZID=Europe/London:20240616T164500
DTSTAMP:20260422T021807Z
UID:4614612024-06-16 16:00:00+01:00achurchnearyou
CATEGORIES:
DESCRIPTION:A quiet end to the day
GEO:-0.69067;53.19476
LOCATION:All Saints
URL:https://www.achurchnearyou.com/church/14605/service-and-events/events/
 461461/
END:VEVENT
BEGIN:VEVENT
SUMMARY:Evening Worship
DTSTART;TZID=Europe/London:20240721T160000
DTEND;TZID=Europe/London:20240721T164500
DTSTAMP:20260422T021807Z
UID:4614612024-07-21 16:00:00+01:00achurchnearyou
CATEGORIES:
DESCRIPTION:A quiet end to the day
GEO:-0.69067;53.19476
LOCATION:All Saints
URL:https://www.achurchnearyou.com/church/14605/service-and-events/events/
 461461/
END:VEVENT
BEGIN:VEVENT
SUMMARY:Evening Worship
DTSTART;TZID=Europe/London:20240818T160000
DTEND;TZID=Europe/London:20240818T164500
DTSTAMP:20260422T021807Z
UID:4614612024-08-18 16:00:00+01:00achurchnearyou
CATEGORIES:
DESCRIPTION:A quiet end to the day
GEO:-0.69067;53.19476
LOCATION:All Saints
URL:https://www.achurchnearyou.com/church/14605/service-and-events/events/
 461461/
END:VEVENT
BEGIN:VEVENT
SUMMARY:Evening Worship
DTSTART;TZID=Europe/London:20240915T160000
DTEND;TZID=Europe/London:20240915T164500
DTSTAMP:20260422T021807Z
UID:4614612024-09-15 16:00:00+01:00achurchnearyou
CATEGORIES:
DESCRIPTION:A quiet end to the day
GEO:-0.69067;53.19476
LOCATION:All Saints
URL:https://www.achurchnearyou.com/church/14605/service-and-events/events/
 461461/
END:VEVENT
BEGIN:VEVENT
SUMMARY:Evening Worship
DTSTART;TZID=Europe/London:20241020T160000
DTEND;TZID=Europe/London:20241020T164500
DTSTAMP:20260422T021807Z
UID:4614612024-10-20 16:00:00+01:00achurchnearyou
CATEGORIES:
DESCRIPTION:A quiet end to the day
GEO:-0.69067;53.19476
LOCATION:All Saints
URL:https://www.achurchnearyou.com/church/14605/service-and-events/events/
 461461/
END:VEVENT
BEGIN:VEVENT
SUMMARY:Evening Worship
DTSTART;TZID=Europe/London:20241117T160000
DTEND;TZID=Europe/London:20241117T164500
DTSTAMP:20260422T021807Z
UID:4614612024-11-17 16:00:00+00:00achurchnearyou
CATEGORIES:
DESCRIPTION:A quiet end to the day
GEO:-0.69067;53.19476
LOCATION:All Saints
URL:https://www.achurchnearyou.com/church/14605/service-and-events/events/
 461461/
END:VEVENT
BEGIN:VEVENT
SUMMARY:Evening Worship
DTSTART;TZID=Europe/London:20241215T160000
DTEND;TZID=Europe/London:20241215T164500
DTSTAMP:20260422T021807Z
UID:4614612024-12-15 16:00:00+00:00achurchnearyou
CATEGORIES:
DESCRIPTION:A quiet end to the day
GEO:-0.69067;53.19476
LOCATION:All Saints
URL:https://www.achurchnearyou.com/church/14605/service-and-events/events/
 461461/
END:VEVENT
BEGIN:VEVENT
SUMMARY:Evening Worship
DTSTART;TZID=Europe/London:20250119T160000
DTEND;TZID=Europe/London:20250119T164500
DTSTAMP:20260422T021807Z
UID:4614612025-01-19 16:00:00+00:00achurchnearyou
CATEGORIES:
DESCRIPTION:A quiet end to the day
GEO:-0.69067;53.19476
LOCATION:All Saints
URL:https://www.achurchnearyou.com/church/14605/service-and-events/events/
 461461/
END:VEVENT
BEGIN:VEVENT
SUMMARY:Evening Worship
DTSTART;TZID=Europe/London:20250216T160000
DTEND;TZID=Europe/London:20250216T164500
DTSTAMP:20260422T021807Z
UID:4614612025-02-16 16:00:00+00:00achurchnearyou
CATEGORIES:
DESCRIPTION:A quiet end to the day
GEO:-0.69067;53.19476
LOCATION:All Saints
URL:https://www.achurchnearyou.com/church/14605/service-and-events/events/
 461461/
END:VEVENT
BEGIN:VEVENT
SUMMARY:Evening Worship
DTSTART;TZID=Europe/London:20250316T160000
DTEND;TZID=Europe/London:20250316T164500
DTSTAMP:20260422T021807Z
UID:4614612025-03-16 16:00:00+00:00achurchnearyou
CATEGORIES:
DESCRIPTION:A quiet end to the day
GEO:-0.69067;53.19476
LOCATION:All Saints
URL:https://www.achurchnearyou.com/church/14605/service-and-events/events/
 461461/
END:VEVENT
BEGIN:VEVENT
SUMMARY:Evening Worship
DTSTART;TZID=Europe/London:20250420T160000
DTEND;TZID=Europe/London:20250420T164500
DTSTAMP:20260422T021807Z
UID:4614612025-04-20 16:00:00+01:00achurchnearyou
CATEGORIES:
DESCRIPTION:A quiet end to the day
GEO:-0.69067;53.19476
LOCATION:All Saints
URL:https://www.achurchnearyou.com/church/14605/service-and-events/events/
 461461/
END:VEVENT
BEGIN:VEVENT
SUMMARY:Evening Worship
DTSTART;TZID=Europe/London:20250518T160000
DTEND;TZID=Europe/London:20250518T164500
DTSTAMP:20260422T021807Z
UID:4614612025-05-18 16:00:00+01:00achurchnearyou
CATEGORIES:
DESCRIPTION:A quiet end to the day
GEO:-0.69067;53.19476
LOCATION:All Saints
URL:https://www.achurchnearyou.com/church/14605/service-and-events/events/
 461461/
END:VEVENT
BEGIN:VEVENT
SUMMARY:Evening Worship
DTSTART;TZID=Europe/London:20250615T160000
DTEND;TZID=Europe/London:20250615T164500
DTSTAMP:20260422T021807Z
UID:4614612025-06-15 16:00:00+01:00achurchnearyou
CATEGORIES:
DESCRIPTION:A quiet end to the day
GEO:-0.69067;53.19476
LOCATION:All Saints
URL:https://www.achurchnearyou.com/church/14605/service-and-events/events/
 461461/
END:VEVENT
BEGIN:VEVENT
SUMMARY:Evening Worship
DTSTART;TZID=Europe/London:20250720T160000
DTEND;TZID=Europe/London:20250720T164500
DTSTAMP:20260422T021807Z
UID:4614612025-07-20 16:00:00+01:00achurchnearyou
CATEGORIES:
DESCRIPTION:A quiet end to the day
GEO:-0.69067;53.19476
LOCATION:All Saints
URL:https://www.achurchnearyou.com/church/14605/service-and-events/events/
 461461/
END:VEVENT
BEGIN:VEVENT
SUMMARY:Evening Worship
DTSTART;TZID=Europe/London:20250817T160000
DTEND;TZID=Europe/London:20250817T164500
DTSTAMP:20260422T021807Z
UID:4614612025-08-17 16:00:00+01:00achurchnearyou
CATEGORIES:
DESCRIPTION:A quiet end to the day
GEO:-0.69067;53.19476
LOCATION:All Saints
URL:https://www.achurchnearyou.com/church/14605/service-and-events/events/
 461461/
END:VEVENT
BEGIN:VEVENT
SUMMARY:Evening Worship
DTSTART;TZID=Europe/London:20250921T160000
DTEND;TZID=Europe/London:20250921T164500
DTSTAMP:20260422T021807Z
UID:4614612025-09-21 16:00:00+01:00achurchnearyou
CATEGORIES:
DESCRIPTION:A quiet end to the day
GEO:-0.69067;53.19476
LOCATION:All Saints
URL:https://www.achurchnearyou.com/church/14605/service-and-events/events/
 461461/
END:VEVENT
BEGIN:VEVENT
SUMMARY:Evening Worship
DTSTART;TZID=Europe/London:20251019T160000
DTEND;TZID=Europe/London:20251019T164500
DTSTAMP:20260422T021807Z
UID:4614612025-10-19 16:00:00+01:00achurchnearyou
CATEGORIES:
DESCRIPTION:A quiet end to the day
GEO:-0.69067;53.19476
LOCATION:All Saints
URL:https://www.achurchnearyou.com/church/14605/service-and-events/events/
 461461/
END:VEVENT
BEGIN:VEVENT
SUMMARY:Evening Worship
DTSTART;TZID=Europe/London:20251116T160000
DTEND;TZID=Europe/London:20251116T164500
DTSTAMP:20260422T021807Z
UID:4614612025-11-16 16:00:00+00:00achurchnearyou
CATEGORIES:
DESCRIPTION:A quiet end to the day
GEO:-0.69067;53.19476
LOCATION:All Saints
URL:https://www.achurchnearyou.com/church/14605/service-and-events/events/
 461461/
END:VEVENT
BEGIN:VEVENT
SUMMARY:Evening Worship
DTSTART;TZID=Europe/London:20251221T160000
DTEND;TZID=Europe/London:20251221T164500
DTSTAMP:20260422T021807Z
UID:4614612025-12-21 16:00:00+00:00achurchnearyou
CATEGORIES:
DESCRIPTION:A quiet end to the day
GEO:-0.69067;53.19476
LOCATION:All Saints
URL:https://www.achurchnearyou.com/church/14605/service-and-events/events/
 461461/
END:VEVENT
BEGIN:VEVENT
SUMMARY:Evening Worship
DTSTART;TZID=Europe/London:20260118T160000
DTEND;TZID=Europe/London:20260118T164500
DTSTAMP:20260422T021807Z
UID:4614612026-01-18 16:00:00+00:00achurchnearyou
CATEGORIES:
DESCRIPTION:A quiet end to the day
GEO:-0.69067;53.19476
LOCATION:All Saints
URL:https://www.achurchnearyou.com/church/14605/service-and-events/events/
 461461/
END:VEVENT
BEGIN:VEVENT
SUMMARY:Evening Worship
DTSTART;TZID=Europe/London:20260215T160000
DTEND;TZID=Europe/London:20260215T164500
DTSTAMP:20260422T021807Z
UID:4614612026-02-15 16:00:00+00:00achurchnearyou
CATEGORIES:
DESCRIPTION:A quiet end to the day
GEO:-0.69067;53.19476
LOCATION:All Saints
URL:https://www.achurchnearyou.com/church/14605/service-and-events/events/
 461461/
END:VEVENT
BEGIN:VEVENT
SUMMARY:Evening Worship
DTSTART;TZID=Europe/London:20260315T160000
DTEND;TZID=Europe/London:20260315T164500
DTSTAMP:20260422T021807Z
UID:4614612026-03-15 16:00:00+00:00achurchnearyou
CATEGORIES:
DESCRIPTION:A quiet end to the day
GEO:-0.69067;53.19476
LOCATION:All Saints
URL:https://www.achurchnearyou.com/church/14605/service-and-events/events/
 461461/
END:VEVENT
BEGIN:VEVENT
SUMMARY:Evening Worship
DTSTART;TZID=Europe/London:20260419T160000
DTEND;TZID=Europe/London:20260419T164500
DTSTAMP:20260422T021807Z
UID:4614612026-04-19 16:00:00+01:00achurchnearyou
CATEGORIES:
DESCRIPTION:A quiet end to the day
GEO:-0.69067;53.19476
LOCATION:All Saints
URL:https://www.achurchnearyou.com/church/14605/service-and-events/events/
 461461/
END:VEVENT
BEGIN:VEVENT
SUMMARY:Evening Worship
DTSTART;TZID=Europe/London:20260517T160000
DTEND;TZID=Europe/London:20260517T164500
DTSTAMP:20260422T021807Z
UID:4614612026-05-17 16:00:00+01:00achurchnearyou
CATEGORIES:
DESCRIPTION:A quiet end to the day
GEO:-0.69067;53.19476
LOCATION:All Saints
URL:https://www.achurchnearyou.com/church/14605/service-and-events/events/
 461461/
END:VEVENT
BEGIN:VEVENT
SUMMARY:Evening Worship
DTSTART;TZID=Europe/London:20260621T160000
DTEND;TZID=Europe/London:20260621T164500
DTSTAMP:20260422T021807Z
UID:4614612026-06-21 16:00:00+01:00achurchnearyou
CATEGORIES:
DESCRIPTION:A quiet end to the day
GEO:-0.69067;53.19476
LOCATION:All Saints
URL:https://www.achurchnearyou.com/church/14605/service-and-events/events/
 461461/
END:VEVENT
BEGIN:VEVENT
SUMMARY:Evening Worship
DTSTART;TZID=Europe/London:20260719T160000
DTEND;TZID=Europe/London:20260719T164500
DTSTAMP:20260422T021807Z
UID:4614612026-07-19 16:00:00+01:00achurchnearyou
CATEGORIES:
DESCRIPTION:A quiet end to the day
GEO:-0.69067;53.19476
LOCATION:All Saints
URL:https://www.achurchnearyou.com/church/14605/service-and-events/events/
 461461/
END:VEVENT
BEGIN:VEVENT
SUMMARY:Evening Worship
DTSTART;TZID=Europe/London:20260816T160000
DTEND;TZID=Europe/London:20260816T164500
DTSTAMP:20260422T021807Z
UID:4614612026-08-16 16:00:00+01:00achurchnearyou
CATEGORIES:
DESCRIPTION:A quiet end to the day
GEO:-0.69067;53.19476
LOCATION:All Saints
URL:https://www.achurchnearyou.com/church/14605/service-and-events/events/
 461461/
END:VEVENT
BEGIN:VEVENT
SUMMARY:Evening Worship
DTSTART;TZID=Europe/London:20260920T160000
DTEND;TZID=Europe/London:20260920T164500
DTSTAMP:20260422T021807Z
UID:4614612026-09-20 16:00:00+01:00achurchnearyou
CATEGORIES:
DESCRIPTION:A quiet end to the day
GEO:-0.69067;53.19476
LOCATION:All Saints
URL:https://www.achurchnearyou.com/church/14605/service-and-events/events/
 461461/
END:VEVENT
BEGIN:VEVENT
SUMMARY:Evening Worship
DTSTART;TZID=Europe/London:20261018T160000
DTEND;TZID=Europe/London:20261018T164500
DTSTAMP:20260422T021807Z
UID:4614612026-10-18 16:00:00+01:00achurchnearyou
CATEGORIES:
DESCRIPTION:A quiet end to the day
GEO:-0.69067;53.19476
LOCATION:All Saints
URL:https://www.achurchnearyou.com/church/14605/service-and-events/events/
 461461/
END:VEVENT
BEGIN:VEVENT
SUMMARY:Evening Worship
DTSTART;TZID=Europe/London:20261115T160000
DTEND;TZID=Europe/London:20261115T164500
DTSTAMP:20260422T021807Z
UID:4614612026-11-15 16:00:00+00:00achurchnearyou
CATEGORIES:
DESCRIPTION:A quiet end to the day
GEO:-0.69067;53.19476
LOCATION:All Saints
URL:https://www.achurchnearyou.com/church/14605/service-and-events/events/
 461461/
END:VEVENT
BEGIN:VEVENT
SUMMARY:Evening Worship
DTSTART;TZID=Europe/London:20261220T160000
DTEND;TZID=Europe/London:20261220T164500
DTSTAMP:20260422T021807Z
UID:4614612026-12-20 16:00:00+00:00achurchnearyou
CATEGORIES:
DESCRIPTION:A quiet end to the day
GEO:-0.69067;53.19476
LOCATION:All Saints
URL:https://www.achurchnearyou.com/church/14605/service-and-events/events/
 461461/
END:VEVENT
BEGIN:VEVENT
SUMMARY:Evening Worship
DTSTART;TZID=Europe/London:20270117T160000
DTEND;TZID=Europe/London:20270117T164500
DTSTAMP:20260422T021807Z
UID:4614612027-01-17 16:00:00+00:00achurchnearyou
CATEGORIES:
DESCRIPTION:A quiet end to the day
GEO:-0.69067;53.19476
LOCATION:All Saints
URL:https://www.achurchnearyou.com/church/14605/service-and-events/events/
 461461/
END:VEVENT
BEGIN:VEVENT
SUMMARY:Evening Worship
DTSTART;TZID=Europe/London:20270221T160000
DTEND;TZID=Europe/London:20270221T164500
DTSTAMP:20260422T021807Z
UID:4614612027-02-21 16:00:00+00:00achurchnearyou
CATEGORIES:
DESCRIPTION:A quiet end to the day
GEO:-0.69067;53.19476
LOCATION:All Saints
URL:https://www.achurchnearyou.com/church/14605/service-and-events/events/
 461461/
END:VEVENT
BEGIN:VEVENT
SUMMARY:Evening Worship
DTSTART;TZID=Europe/London:20270321T160000
DTEND;TZID=Europe/London:20270321T164500
DTSTAMP:20260422T021807Z
UID:4614612027-03-21 16:00:00+00:00achurchnearyou
CATEGORIES:
DESCRIPTION:A quiet end to the day
GEO:-0.69067;53.19476
LOCATION:All Saints
URL:https://www.achurchnearyou.com/church/14605/service-and-events/events/
 461461/
END:VEVENT
BEGIN:VEVENT
SUMMARY:Evening Worship
DTSTART;TZID=Europe/London:20270418T160000
DTEND;TZID=Europe/London:20270418T164500
DTSTAMP:20260422T021807Z
UID:4614612027-04-18 16:00:00+01:00achurchnearyou
CATEGORIES:
DESCRIPTION:A quiet end to the day
GEO:-0.69067;53.19476
LOCATION:All Saints
URL:https://www.achurchnearyou.com/church/14605/service-and-events/events/
 461461/
END:VEVENT
END:VCALENDAR
