BEGIN:VCALENDAR
VERSION:2.0
PRODID:-//achurchnearyou.com//eventfeed//EN
CALSCALE:GREGORIAN
METHOD:PUBLISH
X-WR-TIMEZONE:UTC
BEGIN:VEVENT
SUMMARY:Easter week services
DTSTART:20260211T003000Z
DTEND:20260407T013000Z
DTSTAMP:20260422T095619Z
UID:12907252026-02-11 00:30:00+00:00achurchnearyou
CATEGORIES:
DESCRIPTION:This document is for Easter week only
GEO:-0.600128;53.169753
LOCATION:All Saints\nSt Hugh\nSt Michael & All Angels
URL:https://www.achurchnearyou.com/church/14618/service-and-events/events/
 1290725/
END:VEVENT
END:VCALENDAR
