BEGIN:VCALENDAR
VERSION:2.0
PRODID:-//achurchnearyou.com//eventfeed//EN
CALSCALE:GREGORIAN
METHOD:PUBLISH
X-WR-TIMEZONE:UTC
BEGIN:VEVENT
SUMMARY:Ash Wednesday
DTSTART:20250305T193000Z
DTEND:20250305T203000Z
DTSTAMP:20260419T183539Z
UID:11609622025-03-05 19:30:00+00:00achurchnearyou
CATEGORIES:
DESCRIPTION:Ashing service and Holy Communion
GEO:-0.54078;53.1655
LOCATION:St Michael's Church\, Waddington
URL:https://www.achurchnearyou.com/church/14624/service-and-events/events/
 1160962/
END:VEVENT
END:VCALENDAR
