BEGIN:VCALENDAR
VERSION:2.0
PRODID:-//achurchnearyou.com//eventfeed//EN
CALSCALE:GREGORIAN
METHOD:PUBLISH
X-WR-TIMEZONE:UTC
BEGIN:VEVENT
SUMMARY:Palm Sunday\, evening
DTSTART:20250413T170000Z
DTEND:20250413T180000Z
DTSTAMP:20260419T150257Z
UID:11609682025-04-13 17:00:00+00:00achurchnearyou
CATEGORIES:
DESCRIPTION:6.00pm Passiontide Communion\nHoly Week\, a week that changed 
 the world.
GEO:-0.54078;53.1655
LOCATION:St Michael's Church\, Waddington
URL:https://www.achurchnearyou.com/church/14624/service-and-events/events/
 1160968/
END:VEVENT
END:VCALENDAR
