BEGIN:VCALENDAR
VERSION:2.0
PRODID:-//achurchnearyou.com//eventfeed//EN
CALSCALE:GREGORIAN
METHOD:PUBLISH
X-WR-TIMEZONE:UTC
BEGIN:VEVENT
SUMMARY:Good Friday\, afternoon
DTSTART:20250418T130000Z
DTEND:20250418T140000Z
DTSTAMP:20260419T150303Z
UID:11609732025-04-18 13:00:00+00:00achurchnearyou
CATEGORIES:
DESCRIPTION:2pm\, a quiet reflective service providing space to reflect up
 on the Jesus' last hour before his death.\nHoly Week Services. A week that
  changed the world.
GEO:-0.54078;53.1655
LOCATION:St Michael's Church\, Waddington
URL:https://www.achurchnearyou.com/church/14624/service-and-events/events/
 1160973/
END:VEVENT
END:VCALENDAR
