BEGIN:VCALENDAR
VERSION:2.0
PRODID:-//achurchnearyou.com//eventfeed//EN
CALSCALE:GREGORIAN
METHOD:PUBLISH
X-WR-TIMEZONE:UTC
BEGIN:VEVENT
SUMMARY:Procession from the Market Place
DTSTART:20250420T083000Z
DTEND:20250420T090000Z
DTSTAMP:20260419T143220Z
UID:11662052025-04-20 08:30:00+00:00achurchnearyou
CATEGORIES:
DESCRIPTION:Join us on our procession from the Market Place to St Wulfram'
 s Church this Easter Sunday to arrive in time for our Choral Eucharist and
  Children's Easter Egg Hunt.
GEO:-0.64114;52.9147
LOCATION:St Wulfram
URL:https://www.achurchnearyou.com/church/14634/service-and-events/events/
 1166205/
END:VEVENT
END:VCALENDAR
