BEGIN:VCALENDAR
VERSION:2.0
PRODID:-//achurchnearyou.com//eventfeed//EN
CALSCALE:GREGORIAN
METHOD:PUBLISH
X-WR-TIMEZONE:UTC
BEGIN:VEVENT
SUMMARY:Nativity Service
DTSTART:20251221T100000Z
DTEND:20251221T110000Z
DTSTAMP:20260422T132655Z
UID:12363742025-12-21 10:00:00+00:00achurchnearyou
CATEGORIES:
DESCRIPTION:Sunday\, 21st December at 10am\, Church of  the Ascension\nEdi
 nburgh Road\, Grantham NG31 9QZ\nChildren come dressed as a character from
  the Christmas story\nFollowed by refreshments
GEO:-0.61728;52.92135
LOCATION:The Ascension\, Harrowby
URL:https://www.achurchnearyou.com/church/14635/service-and-events/events/
 1236374/
END:VEVENT
END:VCALENDAR
