BEGIN:VCALENDAR
VERSION:2.0
PRODID:-//achurchnearyou.com//eventfeed//EN
CALSCALE:GREGORIAN
METHOD:PUBLISH
X-WR-TIMEZONE:UTC
BEGIN:VEVENT
SUMMARY:Sunday Service 25th January 2026
DTSTART:20260125T100000Z
DTEND:20260125T110000Z
DTSTAMP:20260422T113712Z
UID:12848622026-01-25 10:00:00+00:00achurchnearyou
CATEGORIES:
DESCRIPTION:Welcome to our Sunday Service of Holy Communion on Sunday 25th
  January 2026
GEO:-0.61728;52.92135
LOCATION:The Ascension\, Harrowby
URL:https://www.achurchnearyou.com/church/14635/service-and-events/events/
 1284862/
END:VEVENT
END:VCALENDAR
