BEGIN:VCALENDAR
VERSION:2.0
PRODID:-//achurchnearyou.com//eventfeed//EN
CALSCALE:GREGORIAN
METHOD:PUBLISH
X-WR-TIMEZONE:UTC
BEGIN:VEVENT
SUMMARY:Cluster Service - Holy Communion
DTSTART:20241229T103000Z
DTEND:20241229T113000Z
DTSTAMP:20260421T013447Z
UID:11217102024-12-29 10:30:00+00:00achurchnearyou
CATEGORIES:
DESCRIPTION:Holy Communion for all the Coastal Cluster at Butterwick
GEO:0.06535;52.98346
LOCATION:Butterwick St Andrew
URL:https://www.achurchnearyou.com/church/14644/service-and-events/events/
 1121710/
END:VEVENT
END:VCALENDAR
