BEGIN:VCALENDAR
VERSION:2.0
PRODID:-//achurchnearyou.com//eventfeed//EN
CALSCALE:GREGORIAN
METHOD:PUBLISH
X-WR-TIMEZONE:UTC
BEGIN:VEVENT
SUMMARY:Coffee Morning
DTSTART;TZID=Europe/London:20260321T100000
DTEND;TZID=Europe/London:20260321T120000
DTSTAMP:20260419T190025Z
UID:9099392026-03-21 10:00:00+00:00achurchnearyou
CATEGORIES:
DESCRIPTION:Enjoy a cuppa at our coffee morning in church - every 3rd Satu
 rday from 10am to 12 noon.\nCake stall\, books\, crafts\, raffle and tombo
 la.
GEO:0.06535;52.98346
LOCATION:Butterwick St Andrew
URL:https://www.achurchnearyou.com/church/14644/service-and-events/events/
 909939/
END:VEVENT
BEGIN:VEVENT
SUMMARY:Coffee Morning
DTSTART;TZID=Europe/London:20260418T100000
DTEND;TZID=Europe/London:20260418T120000
DTSTAMP:20260419T190025Z
UID:9099392026-04-18 10:00:00+01:00achurchnearyou
CATEGORIES:
DESCRIPTION:Enjoy a cuppa at our coffee morning in church - every 3rd Satu
 rday from 10am to 12 noon.\nCake stall\, books\, crafts\, raffle and tombo
 la.
GEO:0.06535;52.98346
LOCATION:Butterwick St Andrew
URL:https://www.achurchnearyou.com/church/14644/service-and-events/events/
 909939/
END:VEVENT
BEGIN:VEVENT
SUMMARY:Coffee Morning
DTSTART;TZID=Europe/London:20260516T100000
DTEND;TZID=Europe/London:20260516T120000
DTSTAMP:20260419T190025Z
UID:9099392026-05-16 10:00:00+01:00achurchnearyou
CATEGORIES:
DESCRIPTION:Enjoy a cuppa at our coffee morning in church - every 3rd Satu
 rday from 10am to 12 noon.\nCake stall\, books\, crafts\, raffle and tombo
 la.
GEO:0.06535;52.98346
LOCATION:Butterwick St Andrew
URL:https://www.achurchnearyou.com/church/14644/service-and-events/events/
 909939/
END:VEVENT
END:VCALENDAR
