BEGIN:VCALENDAR
VERSION:2.0
PRODID:-//achurchnearyou.com//eventfeed//EN
CALSCALE:GREGORIAN
METHOD:PUBLISH
X-WR-TIMEZONE:UTC
BEGIN:VEVENT
SUMMARY:Easter Day
DTSTART:20250420T080000Z
DTEND:20250420T090000Z
DTSTAMP:20260420T230809Z
UID:11778792025-04-20 08:00:00+00:00achurchnearyou
CATEGORIES:
DESCRIPTION:Holy Communion led by Revd. Canon Sudharshan Sarvananthan \nTe
 a/Coffee and biscuits will be served after the service.
GEO:-0.10859;52.99841
LOCATION:St Gilbert of Sempringham\, Brothertoft
URL:https://www.achurchnearyou.com/church/14660/service-and-events/events/
 1177879/
END:VEVENT
END:VCALENDAR
