BEGIN:VCALENDAR
VERSION:2.0
PRODID:-//achurchnearyou.com//eventfeed//EN
CALSCALE:GREGORIAN
METHOD:PUBLISH
X-WR-TIMEZONE:UTC
BEGIN:VEVENT
SUMMARY:Electrol Roll
DTSTART:20250425T230000Z
DTEND:20250513T000000Z
DTSTAMP:20260421T031904Z
UID:11875582025-04-25 23:00:00+00:00achurchnearyou
CATEGORIES:
DESCRIPTION:Notice of Preparation of New Roll
GEO:-0.10859;52.99841
LOCATION:St Gilbert of Sempringham\, Brothertoft\nChrist Church at Kirton 
 Holme\nAll Saints Church\, Holland Fen\nSt Margaret of Scotland Church\, L
 angrick\nSt Peter's Church\, Wildmore
URL:https://www.achurchnearyou.com/church/14660/service-and-events/events/
 1187558/
END:VEVENT
END:VCALENDAR
