BEGIN:VCALENDAR
VERSION:2.0
PRODID:-//achurchnearyou.com//eventfeed//EN
CALSCALE:GREGORIAN
METHOD:PUBLISH
X-WR-TIMEZONE:UTC
BEGIN:VEVENT
SUMMARY:Holy Communion
DTSTART:20250615T094500Z
DTEND:20250615T104500Z
DTSTAMP:20260420T191529Z
UID:11925082025-06-15 09:45:00+00:00achurchnearyou
CATEGORIES:
DESCRIPTION:Service led by Revd. Christine Bonneywell or Tom Page\nTea / C
 offee and biscuits served after the service
LOCATION:St Peter's Church\, Wildmore
URL:https://www.achurchnearyou.com/church/14660/service-and-events/events/
 1192508/
END:VEVENT
END:VCALENDAR
