BEGIN:VCALENDAR
VERSION:2.0
PRODID:-//achurchnearyou.com//eventfeed//EN
CALSCALE:GREGORIAN
METHOD:PUBLISH
X-WR-TIMEZONE:UTC
BEGIN:VEVENT
SUMMARY:Morning Worship
DTSTART:20250622T094500Z
DTEND:20250622T104500Z
DTSTAMP:20260420T191601Z
UID:11925162025-06-22 09:45:00+00:00achurchnearyou
CATEGORIES:
DESCRIPTION:Service led by Nicola \nTea / Coffee and biscuits served after
  the  service
GEO:-0.10859;52.99841
LOCATION:St Gilbert of Sempringham\, Brothertoft
URL:https://www.achurchnearyou.com/church/14660/service-and-events/events/
 1192516/
END:VEVENT
END:VCALENDAR
