BEGIN:VCALENDAR
VERSION:2.0
PRODID:-//achurchnearyou.com//eventfeed//EN
CALSCALE:GREGORIAN
METHOD:PUBLISH
X-WR-TIMEZONE:UTC
BEGIN:VEVENT
SUMMARY:Holy Communion
DTSTART:20251102T104500Z
DTEND:20251102T114500Z
DTSTAMP:20260420T090325Z
UID:12281512025-11-02 10:45:00+00:00achurchnearyou
CATEGORIES:
DESCRIPTION:Service led by Revd. Andrew Higginson\nTea / Coffee and biscui
 ts served after the service
LOCATION:All Saints Church\, Holland Fen
URL:https://www.achurchnearyou.com/church/14660/service-and-events/events/
 1228151/
END:VEVENT
END:VCALENDAR
