BEGIN:VCALENDAR
VERSION:2.0
PRODID:-//achurchnearyou.com//eventfeed//EN
CALSCALE:GREGORIAN
METHOD:PUBLISH
X-WR-TIMEZONE:UTC
BEGIN:VEVENT
SUMMARY:REMEMBRANCE SERVICE
DTSTART:20251109T104500Z
DTEND:20251109T114500Z
DTSTAMP:20260420T090512Z
UID:12346102025-11-09 10:45:00+00:00achurchnearyou
CATEGORIES:
DESCRIPTION:Joint Service with Holland Fen\nService led by Nicola
GEO:-0.10859;52.99841
LOCATION:St Gilbert of Sempringham\, Brothertoft
URL:https://www.achurchnearyou.com/church/14660/service-and-events/events/
 1234610/
END:VEVENT
END:VCALENDAR
