BEGIN:VCALENDAR
VERSION:2.0
PRODID:-//achurchnearyou.com//eventfeed//EN
CALSCALE:GREGORIAN
METHOD:PUBLISH
X-WR-TIMEZONE:UTC
BEGIN:VEVENT
SUMMARY:Holy Communion
DTSTART:20260104T104500Z
DTEND:20260104T114500Z
DTSTAMP:20260420T052422Z
UID:12715192026-01-04 10:45:00+00:00achurchnearyou
CATEGORIES:
DESCRIPTION:Service led by Boston DP\nTea / Coffee & Biscuits served after
  the service
GEO:-0.10859;52.99841
LOCATION:St Gilbert of Sempringham\, Brothertoft
URL:https://www.achurchnearyou.com/church/14660/service-and-events/events/
 1271519/
END:VEVENT
END:VCALENDAR
