BEGIN:VCALENDAR
VERSION:2.0
PRODID:-//achurchnearyou.com//eventfeed//EN
CALSCALE:GREGORIAN
METHOD:PUBLISH
X-WR-TIMEZONE:UTC
BEGIN:VEVENT
SUMMARY:Morning Worship
DTSTART:20260222T104500Z
DTEND:20260222T114500Z
DTSTAMP:20260420T032602Z
UID:12715732026-02-22 10:45:00+00:00achurchnearyou
CATEGORIES:
DESCRIPTION:Service led by Nicola\nTea / Coffee served after the service
LOCATION:Christ Church at Kirton Holme
URL:https://www.achurchnearyou.com/church/14660/service-and-events/events/
 1271573/
END:VEVENT
END:VCALENDAR
